BEGIN:VCALENDAR
VERSION:2.0
PRODID:-//Fernie Women&#039;s Resource Centre - ECPv6.15.20//NONSGML v1.0//EN
CALSCALE:GREGORIAN
METHOD:PUBLISH
X-WR-CALNAME:Fernie Women&#039;s Resource Centre
X-ORIGINAL-URL:https://www.ferniewomenscentre.com
X-WR-CALDESC:Events for Fernie Women&#039;s Resource Centre
REFRESH-INTERVAL;VALUE=DURATION:PT1H
X-Robots-Tag:noindex
X-PUBLISHED-TTL:PT1H
BEGIN:VTIMEZONE
TZID:America/Vancouver
BEGIN:DAYLIGHT
TZOFFSETFROM:-0800
TZOFFSETTO:-0700
TZNAME:PDT
DTSTART:20260308T100000
END:DAYLIGHT
BEGIN:STANDARD
TZOFFSETFROM:-0700
TZOFFSETTO:-0800
TZNAME:PST
DTSTART:20261101T090000
END:STANDARD
BEGIN:DAYLIGHT
TZOFFSETFROM:-0800
TZOFFSETTO:-0700
TZNAME:PDT
DTSTART:20270314T100000
END:DAYLIGHT
BEGIN:STANDARD
TZOFFSETFROM:-0700
TZOFFSETTO:-0800
TZNAME:PST
DTSTART:20271107T090000
END:STANDARD
BEGIN:DAYLIGHT
TZOFFSETFROM:-0800
TZOFFSETTO:-0700
TZNAME:PDT
DTSTART:20280312T100000
END:DAYLIGHT
BEGIN:STANDARD
TZOFFSETFROM:-0700
TZOFFSETTO:-0800
TZNAME:PST
DTSTART:20281105T090000
END:STANDARD
END:VTIMEZONE
BEGIN:VEVENT
DTSTART;TZID=America/Vancouver:20270126T093000
DTEND;TZID=America/Vancouver:20270126T113000
DTSTAMP:20260421T065939
CREATED:20250702T160241Z
LAST-MODIFIED:20260220T220329Z
UID:10000933-1800955800-1800963000@www.ferniewomenscentre.com
SUMMARY:Parent-Tot Funtimes (Fernie)
DESCRIPTION:Parent-Tot Funtimes is a drop-in program for families with kids aged 0 to 6. It’s all about helping families connect and giving kids a chance to learn early. Every session has toys\, songs and stories\, and a craft or fun activity.
URL:https://www.ferniewomenscentre.com/calendar/parent-tot-funtimes-fernie-2-2/2027-01-26/
LOCATION:Fernie Family Centre\, 521 4th Ave\, Fernie\, BC\, V0B 1M0\, Canada
ORGANIZER;CN="Fernie Women's Resource Certre (Parent-Tot Funtimes)":MAILTO:parenttotfuntimes@gmail.com
END:VEVENT
BEGIN:VEVENT
DTSTART;TZID=America/Vancouver:20270127T093000
DTEND;TZID=America/Vancouver:20270127T113000
DTSTAMP:20260421T065939
CREATED:20250702T160033Z
LAST-MODIFIED:20260220T220251Z
UID:10001194-1801042200-1801049400@www.ferniewomenscentre.com
SUMMARY:Parent-Tot Funtimes (Elkford)
DESCRIPTION:Parent-Tot Funtimes is a drop-in program for families with kids aged 0 to 6. It’s all about helping families connect and giving kids a chance to learn early. Every session has toys\, songs and stories\, and a craft or fun activity.
URL:https://www.ferniewomenscentre.com/calendar/parent-tot-funtimes-elkford-2-2/2027-01-27/
LOCATION:Elkford Alliance Church (in the Basement)\, 1803 Alpine Drive\, Elkford\, BC\, V0B 1H0\, Canada
ORGANIZER;CN="Fernie Women's Resource Certre (Parent-Tot Funtimes)":MAILTO:parenttotfuntimes@gmail.com
END:VEVENT
BEGIN:VEVENT
DTSTART;TZID=America/Vancouver:20270201T093000
DTEND;TZID=America/Vancouver:20270201T113000
DTSTAMP:20260421T065939
CREATED:20251017T162638Z
LAST-MODIFIED:20260220T220213Z
UID:10003740-1801474200-1801481400@www.ferniewomenscentre.com
SUMMARY:Parent-Tot Funtimes (Sparwood)
DESCRIPTION:Parent-Tot Funtimes is a drop-in program for families with kids aged 0 to 6. It’s all about helping families connect and giving kids a chance to learn early. Every session has toys\, songs and stories\, and a craft or fun activity.
URL:https://www.ferniewomenscentre.com/calendar/parent-tot-funtimes-sparwood-5-2-2/2027-02-01/
LOCATION:Sparwood Rec Centre in the Community Hall (above Skating Rink)\, 367 Pine Ave\, Sparwood\, BC\, V0B 2G0\, Canada
ORGANIZER;CN="Fernie Women's Resource Certre (Parent-Tot Funtimes)":MAILTO:parenttotfuntimes@gmail.com
END:VEVENT
BEGIN:VEVENT
DTSTART;TZID=America/Vancouver:20270202T093000
DTEND;TZID=America/Vancouver:20270202T113000
DTSTAMP:20260421T065939
CREATED:20250702T160241Z
LAST-MODIFIED:20260220T220329Z
UID:10000934-1801560600-1801567800@www.ferniewomenscentre.com
SUMMARY:Parent-Tot Funtimes (Fernie)
DESCRIPTION:Parent-Tot Funtimes is a drop-in program for families with kids aged 0 to 6. It’s all about helping families connect and giving kids a chance to learn early. Every session has toys\, songs and stories\, and a craft or fun activity.
URL:https://www.ferniewomenscentre.com/calendar/parent-tot-funtimes-fernie-2-2/2027-02-02/
LOCATION:Fernie Family Centre\, 521 4th Ave\, Fernie\, BC\, V0B 1M0\, Canada
ORGANIZER;CN="Fernie Women's Resource Certre (Parent-Tot Funtimes)":MAILTO:parenttotfuntimes@gmail.com
END:VEVENT
BEGIN:VEVENT
DTSTART;TZID=America/Vancouver:20270203T093000
DTEND;TZID=America/Vancouver:20270203T113000
DTSTAMP:20260421T065939
CREATED:20250702T160033Z
LAST-MODIFIED:20260220T220251Z
UID:10001195-1801647000-1801654200@www.ferniewomenscentre.com
SUMMARY:Parent-Tot Funtimes (Elkford)
DESCRIPTION:Parent-Tot Funtimes is a drop-in program for families with kids aged 0 to 6. It’s all about helping families connect and giving kids a chance to learn early. Every session has toys\, songs and stories\, and a craft or fun activity.
URL:https://www.ferniewomenscentre.com/calendar/parent-tot-funtimes-elkford-2-2/2027-02-03/
LOCATION:Elkford Alliance Church (in the Basement)\, 1803 Alpine Drive\, Elkford\, BC\, V0B 1H0\, Canada
ORGANIZER;CN="Fernie Women's Resource Certre (Parent-Tot Funtimes)":MAILTO:parenttotfuntimes@gmail.com
END:VEVENT
BEGIN:VEVENT
DTSTART;TZID=America/Vancouver:20270208T093000
DTEND;TZID=America/Vancouver:20270208T113000
DTSTAMP:20260421T065939
CREATED:20251017T162638Z
LAST-MODIFIED:20260220T220213Z
UID:10003741-1802079000-1802086200@www.ferniewomenscentre.com
SUMMARY:Parent-Tot Funtimes (Sparwood)
DESCRIPTION:Parent-Tot Funtimes is a drop-in program for families with kids aged 0 to 6. It’s all about helping families connect and giving kids a chance to learn early. Every session has toys\, songs and stories\, and a craft or fun activity.
URL:https://www.ferniewomenscentre.com/calendar/parent-tot-funtimes-sparwood-5-2-2/2027-02-08/
LOCATION:Sparwood Rec Centre in the Community Hall (above Skating Rink)\, 367 Pine Ave\, Sparwood\, BC\, V0B 2G0\, Canada
ORGANIZER;CN="Fernie Women's Resource Certre (Parent-Tot Funtimes)":MAILTO:parenttotfuntimes@gmail.com
END:VEVENT
BEGIN:VEVENT
DTSTART;TZID=America/Vancouver:20270209T093000
DTEND;TZID=America/Vancouver:20270209T113000
DTSTAMP:20260421T065939
CREATED:20250702T160241Z
LAST-MODIFIED:20260220T220329Z
UID:10000935-1802165400-1802172600@www.ferniewomenscentre.com
SUMMARY:Parent-Tot Funtimes (Fernie)
DESCRIPTION:Parent-Tot Funtimes is a drop-in program for families with kids aged 0 to 6. It’s all about helping families connect and giving kids a chance to learn early. Every session has toys\, songs and stories\, and a craft or fun activity.
URL:https://www.ferniewomenscentre.com/calendar/parent-tot-funtimes-fernie-2-2/2027-02-09/
LOCATION:Fernie Family Centre\, 521 4th Ave\, Fernie\, BC\, V0B 1M0\, Canada
ORGANIZER;CN="Fernie Women's Resource Certre (Parent-Tot Funtimes)":MAILTO:parenttotfuntimes@gmail.com
END:VEVENT
BEGIN:VEVENT
DTSTART;TZID=America/Vancouver:20270210T093000
DTEND;TZID=America/Vancouver:20270210T113000
DTSTAMP:20260421T065939
CREATED:20250702T160033Z
LAST-MODIFIED:20260220T220251Z
UID:10001196-1802251800-1802259000@www.ferniewomenscentre.com
SUMMARY:Parent-Tot Funtimes (Elkford)
DESCRIPTION:Parent-Tot Funtimes is a drop-in program for families with kids aged 0 to 6. It’s all about helping families connect and giving kids a chance to learn early. Every session has toys\, songs and stories\, and a craft or fun activity.
URL:https://www.ferniewomenscentre.com/calendar/parent-tot-funtimes-elkford-2-2/2027-02-10/
LOCATION:Elkford Alliance Church (in the Basement)\, 1803 Alpine Drive\, Elkford\, BC\, V0B 1H0\, Canada
ORGANIZER;CN="Fernie Women's Resource Certre (Parent-Tot Funtimes)":MAILTO:parenttotfuntimes@gmail.com
END:VEVENT
BEGIN:VEVENT
DTSTART;TZID=America/Vancouver:20270215T093000
DTEND;TZID=America/Vancouver:20270215T113000
DTSTAMP:20260421T065940
CREATED:20251017T162638Z
LAST-MODIFIED:20260220T220213Z
UID:10003742-1802683800-1802691000@www.ferniewomenscentre.com
SUMMARY:Parent-Tot Funtimes (Sparwood)
DESCRIPTION:Parent-Tot Funtimes is a drop-in program for families with kids aged 0 to 6. It’s all about helping families connect and giving kids a chance to learn early. Every session has toys\, songs and stories\, and a craft or fun activity.
URL:https://www.ferniewomenscentre.com/calendar/parent-tot-funtimes-sparwood-5-2-2/2027-02-15/
LOCATION:Sparwood Rec Centre in the Community Hall (above Skating Rink)\, 367 Pine Ave\, Sparwood\, BC\, V0B 2G0\, Canada
ORGANIZER;CN="Fernie Women's Resource Certre (Parent-Tot Funtimes)":MAILTO:parenttotfuntimes@gmail.com
END:VEVENT
BEGIN:VEVENT
DTSTART;TZID=America/Vancouver:20270216T093000
DTEND;TZID=America/Vancouver:20270216T113000
DTSTAMP:20260421T065940
CREATED:20250702T160241Z
LAST-MODIFIED:20260220T220329Z
UID:10000936-1802770200-1802777400@www.ferniewomenscentre.com
SUMMARY:Parent-Tot Funtimes (Fernie)
DESCRIPTION:Parent-Tot Funtimes is a drop-in program for families with kids aged 0 to 6. It’s all about helping families connect and giving kids a chance to learn early. Every session has toys\, songs and stories\, and a craft or fun activity.
URL:https://www.ferniewomenscentre.com/calendar/parent-tot-funtimes-fernie-2-2/2027-02-16/
LOCATION:Fernie Family Centre\, 521 4th Ave\, Fernie\, BC\, V0B 1M0\, Canada
ORGANIZER;CN="Fernie Women's Resource Certre (Parent-Tot Funtimes)":MAILTO:parenttotfuntimes@gmail.com
END:VEVENT
BEGIN:VEVENT
DTSTART;TZID=America/Vancouver:20270217T093000
DTEND;TZID=America/Vancouver:20270217T113000
DTSTAMP:20260421T065940
CREATED:20250702T160033Z
LAST-MODIFIED:20260220T220251Z
UID:10001197-1802856600-1802863800@www.ferniewomenscentre.com
SUMMARY:Parent-Tot Funtimes (Elkford)
DESCRIPTION:Parent-Tot Funtimes is a drop-in program for families with kids aged 0 to 6. It’s all about helping families connect and giving kids a chance to learn early. Every session has toys\, songs and stories\, and a craft or fun activity.
URL:https://www.ferniewomenscentre.com/calendar/parent-tot-funtimes-elkford-2-2/2027-02-17/
LOCATION:Elkford Alliance Church (in the Basement)\, 1803 Alpine Drive\, Elkford\, BC\, V0B 1H0\, Canada
ORGANIZER;CN="Fernie Women's Resource Certre (Parent-Tot Funtimes)":MAILTO:parenttotfuntimes@gmail.com
END:VEVENT
BEGIN:VEVENT
DTSTART;TZID=America/Vancouver:20270222T093000
DTEND;TZID=America/Vancouver:20270222T113000
DTSTAMP:20260421T065940
CREATED:20251017T162638Z
LAST-MODIFIED:20260220T220213Z
UID:10003743-1803288600-1803295800@www.ferniewomenscentre.com
SUMMARY:Parent-Tot Funtimes (Sparwood)
DESCRIPTION:Parent-Tot Funtimes is a drop-in program for families with kids aged 0 to 6. It’s all about helping families connect and giving kids a chance to learn early. Every session has toys\, songs and stories\, and a craft or fun activity.
URL:https://www.ferniewomenscentre.com/calendar/parent-tot-funtimes-sparwood-5-2-2/2027-02-22/
LOCATION:Sparwood Rec Centre in the Community Hall (above Skating Rink)\, 367 Pine Ave\, Sparwood\, BC\, V0B 2G0\, Canada
ORGANIZER;CN="Fernie Women's Resource Certre (Parent-Tot Funtimes)":MAILTO:parenttotfuntimes@gmail.com
END:VEVENT
BEGIN:VEVENT
DTSTART;TZID=America/Vancouver:20270223T093000
DTEND;TZID=America/Vancouver:20270223T113000
DTSTAMP:20260421T065940
CREATED:20250702T160241Z
LAST-MODIFIED:20260220T220329Z
UID:10000937-1803375000-1803382200@www.ferniewomenscentre.com
SUMMARY:Parent-Tot Funtimes (Fernie)
DESCRIPTION:Parent-Tot Funtimes is a drop-in program for families with kids aged 0 to 6. It’s all about helping families connect and giving kids a chance to learn early. Every session has toys\, songs and stories\, and a craft or fun activity.
URL:https://www.ferniewomenscentre.com/calendar/parent-tot-funtimes-fernie-2-2/2027-02-23/
LOCATION:Fernie Family Centre\, 521 4th Ave\, Fernie\, BC\, V0B 1M0\, Canada
ORGANIZER;CN="Fernie Women's Resource Certre (Parent-Tot Funtimes)":MAILTO:parenttotfuntimes@gmail.com
END:VEVENT
BEGIN:VEVENT
DTSTART;TZID=America/Vancouver:20270224T093000
DTEND;TZID=America/Vancouver:20270224T113000
DTSTAMP:20260421T065940
CREATED:20250702T160033Z
LAST-MODIFIED:20260220T220251Z
UID:10001198-1803461400-1803468600@www.ferniewomenscentre.com
SUMMARY:Parent-Tot Funtimes (Elkford)
DESCRIPTION:Parent-Tot Funtimes is a drop-in program for families with kids aged 0 to 6. It’s all about helping families connect and giving kids a chance to learn early. Every session has toys\, songs and stories\, and a craft or fun activity.
URL:https://www.ferniewomenscentre.com/calendar/parent-tot-funtimes-elkford-2-2/2027-02-24/
LOCATION:Elkford Alliance Church (in the Basement)\, 1803 Alpine Drive\, Elkford\, BC\, V0B 1H0\, Canada
ORGANIZER;CN="Fernie Women's Resource Certre (Parent-Tot Funtimes)":MAILTO:parenttotfuntimes@gmail.com
END:VEVENT
BEGIN:VEVENT
DTSTART;TZID=America/Vancouver:20270301T093000
DTEND;TZID=America/Vancouver:20270301T113000
DTSTAMP:20260421T065940
CREATED:20251017T162638Z
LAST-MODIFIED:20260220T220213Z
UID:10003744-1803893400-1803900600@www.ferniewomenscentre.com
SUMMARY:Parent-Tot Funtimes (Sparwood)
DESCRIPTION:Parent-Tot Funtimes is a drop-in program for families with kids aged 0 to 6. It’s all about helping families connect and giving kids a chance to learn early. Every session has toys\, songs and stories\, and a craft or fun activity.
URL:https://www.ferniewomenscentre.com/calendar/parent-tot-funtimes-sparwood-5-2-2/2027-03-01/
LOCATION:Sparwood Rec Centre in the Community Hall (above Skating Rink)\, 367 Pine Ave\, Sparwood\, BC\, V0B 2G0\, Canada
ORGANIZER;CN="Fernie Women's Resource Certre (Parent-Tot Funtimes)":MAILTO:parenttotfuntimes@gmail.com
END:VEVENT
BEGIN:VEVENT
DTSTART;TZID=America/Vancouver:20270302T093000
DTEND;TZID=America/Vancouver:20270302T113000
DTSTAMP:20260421T065940
CREATED:20250702T160241Z
LAST-MODIFIED:20260220T220329Z
UID:10000938-1803979800-1803987000@www.ferniewomenscentre.com
SUMMARY:Parent-Tot Funtimes (Fernie)
DESCRIPTION:Parent-Tot Funtimes is a drop-in program for families with kids aged 0 to 6. It’s all about helping families connect and giving kids a chance to learn early. Every session has toys\, songs and stories\, and a craft or fun activity.
URL:https://www.ferniewomenscentre.com/calendar/parent-tot-funtimes-fernie-2-2/2027-03-02/
LOCATION:Fernie Family Centre\, 521 4th Ave\, Fernie\, BC\, V0B 1M0\, Canada
ORGANIZER;CN="Fernie Women's Resource Certre (Parent-Tot Funtimes)":MAILTO:parenttotfuntimes@gmail.com
END:VEVENT
BEGIN:VEVENT
DTSTART;TZID=America/Vancouver:20270303T093000
DTEND;TZID=America/Vancouver:20270303T113000
DTSTAMP:20260421T065940
CREATED:20250702T160033Z
LAST-MODIFIED:20260220T220251Z
UID:10001199-1804066200-1804073400@www.ferniewomenscentre.com
SUMMARY:Parent-Tot Funtimes (Elkford)
DESCRIPTION:Parent-Tot Funtimes is a drop-in program for families with kids aged 0 to 6. It’s all about helping families connect and giving kids a chance to learn early. Every session has toys\, songs and stories\, and a craft or fun activity.
URL:https://www.ferniewomenscentre.com/calendar/parent-tot-funtimes-elkford-2-2/2027-03-03/
LOCATION:Elkford Alliance Church (in the Basement)\, 1803 Alpine Drive\, Elkford\, BC\, V0B 1H0\, Canada
ORGANIZER;CN="Fernie Women's Resource Certre (Parent-Tot Funtimes)":MAILTO:parenttotfuntimes@gmail.com
END:VEVENT
BEGIN:VEVENT
DTSTART;TZID=America/Vancouver:20270308T093000
DTEND;TZID=America/Vancouver:20270308T113000
DTSTAMP:20260421T065940
CREATED:20251017T162638Z
LAST-MODIFIED:20260220T220213Z
UID:10003745-1804498200-1804505400@www.ferniewomenscentre.com
SUMMARY:Parent-Tot Funtimes (Sparwood)
DESCRIPTION:Parent-Tot Funtimes is a drop-in program for families with kids aged 0 to 6. It’s all about helping families connect and giving kids a chance to learn early. Every session has toys\, songs and stories\, and a craft or fun activity.
URL:https://www.ferniewomenscentre.com/calendar/parent-tot-funtimes-sparwood-5-2-2/2027-03-08/
LOCATION:Sparwood Rec Centre in the Community Hall (above Skating Rink)\, 367 Pine Ave\, Sparwood\, BC\, V0B 2G0\, Canada
ORGANIZER;CN="Fernie Women's Resource Certre (Parent-Tot Funtimes)":MAILTO:parenttotfuntimes@gmail.com
END:VEVENT
BEGIN:VEVENT
DTSTART;TZID=America/Vancouver:20270309T093000
DTEND;TZID=America/Vancouver:20270309T113000
DTSTAMP:20260421T065940
CREATED:20250702T160241Z
LAST-MODIFIED:20260220T220329Z
UID:10000939-1804584600-1804591800@www.ferniewomenscentre.com
SUMMARY:Parent-Tot Funtimes (Fernie)
DESCRIPTION:Parent-Tot Funtimes is a drop-in program for families with kids aged 0 to 6. It’s all about helping families connect and giving kids a chance to learn early. Every session has toys\, songs and stories\, and a craft or fun activity.
URL:https://www.ferniewomenscentre.com/calendar/parent-tot-funtimes-fernie-2-2/2027-03-09/
LOCATION:Fernie Family Centre\, 521 4th Ave\, Fernie\, BC\, V0B 1M0\, Canada
ORGANIZER;CN="Fernie Women's Resource Certre (Parent-Tot Funtimes)":MAILTO:parenttotfuntimes@gmail.com
END:VEVENT
BEGIN:VEVENT
DTSTART;TZID=America/Vancouver:20270310T093000
DTEND;TZID=America/Vancouver:20270310T113000
DTSTAMP:20260421T065940
CREATED:20250702T160033Z
LAST-MODIFIED:20260220T220251Z
UID:10001200-1804671000-1804678200@www.ferniewomenscentre.com
SUMMARY:Parent-Tot Funtimes (Elkford)
DESCRIPTION:Parent-Tot Funtimes is a drop-in program for families with kids aged 0 to 6. It’s all about helping families connect and giving kids a chance to learn early. Every session has toys\, songs and stories\, and a craft or fun activity.
URL:https://www.ferniewomenscentre.com/calendar/parent-tot-funtimes-elkford-2-2/2027-03-10/
LOCATION:Elkford Alliance Church (in the Basement)\, 1803 Alpine Drive\, Elkford\, BC\, V0B 1H0\, Canada
ORGANIZER;CN="Fernie Women's Resource Certre (Parent-Tot Funtimes)":MAILTO:parenttotfuntimes@gmail.com
END:VEVENT
BEGIN:VEVENT
DTSTART;TZID=America/Vancouver:20270315T093000
DTEND;TZID=America/Vancouver:20270315T113000
DTSTAMP:20260421T065940
CREATED:20251017T162638Z
LAST-MODIFIED:20260220T220213Z
UID:10003746-1805103000-1805110200@www.ferniewomenscentre.com
SUMMARY:Parent-Tot Funtimes (Sparwood)
DESCRIPTION:Parent-Tot Funtimes is a drop-in program for families with kids aged 0 to 6. It’s all about helping families connect and giving kids a chance to learn early. Every session has toys\, songs and stories\, and a craft or fun activity.
URL:https://www.ferniewomenscentre.com/calendar/parent-tot-funtimes-sparwood-5-2-2/2027-03-15/
LOCATION:Sparwood Rec Centre in the Community Hall (above Skating Rink)\, 367 Pine Ave\, Sparwood\, BC\, V0B 2G0\, Canada
ORGANIZER;CN="Fernie Women's Resource Certre (Parent-Tot Funtimes)":MAILTO:parenttotfuntimes@gmail.com
END:VEVENT
BEGIN:VEVENT
DTSTART;TZID=America/Vancouver:20270316T093000
DTEND;TZID=America/Vancouver:20270316T113000
DTSTAMP:20260421T065940
CREATED:20250702T160241Z
LAST-MODIFIED:20260220T220329Z
UID:10000940-1805189400-1805196600@www.ferniewomenscentre.com
SUMMARY:Parent-Tot Funtimes (Fernie)
DESCRIPTION:Parent-Tot Funtimes is a drop-in program for families with kids aged 0 to 6. It’s all about helping families connect and giving kids a chance to learn early. Every session has toys\, songs and stories\, and a craft or fun activity.
URL:https://www.ferniewomenscentre.com/calendar/parent-tot-funtimes-fernie-2-2/2027-03-16/
LOCATION:Fernie Family Centre\, 521 4th Ave\, Fernie\, BC\, V0B 1M0\, Canada
ORGANIZER;CN="Fernie Women's Resource Certre (Parent-Tot Funtimes)":MAILTO:parenttotfuntimes@gmail.com
END:VEVENT
BEGIN:VEVENT
DTSTART;TZID=America/Vancouver:20270317T093000
DTEND;TZID=America/Vancouver:20270317T113000
DTSTAMP:20260421T065940
CREATED:20250702T160033Z
LAST-MODIFIED:20260220T220251Z
UID:10001201-1805275800-1805283000@www.ferniewomenscentre.com
SUMMARY:Parent-Tot Funtimes (Elkford)
DESCRIPTION:Parent-Tot Funtimes is a drop-in program for families with kids aged 0 to 6. It’s all about helping families connect and giving kids a chance to learn early. Every session has toys\, songs and stories\, and a craft or fun activity.
URL:https://www.ferniewomenscentre.com/calendar/parent-tot-funtimes-elkford-2-2/2027-03-17/
LOCATION:Elkford Alliance Church (in the Basement)\, 1803 Alpine Drive\, Elkford\, BC\, V0B 1H0\, Canada
ORGANIZER;CN="Fernie Women's Resource Certre (Parent-Tot Funtimes)":MAILTO:parenttotfuntimes@gmail.com
END:VEVENT
BEGIN:VEVENT
DTSTART;TZID=America/Vancouver:20270322T093000
DTEND;TZID=America/Vancouver:20270322T113000
DTSTAMP:20260421T065940
CREATED:20251017T162638Z
LAST-MODIFIED:20260220T220213Z
UID:10003747-1805707800-1805715000@www.ferniewomenscentre.com
SUMMARY:Parent-Tot Funtimes (Sparwood)
DESCRIPTION:Parent-Tot Funtimes is a drop-in program for families with kids aged 0 to 6. It’s all about helping families connect and giving kids a chance to learn early. Every session has toys\, songs and stories\, and a craft or fun activity.
URL:https://www.ferniewomenscentre.com/calendar/parent-tot-funtimes-sparwood-5-2-2/2027-03-22/
LOCATION:Sparwood Rec Centre in the Community Hall (above Skating Rink)\, 367 Pine Ave\, Sparwood\, BC\, V0B 2G0\, Canada
ORGANIZER;CN="Fernie Women's Resource Certre (Parent-Tot Funtimes)":MAILTO:parenttotfuntimes@gmail.com
END:VEVENT
BEGIN:VEVENT
DTSTART;TZID=America/Vancouver:20270323T093000
DTEND;TZID=America/Vancouver:20270323T113000
DTSTAMP:20260421T065940
CREATED:20250702T160241Z
LAST-MODIFIED:20260220T220329Z
UID:10000941-1805794200-1805801400@www.ferniewomenscentre.com
SUMMARY:Parent-Tot Funtimes (Fernie)
DESCRIPTION:Parent-Tot Funtimes is a drop-in program for families with kids aged 0 to 6. It’s all about helping families connect and giving kids a chance to learn early. Every session has toys\, songs and stories\, and a craft or fun activity.
URL:https://www.ferniewomenscentre.com/calendar/parent-tot-funtimes-fernie-2-2/2027-03-23/
LOCATION:Fernie Family Centre\, 521 4th Ave\, Fernie\, BC\, V0B 1M0\, Canada
ORGANIZER;CN="Fernie Women's Resource Certre (Parent-Tot Funtimes)":MAILTO:parenttotfuntimes@gmail.com
END:VEVENT
BEGIN:VEVENT
DTSTART;TZID=America/Vancouver:20270324T093000
DTEND;TZID=America/Vancouver:20270324T113000
DTSTAMP:20260421T065940
CREATED:20250702T160033Z
LAST-MODIFIED:20260220T220251Z
UID:10001202-1805880600-1805887800@www.ferniewomenscentre.com
SUMMARY:Parent-Tot Funtimes (Elkford)
DESCRIPTION:Parent-Tot Funtimes is a drop-in program for families with kids aged 0 to 6. It’s all about helping families connect and giving kids a chance to learn early. Every session has toys\, songs and stories\, and a craft or fun activity.
URL:https://www.ferniewomenscentre.com/calendar/parent-tot-funtimes-elkford-2-2/2027-03-24/
LOCATION:Elkford Alliance Church (in the Basement)\, 1803 Alpine Drive\, Elkford\, BC\, V0B 1H0\, Canada
ORGANIZER;CN="Fernie Women's Resource Certre (Parent-Tot Funtimes)":MAILTO:parenttotfuntimes@gmail.com
END:VEVENT
BEGIN:VEVENT
DTSTART;TZID=America/Vancouver:20270329T093000
DTEND;TZID=America/Vancouver:20270329T113000
DTSTAMP:20260421T065940
CREATED:20251017T162638Z
LAST-MODIFIED:20260220T220213Z
UID:10003748-1806312600-1806319800@www.ferniewomenscentre.com
SUMMARY:Parent-Tot Funtimes (Sparwood)
DESCRIPTION:Parent-Tot Funtimes is a drop-in program for families with kids aged 0 to 6. It’s all about helping families connect and giving kids a chance to learn early. Every session has toys\, songs and stories\, and a craft or fun activity.
URL:https://www.ferniewomenscentre.com/calendar/parent-tot-funtimes-sparwood-5-2-2/2027-03-29/
LOCATION:Sparwood Rec Centre in the Community Hall (above Skating Rink)\, 367 Pine Ave\, Sparwood\, BC\, V0B 2G0\, Canada
ORGANIZER;CN="Fernie Women's Resource Certre (Parent-Tot Funtimes)":MAILTO:parenttotfuntimes@gmail.com
END:VEVENT
BEGIN:VEVENT
DTSTART;TZID=America/Vancouver:20270330T093000
DTEND;TZID=America/Vancouver:20270330T113000
DTSTAMP:20260421T065940
CREATED:20250702T160241Z
LAST-MODIFIED:20260220T220329Z
UID:10000942-1806399000-1806406200@www.ferniewomenscentre.com
SUMMARY:Parent-Tot Funtimes (Fernie)
DESCRIPTION:Parent-Tot Funtimes is a drop-in program for families with kids aged 0 to 6. It’s all about helping families connect and giving kids a chance to learn early. Every session has toys\, songs and stories\, and a craft or fun activity.
URL:https://www.ferniewomenscentre.com/calendar/parent-tot-funtimes-fernie-2-2/2027-03-30/
LOCATION:Fernie Family Centre\, 521 4th Ave\, Fernie\, BC\, V0B 1M0\, Canada
ORGANIZER;CN="Fernie Women's Resource Certre (Parent-Tot Funtimes)":MAILTO:parenttotfuntimes@gmail.com
END:VEVENT
BEGIN:VEVENT
DTSTART;TZID=America/Vancouver:20270331T093000
DTEND;TZID=America/Vancouver:20270331T113000
DTSTAMP:20260421T065940
CREATED:20250702T160033Z
LAST-MODIFIED:20260220T220251Z
UID:10001203-1806485400-1806492600@www.ferniewomenscentre.com
SUMMARY:Parent-Tot Funtimes (Elkford)
DESCRIPTION:Parent-Tot Funtimes is a drop-in program for families with kids aged 0 to 6. It’s all about helping families connect and giving kids a chance to learn early. Every session has toys\, songs and stories\, and a craft or fun activity.
URL:https://www.ferniewomenscentre.com/calendar/parent-tot-funtimes-elkford-2-2/2027-03-31/
LOCATION:Elkford Alliance Church (in the Basement)\, 1803 Alpine Drive\, Elkford\, BC\, V0B 1H0\, Canada
ORGANIZER;CN="Fernie Women's Resource Certre (Parent-Tot Funtimes)":MAILTO:parenttotfuntimes@gmail.com
END:VEVENT
BEGIN:VEVENT
DTSTART;TZID=America/Vancouver:20270405T093000
DTEND;TZID=America/Vancouver:20270405T113000
DTSTAMP:20260421T065940
CREATED:20251017T162638Z
LAST-MODIFIED:20260220T220213Z
UID:10003749-1806917400-1806924600@www.ferniewomenscentre.com
SUMMARY:Parent-Tot Funtimes (Sparwood)
DESCRIPTION:Parent-Tot Funtimes is a drop-in program for families with kids aged 0 to 6. It’s all about helping families connect and giving kids a chance to learn early. Every session has toys\, songs and stories\, and a craft or fun activity.
URL:https://www.ferniewomenscentre.com/calendar/parent-tot-funtimes-sparwood-5-2-2/2027-04-05/
LOCATION:Sparwood Rec Centre in the Community Hall (above Skating Rink)\, 367 Pine Ave\, Sparwood\, BC\, V0B 2G0\, Canada
ORGANIZER;CN="Fernie Women's Resource Certre (Parent-Tot Funtimes)":MAILTO:parenttotfuntimes@gmail.com
END:VEVENT
END:VCALENDAR