BEGIN:VCALENDAR
VERSION:2.0
PRODID:-//Fernie Women&#039;s Resource Centre - ECPv6.15.20//NONSGML v1.0//EN
CALSCALE:GREGORIAN
METHOD:PUBLISH
X-ORIGINAL-URL:https://www.ferniewomenscentre.com
X-WR-CALDESC:Events for Fernie Women&#039;s Resource Centre
REFRESH-INTERVAL;VALUE=DURATION:PT1H
X-Robots-Tag:noindex
X-PUBLISHED-TTL:PT1H
BEGIN:VTIMEZONE
TZID:America/Vancouver
BEGIN:DAYLIGHT
TZOFFSETFROM:-0800
TZOFFSETTO:-0700
TZNAME:PDT
DTSTART:20270314T100000
END:DAYLIGHT
BEGIN:STANDARD
TZOFFSETFROM:-0700
TZOFFSETTO:-0800
TZNAME:PST
DTSTART:20271107T090000
END:STANDARD
BEGIN:DAYLIGHT
TZOFFSETFROM:-0800
TZOFFSETTO:-0700
TZNAME:PDT
DTSTART:20280312T100000
END:DAYLIGHT
BEGIN:STANDARD
TZOFFSETFROM:-0700
TZOFFSETTO:-0800
TZNAME:PST
DTSTART:20281105T090000
END:STANDARD
BEGIN:DAYLIGHT
TZOFFSETFROM:-0800
TZOFFSETTO:-0700
TZNAME:PDT
DTSTART:20290311T100000
END:DAYLIGHT
BEGIN:STANDARD
TZOFFSETFROM:-0700
TZOFFSETTO:-0800
TZNAME:PST
DTSTART:20291104T090000
END:STANDARD
END:VTIMEZONE
BEGIN:VEVENT
DTSTART;TZID=America/Vancouver:20280223T093000
DTEND;TZID=America/Vancouver:20280223T113000
DTSTAMP:20260422T073945
CREATED:20250702T160033Z
LAST-MODIFIED:20260220T220251Z
UID:10001250-1834911000-1834918200@www.ferniewomenscentre.com
SUMMARY:Parent-Tot Funtimes (Elkford)
DESCRIPTION:Parent-Tot Funtimes is a drop-in program for families with kids aged 0 to 6. It’s all about helping families connect and giving kids a chance to learn early. Every session has toys\, songs and stories\, and a craft or fun activity.
URL:https://www.ferniewomenscentre.com/calendar/parent-tot-funtimes-elkford-2-2/2028-02-23/
LOCATION:Elkford Alliance Church (in the Basement)\, 1803 Alpine Drive\, Elkford\, BC\, V0B 1H0\, Canada
ORGANIZER;CN="Fernie Women's Resource Certre (Parent-Tot Funtimes)":MAILTO:parenttotfuntimes@gmail.com
END:VEVENT
BEGIN:VEVENT
DTSTART;TZID=America/Vancouver:20280228T093000
DTEND;TZID=America/Vancouver:20280228T113000
DTSTAMP:20260422T073945
CREATED:20251017T162638Z
LAST-MODIFIED:20260220T220213Z
UID:10003796-1835343000-1835350200@www.ferniewomenscentre.com
SUMMARY:Parent-Tot Funtimes (Sparwood)
DESCRIPTION:Parent-Tot Funtimes is a drop-in program for families with kids aged 0 to 6. It’s all about helping families connect and giving kids a chance to learn early. Every session has toys\, songs and stories\, and a craft or fun activity.
URL:https://www.ferniewomenscentre.com/calendar/parent-tot-funtimes-sparwood-5-2-2/2028-02-28/
LOCATION:Sparwood Rec Centre in the Community Hall (above Skating Rink)\, 367 Pine Ave\, Sparwood\, BC\, V0B 2G0\, Canada
ORGANIZER;CN="Fernie Women's Resource Certre (Parent-Tot Funtimes)":MAILTO:parenttotfuntimes@gmail.com
END:VEVENT
BEGIN:VEVENT
DTSTART;TZID=America/Vancouver:20280229T093000
DTEND;TZID=America/Vancouver:20280229T113000
DTSTAMP:20260422T073945
CREATED:20250702T160241Z
LAST-MODIFIED:20260220T220329Z
UID:10000990-1835429400-1835436600@www.ferniewomenscentre.com
SUMMARY:Parent-Tot Funtimes (Fernie)
DESCRIPTION:Parent-Tot Funtimes is a drop-in program for families with kids aged 0 to 6. It’s all about helping families connect and giving kids a chance to learn early. Every session has toys\, songs and stories\, and a craft or fun activity.
URL:https://www.ferniewomenscentre.com/calendar/parent-tot-funtimes-fernie-2-2/2028-02-29/
LOCATION:Fernie Family Centre\, 521 4th Ave\, Fernie\, BC\, V0B 1M0\, Canada
ORGANIZER;CN="Fernie Women's Resource Certre (Parent-Tot Funtimes)":MAILTO:parenttotfuntimes@gmail.com
END:VEVENT
BEGIN:VEVENT
DTSTART;TZID=America/Vancouver:20280301T093000
DTEND;TZID=America/Vancouver:20280301T113000
DTSTAMP:20260422T073945
CREATED:20250702T160033Z
LAST-MODIFIED:20260220T220251Z
UID:10001251-1835515800-1835523000@www.ferniewomenscentre.com
SUMMARY:Parent-Tot Funtimes (Elkford)
DESCRIPTION:Parent-Tot Funtimes is a drop-in program for families with kids aged 0 to 6. It’s all about helping families connect and giving kids a chance to learn early. Every session has toys\, songs and stories\, and a craft or fun activity.
URL:https://www.ferniewomenscentre.com/calendar/parent-tot-funtimes-elkford-2-2/2028-03-01/
LOCATION:Elkford Alliance Church (in the Basement)\, 1803 Alpine Drive\, Elkford\, BC\, V0B 1H0\, Canada
ORGANIZER;CN="Fernie Women's Resource Certre (Parent-Tot Funtimes)":MAILTO:parenttotfuntimes@gmail.com
END:VEVENT
BEGIN:VEVENT
DTSTART;TZID=America/Vancouver:20280306T093000
DTEND;TZID=America/Vancouver:20280306T113000
DTSTAMP:20260422T073945
CREATED:20251017T162638Z
LAST-MODIFIED:20260220T220213Z
UID:10003797-1835947800-1835955000@www.ferniewomenscentre.com
SUMMARY:Parent-Tot Funtimes (Sparwood)
DESCRIPTION:Parent-Tot Funtimes is a drop-in program for families with kids aged 0 to 6. It’s all about helping families connect and giving kids a chance to learn early. Every session has toys\, songs and stories\, and a craft or fun activity.
URL:https://www.ferniewomenscentre.com/calendar/parent-tot-funtimes-sparwood-5-2-2/2028-03-06/
LOCATION:Sparwood Rec Centre in the Community Hall (above Skating Rink)\, 367 Pine Ave\, Sparwood\, BC\, V0B 2G0\, Canada
ORGANIZER;CN="Fernie Women's Resource Certre (Parent-Tot Funtimes)":MAILTO:parenttotfuntimes@gmail.com
END:VEVENT
BEGIN:VEVENT
DTSTART;TZID=America/Vancouver:20280307T093000
DTEND;TZID=America/Vancouver:20280307T113000
DTSTAMP:20260422T073945
CREATED:20250702T160241Z
LAST-MODIFIED:20260220T220329Z
UID:10000991-1836034200-1836041400@www.ferniewomenscentre.com
SUMMARY:Parent-Tot Funtimes (Fernie)
DESCRIPTION:Parent-Tot Funtimes is a drop-in program for families with kids aged 0 to 6. It’s all about helping families connect and giving kids a chance to learn early. Every session has toys\, songs and stories\, and a craft or fun activity.
URL:https://www.ferniewomenscentre.com/calendar/parent-tot-funtimes-fernie-2-2/2028-03-07/
LOCATION:Fernie Family Centre\, 521 4th Ave\, Fernie\, BC\, V0B 1M0\, Canada
ORGANIZER;CN="Fernie Women's Resource Certre (Parent-Tot Funtimes)":MAILTO:parenttotfuntimes@gmail.com
END:VEVENT
BEGIN:VEVENT
DTSTART;TZID=America/Vancouver:20280308T093000
DTEND;TZID=America/Vancouver:20280308T113000
DTSTAMP:20260422T073945
CREATED:20250702T160033Z
LAST-MODIFIED:20260220T220251Z
UID:10001252-1836120600-1836127800@www.ferniewomenscentre.com
SUMMARY:Parent-Tot Funtimes (Elkford)
DESCRIPTION:Parent-Tot Funtimes is a drop-in program for families with kids aged 0 to 6. It’s all about helping families connect and giving kids a chance to learn early. Every session has toys\, songs and stories\, and a craft or fun activity.
URL:https://www.ferniewomenscentre.com/calendar/parent-tot-funtimes-elkford-2-2/2028-03-08/
LOCATION:Elkford Alliance Church (in the Basement)\, 1803 Alpine Drive\, Elkford\, BC\, V0B 1H0\, Canada
ORGANIZER;CN="Fernie Women's Resource Certre (Parent-Tot Funtimes)":MAILTO:parenttotfuntimes@gmail.com
END:VEVENT
BEGIN:VEVENT
DTSTART;TZID=America/Vancouver:20280313T093000
DTEND;TZID=America/Vancouver:20280313T113000
DTSTAMP:20260422T073945
CREATED:20251017T162638Z
LAST-MODIFIED:20260220T220213Z
UID:10003798-1836552600-1836559800@www.ferniewomenscentre.com
SUMMARY:Parent-Tot Funtimes (Sparwood)
DESCRIPTION:Parent-Tot Funtimes is a drop-in program for families with kids aged 0 to 6. It’s all about helping families connect and giving kids a chance to learn early. Every session has toys\, songs and stories\, and a craft or fun activity.
URL:https://www.ferniewomenscentre.com/calendar/parent-tot-funtimes-sparwood-5-2-2/2028-03-13/
LOCATION:Sparwood Rec Centre in the Community Hall (above Skating Rink)\, 367 Pine Ave\, Sparwood\, BC\, V0B 2G0\, Canada
ORGANIZER;CN="Fernie Women's Resource Certre (Parent-Tot Funtimes)":MAILTO:parenttotfuntimes@gmail.com
END:VEVENT
BEGIN:VEVENT
DTSTART;TZID=America/Vancouver:20280314T093000
DTEND;TZID=America/Vancouver:20280314T113000
DTSTAMP:20260422T073945
CREATED:20250702T160241Z
LAST-MODIFIED:20260220T220329Z
UID:10000992-1836639000-1836646200@www.ferniewomenscentre.com
SUMMARY:Parent-Tot Funtimes (Fernie)
DESCRIPTION:Parent-Tot Funtimes is a drop-in program for families with kids aged 0 to 6. It’s all about helping families connect and giving kids a chance to learn early. Every session has toys\, songs and stories\, and a craft or fun activity.
URL:https://www.ferniewomenscentre.com/calendar/parent-tot-funtimes-fernie-2-2/2028-03-14/
LOCATION:Fernie Family Centre\, 521 4th Ave\, Fernie\, BC\, V0B 1M0\, Canada
ORGANIZER;CN="Fernie Women's Resource Certre (Parent-Tot Funtimes)":MAILTO:parenttotfuntimes@gmail.com
END:VEVENT
BEGIN:VEVENT
DTSTART;TZID=America/Vancouver:20280315T093000
DTEND;TZID=America/Vancouver:20280315T113000
DTSTAMP:20260422T073945
CREATED:20250702T160033Z
LAST-MODIFIED:20260220T220251Z
UID:10001253-1836725400-1836732600@www.ferniewomenscentre.com
SUMMARY:Parent-Tot Funtimes (Elkford)
DESCRIPTION:Parent-Tot Funtimes is a drop-in program for families with kids aged 0 to 6. It’s all about helping families connect and giving kids a chance to learn early. Every session has toys\, songs and stories\, and a craft or fun activity.
URL:https://www.ferniewomenscentre.com/calendar/parent-tot-funtimes-elkford-2-2/2028-03-15/
LOCATION:Elkford Alliance Church (in the Basement)\, 1803 Alpine Drive\, Elkford\, BC\, V0B 1H0\, Canada
ORGANIZER;CN="Fernie Women's Resource Certre (Parent-Tot Funtimes)":MAILTO:parenttotfuntimes@gmail.com
END:VEVENT
BEGIN:VEVENT
DTSTART;TZID=America/Vancouver:20280320T093000
DTEND;TZID=America/Vancouver:20280320T113000
DTSTAMP:20260422T073945
CREATED:20251017T162638Z
LAST-MODIFIED:20260220T220213Z
UID:10003799-1837157400-1837164600@www.ferniewomenscentre.com
SUMMARY:Parent-Tot Funtimes (Sparwood)
DESCRIPTION:Parent-Tot Funtimes is a drop-in program for families with kids aged 0 to 6. It’s all about helping families connect and giving kids a chance to learn early. Every session has toys\, songs and stories\, and a craft or fun activity.
URL:https://www.ferniewomenscentre.com/calendar/parent-tot-funtimes-sparwood-5-2-2/2028-03-20/
LOCATION:Sparwood Rec Centre in the Community Hall (above Skating Rink)\, 367 Pine Ave\, Sparwood\, BC\, V0B 2G0\, Canada
ORGANIZER;CN="Fernie Women's Resource Certre (Parent-Tot Funtimes)":MAILTO:parenttotfuntimes@gmail.com
END:VEVENT
BEGIN:VEVENT
DTSTART;TZID=America/Vancouver:20280321T093000
DTEND;TZID=America/Vancouver:20280321T113000
DTSTAMP:20260422T073945
CREATED:20250702T160241Z
LAST-MODIFIED:20260220T220329Z
UID:10000993-1837243800-1837251000@www.ferniewomenscentre.com
SUMMARY:Parent-Tot Funtimes (Fernie)
DESCRIPTION:Parent-Tot Funtimes is a drop-in program for families with kids aged 0 to 6. It’s all about helping families connect and giving kids a chance to learn early. Every session has toys\, songs and stories\, and a craft or fun activity.
URL:https://www.ferniewomenscentre.com/calendar/parent-tot-funtimes-fernie-2-2/2028-03-21/
LOCATION:Fernie Family Centre\, 521 4th Ave\, Fernie\, BC\, V0B 1M0\, Canada
ORGANIZER;CN="Fernie Women's Resource Certre (Parent-Tot Funtimes)":MAILTO:parenttotfuntimes@gmail.com
END:VEVENT
BEGIN:VEVENT
DTSTART;TZID=America/Vancouver:20280322T093000
DTEND;TZID=America/Vancouver:20280322T113000
DTSTAMP:20260422T073945
CREATED:20250702T160033Z
LAST-MODIFIED:20260220T220251Z
UID:10001254-1837330200-1837337400@www.ferniewomenscentre.com
SUMMARY:Parent-Tot Funtimes (Elkford)
DESCRIPTION:Parent-Tot Funtimes is a drop-in program for families with kids aged 0 to 6. It’s all about helping families connect and giving kids a chance to learn early. Every session has toys\, songs and stories\, and a craft or fun activity.
URL:https://www.ferniewomenscentre.com/calendar/parent-tot-funtimes-elkford-2-2/2028-03-22/
LOCATION:Elkford Alliance Church (in the Basement)\, 1803 Alpine Drive\, Elkford\, BC\, V0B 1H0\, Canada
ORGANIZER;CN="Fernie Women's Resource Certre (Parent-Tot Funtimes)":MAILTO:parenttotfuntimes@gmail.com
END:VEVENT
BEGIN:VEVENT
DTSTART;TZID=America/Vancouver:20280327T093000
DTEND;TZID=America/Vancouver:20280327T113000
DTSTAMP:20260422T073945
CREATED:20251017T162638Z
LAST-MODIFIED:20260220T220213Z
UID:10003800-1837762200-1837769400@www.ferniewomenscentre.com
SUMMARY:Parent-Tot Funtimes (Sparwood)
DESCRIPTION:Parent-Tot Funtimes is a drop-in program for families with kids aged 0 to 6. It’s all about helping families connect and giving kids a chance to learn early. Every session has toys\, songs and stories\, and a craft or fun activity.
URL:https://www.ferniewomenscentre.com/calendar/parent-tot-funtimes-sparwood-5-2-2/2028-03-27/
LOCATION:Sparwood Rec Centre in the Community Hall (above Skating Rink)\, 367 Pine Ave\, Sparwood\, BC\, V0B 2G0\, Canada
ORGANIZER;CN="Fernie Women's Resource Certre (Parent-Tot Funtimes)":MAILTO:parenttotfuntimes@gmail.com
END:VEVENT
BEGIN:VEVENT
DTSTART;TZID=America/Vancouver:20280328T093000
DTEND;TZID=America/Vancouver:20280328T113000
DTSTAMP:20260422T073945
CREATED:20250702T160241Z
LAST-MODIFIED:20260220T220329Z
UID:10000994-1837848600-1837855800@www.ferniewomenscentre.com
SUMMARY:Parent-Tot Funtimes (Fernie)
DESCRIPTION:Parent-Tot Funtimes is a drop-in program for families with kids aged 0 to 6. It’s all about helping families connect and giving kids a chance to learn early. Every session has toys\, songs and stories\, and a craft or fun activity.
URL:https://www.ferniewomenscentre.com/calendar/parent-tot-funtimes-fernie-2-2/2028-03-28/
LOCATION:Fernie Family Centre\, 521 4th Ave\, Fernie\, BC\, V0B 1M0\, Canada
ORGANIZER;CN="Fernie Women's Resource Certre (Parent-Tot Funtimes)":MAILTO:parenttotfuntimes@gmail.com
END:VEVENT
BEGIN:VEVENT
DTSTART;TZID=America/Vancouver:20280329T093000
DTEND;TZID=America/Vancouver:20280329T113000
DTSTAMP:20260422T073945
CREATED:20250702T160033Z
LAST-MODIFIED:20260220T220251Z
UID:10001255-1837935000-1837942200@www.ferniewomenscentre.com
SUMMARY:Parent-Tot Funtimes (Elkford)
DESCRIPTION:Parent-Tot Funtimes is a drop-in program for families with kids aged 0 to 6. It’s all about helping families connect and giving kids a chance to learn early. Every session has toys\, songs and stories\, and a craft or fun activity.
URL:https://www.ferniewomenscentre.com/calendar/parent-tot-funtimes-elkford-2-2/2028-03-29/
LOCATION:Elkford Alliance Church (in the Basement)\, 1803 Alpine Drive\, Elkford\, BC\, V0B 1H0\, Canada
ORGANIZER;CN="Fernie Women's Resource Certre (Parent-Tot Funtimes)":MAILTO:parenttotfuntimes@gmail.com
END:VEVENT
BEGIN:VEVENT
DTSTART;TZID=America/Vancouver:20280403T093000
DTEND;TZID=America/Vancouver:20280403T113000
DTSTAMP:20260422T073945
CREATED:20251017T162638Z
LAST-MODIFIED:20260220T220213Z
UID:10003801-1838367000-1838374200@www.ferniewomenscentre.com
SUMMARY:Parent-Tot Funtimes (Sparwood)
DESCRIPTION:Parent-Tot Funtimes is a drop-in program for families with kids aged 0 to 6. It’s all about helping families connect and giving kids a chance to learn early. Every session has toys\, songs and stories\, and a craft or fun activity.
URL:https://www.ferniewomenscentre.com/calendar/parent-tot-funtimes-sparwood-5-2-2/2028-04-03/
LOCATION:Sparwood Rec Centre in the Community Hall (above Skating Rink)\, 367 Pine Ave\, Sparwood\, BC\, V0B 2G0\, Canada
ORGANIZER;CN="Fernie Women's Resource Certre (Parent-Tot Funtimes)":MAILTO:parenttotfuntimes@gmail.com
END:VEVENT
BEGIN:VEVENT
DTSTART;TZID=America/Vancouver:20280404T093000
DTEND;TZID=America/Vancouver:20280404T113000
DTSTAMP:20260422T073945
CREATED:20250702T160241Z
LAST-MODIFIED:20260220T220329Z
UID:10000995-1838453400-1838460600@www.ferniewomenscentre.com
SUMMARY:Parent-Tot Funtimes (Fernie)
DESCRIPTION:Parent-Tot Funtimes is a drop-in program for families with kids aged 0 to 6. It’s all about helping families connect and giving kids a chance to learn early. Every session has toys\, songs and stories\, and a craft or fun activity.
URL:https://www.ferniewomenscentre.com/calendar/parent-tot-funtimes-fernie-2-2/2028-04-04/
LOCATION:Fernie Family Centre\, 521 4th Ave\, Fernie\, BC\, V0B 1M0\, Canada
ORGANIZER;CN="Fernie Women's Resource Certre (Parent-Tot Funtimes)":MAILTO:parenttotfuntimes@gmail.com
END:VEVENT
BEGIN:VEVENT
DTSTART;TZID=America/Vancouver:20280405T093000
DTEND;TZID=America/Vancouver:20280405T113000
DTSTAMP:20260422T073945
CREATED:20250702T160033Z
LAST-MODIFIED:20260220T220251Z
UID:10001256-1838539800-1838547000@www.ferniewomenscentre.com
SUMMARY:Parent-Tot Funtimes (Elkford)
DESCRIPTION:Parent-Tot Funtimes is a drop-in program for families with kids aged 0 to 6. It’s all about helping families connect and giving kids a chance to learn early. Every session has toys\, songs and stories\, and a craft or fun activity.
URL:https://www.ferniewomenscentre.com/calendar/parent-tot-funtimes-elkford-2-2/2028-04-05/
LOCATION:Elkford Alliance Church (in the Basement)\, 1803 Alpine Drive\, Elkford\, BC\, V0B 1H0\, Canada
ORGANIZER;CN="Fernie Women's Resource Certre (Parent-Tot Funtimes)":MAILTO:parenttotfuntimes@gmail.com
END:VEVENT
BEGIN:VEVENT
DTSTART;TZID=America/Vancouver:20280410T093000
DTEND;TZID=America/Vancouver:20280410T113000
DTSTAMP:20260422T073945
CREATED:20251017T162638Z
LAST-MODIFIED:20260220T220213Z
UID:10003802-1838971800-1838979000@www.ferniewomenscentre.com
SUMMARY:Parent-Tot Funtimes (Sparwood)
DESCRIPTION:Parent-Tot Funtimes is a drop-in program for families with kids aged 0 to 6. It’s all about helping families connect and giving kids a chance to learn early. Every session has toys\, songs and stories\, and a craft or fun activity.
URL:https://www.ferniewomenscentre.com/calendar/parent-tot-funtimes-sparwood-5-2-2/2028-04-10/
LOCATION:Sparwood Rec Centre in the Community Hall (above Skating Rink)\, 367 Pine Ave\, Sparwood\, BC\, V0B 2G0\, Canada
ORGANIZER;CN="Fernie Women's Resource Certre (Parent-Tot Funtimes)":MAILTO:parenttotfuntimes@gmail.com
END:VEVENT
BEGIN:VEVENT
DTSTART;TZID=America/Vancouver:20280411T093000
DTEND;TZID=America/Vancouver:20280411T113000
DTSTAMP:20260422T073945
CREATED:20250702T160241Z
LAST-MODIFIED:20260220T220329Z
UID:10000996-1839058200-1839065400@www.ferniewomenscentre.com
SUMMARY:Parent-Tot Funtimes (Fernie)
DESCRIPTION:Parent-Tot Funtimes is a drop-in program for families with kids aged 0 to 6. It’s all about helping families connect and giving kids a chance to learn early. Every session has toys\, songs and stories\, and a craft or fun activity.
URL:https://www.ferniewomenscentre.com/calendar/parent-tot-funtimes-fernie-2-2/2028-04-11/
LOCATION:Fernie Family Centre\, 521 4th Ave\, Fernie\, BC\, V0B 1M0\, Canada
ORGANIZER;CN="Fernie Women's Resource Certre (Parent-Tot Funtimes)":MAILTO:parenttotfuntimes@gmail.com
END:VEVENT
BEGIN:VEVENT
DTSTART;TZID=America/Vancouver:20280412T093000
DTEND;TZID=America/Vancouver:20280412T113000
DTSTAMP:20260422T073945
CREATED:20250702T160033Z
LAST-MODIFIED:20260220T220251Z
UID:10001257-1839144600-1839151800@www.ferniewomenscentre.com
SUMMARY:Parent-Tot Funtimes (Elkford)
DESCRIPTION:Parent-Tot Funtimes is a drop-in program for families with kids aged 0 to 6. It’s all about helping families connect and giving kids a chance to learn early. Every session has toys\, songs and stories\, and a craft or fun activity.
URL:https://www.ferniewomenscentre.com/calendar/parent-tot-funtimes-elkford-2-2/2028-04-12/
LOCATION:Elkford Alliance Church (in the Basement)\, 1803 Alpine Drive\, Elkford\, BC\, V0B 1H0\, Canada
ORGANIZER;CN="Fernie Women's Resource Certre (Parent-Tot Funtimes)":MAILTO:parenttotfuntimes@gmail.com
END:VEVENT
BEGIN:VEVENT
DTSTART;TZID=America/Vancouver:20280417T093000
DTEND;TZID=America/Vancouver:20280417T113000
DTSTAMP:20260422T073945
CREATED:20251017T162638Z
LAST-MODIFIED:20260220T220213Z
UID:10003803-1839576600-1839583800@www.ferniewomenscentre.com
SUMMARY:Parent-Tot Funtimes (Sparwood)
DESCRIPTION:Parent-Tot Funtimes is a drop-in program for families with kids aged 0 to 6. It’s all about helping families connect and giving kids a chance to learn early. Every session has toys\, songs and stories\, and a craft or fun activity.
URL:https://www.ferniewomenscentre.com/calendar/parent-tot-funtimes-sparwood-5-2-2/2028-04-17/
LOCATION:Sparwood Rec Centre in the Community Hall (above Skating Rink)\, 367 Pine Ave\, Sparwood\, BC\, V0B 2G0\, Canada
ORGANIZER;CN="Fernie Women's Resource Certre (Parent-Tot Funtimes)":MAILTO:parenttotfuntimes@gmail.com
END:VEVENT
BEGIN:VEVENT
DTSTART;TZID=America/Vancouver:20280418T093000
DTEND;TZID=America/Vancouver:20280418T113000
DTSTAMP:20260422T073945
CREATED:20250702T160241Z
LAST-MODIFIED:20260220T220329Z
UID:10000997-1839663000-1839670200@www.ferniewomenscentre.com
SUMMARY:Parent-Tot Funtimes (Fernie)
DESCRIPTION:Parent-Tot Funtimes is a drop-in program for families with kids aged 0 to 6. It’s all about helping families connect and giving kids a chance to learn early. Every session has toys\, songs and stories\, and a craft or fun activity.
URL:https://www.ferniewomenscentre.com/calendar/parent-tot-funtimes-fernie-2-2/2028-04-18/
LOCATION:Fernie Family Centre\, 521 4th Ave\, Fernie\, BC\, V0B 1M0\, Canada
ORGANIZER;CN="Fernie Women's Resource Certre (Parent-Tot Funtimes)":MAILTO:parenttotfuntimes@gmail.com
END:VEVENT
BEGIN:VEVENT
DTSTART;TZID=America/Vancouver:20280419T093000
DTEND;TZID=America/Vancouver:20280419T113000
DTSTAMP:20260422T073945
CREATED:20250702T160033Z
LAST-MODIFIED:20260220T220251Z
UID:10001258-1839749400-1839756600@www.ferniewomenscentre.com
SUMMARY:Parent-Tot Funtimes (Elkford)
DESCRIPTION:Parent-Tot Funtimes is a drop-in program for families with kids aged 0 to 6. It’s all about helping families connect and giving kids a chance to learn early. Every session has toys\, songs and stories\, and a craft or fun activity.
URL:https://www.ferniewomenscentre.com/calendar/parent-tot-funtimes-elkford-2-2/2028-04-19/
LOCATION:Elkford Alliance Church (in the Basement)\, 1803 Alpine Drive\, Elkford\, BC\, V0B 1H0\, Canada
ORGANIZER;CN="Fernie Women's Resource Certre (Parent-Tot Funtimes)":MAILTO:parenttotfuntimes@gmail.com
END:VEVENT
BEGIN:VEVENT
DTSTART;TZID=America/Vancouver:20280424T093000
DTEND;TZID=America/Vancouver:20280424T113000
DTSTAMP:20260422T073945
CREATED:20251017T162638Z
LAST-MODIFIED:20260220T220213Z
UID:10003804-1840181400-1840188600@www.ferniewomenscentre.com
SUMMARY:Parent-Tot Funtimes (Sparwood)
DESCRIPTION:Parent-Tot Funtimes is a drop-in program for families with kids aged 0 to 6. It’s all about helping families connect and giving kids a chance to learn early. Every session has toys\, songs and stories\, and a craft or fun activity.
URL:https://www.ferniewomenscentre.com/calendar/parent-tot-funtimes-sparwood-5-2-2/2028-04-24/
LOCATION:Sparwood Rec Centre in the Community Hall (above Skating Rink)\, 367 Pine Ave\, Sparwood\, BC\, V0B 2G0\, Canada
ORGANIZER;CN="Fernie Women's Resource Certre (Parent-Tot Funtimes)":MAILTO:parenttotfuntimes@gmail.com
END:VEVENT
BEGIN:VEVENT
DTSTART;TZID=America/Vancouver:20280425T093000
DTEND;TZID=America/Vancouver:20280425T113000
DTSTAMP:20260422T073945
CREATED:20250702T160241Z
LAST-MODIFIED:20260220T220329Z
UID:10000998-1840267800-1840275000@www.ferniewomenscentre.com
SUMMARY:Parent-Tot Funtimes (Fernie)
DESCRIPTION:Parent-Tot Funtimes is a drop-in program for families with kids aged 0 to 6. It’s all about helping families connect and giving kids a chance to learn early. Every session has toys\, songs and stories\, and a craft or fun activity.
URL:https://www.ferniewomenscentre.com/calendar/parent-tot-funtimes-fernie-2-2/2028-04-25/
LOCATION:Fernie Family Centre\, 521 4th Ave\, Fernie\, BC\, V0B 1M0\, Canada
ORGANIZER;CN="Fernie Women's Resource Certre (Parent-Tot Funtimes)":MAILTO:parenttotfuntimes@gmail.com
END:VEVENT
BEGIN:VEVENT
DTSTART;TZID=America/Vancouver:20280426T093000
DTEND;TZID=America/Vancouver:20280426T113000
DTSTAMP:20260422T073945
CREATED:20250702T160033Z
LAST-MODIFIED:20260220T220251Z
UID:10001259-1840354200-1840361400@www.ferniewomenscentre.com
SUMMARY:Parent-Tot Funtimes (Elkford)
DESCRIPTION:Parent-Tot Funtimes is a drop-in program for families with kids aged 0 to 6. It’s all about helping families connect and giving kids a chance to learn early. Every session has toys\, songs and stories\, and a craft or fun activity.
URL:https://www.ferniewomenscentre.com/calendar/parent-tot-funtimes-elkford-2-2/2028-04-26/
LOCATION:Elkford Alliance Church (in the Basement)\, 1803 Alpine Drive\, Elkford\, BC\, V0B 1H0\, Canada
ORGANIZER;CN="Fernie Women's Resource Certre (Parent-Tot Funtimes)":MAILTO:parenttotfuntimes@gmail.com
END:VEVENT
BEGIN:VEVENT
DTSTART;TZID=America/Vancouver:20280501T093000
DTEND;TZID=America/Vancouver:20280501T113000
DTSTAMP:20260422T073945
CREATED:20251017T162638Z
LAST-MODIFIED:20260220T220213Z
UID:10003805-1840786200-1840793400@www.ferniewomenscentre.com
SUMMARY:Parent-Tot Funtimes (Sparwood)
DESCRIPTION:Parent-Tot Funtimes is a drop-in program for families with kids aged 0 to 6. It’s all about helping families connect and giving kids a chance to learn early. Every session has toys\, songs and stories\, and a craft or fun activity.
URL:https://www.ferniewomenscentre.com/calendar/parent-tot-funtimes-sparwood-5-2-2/2028-05-01/
LOCATION:Sparwood Rec Centre in the Community Hall (above Skating Rink)\, 367 Pine Ave\, Sparwood\, BC\, V0B 2G0\, Canada
ORGANIZER;CN="Fernie Women's Resource Certre (Parent-Tot Funtimes)":MAILTO:parenttotfuntimes@gmail.com
END:VEVENT
BEGIN:VEVENT
DTSTART;TZID=America/Vancouver:20280502T093000
DTEND;TZID=America/Vancouver:20280502T113000
DTSTAMP:20260422T073945
CREATED:20250702T160241Z
LAST-MODIFIED:20260220T220329Z
UID:10000999-1840872600-1840879800@www.ferniewomenscentre.com
SUMMARY:Parent-Tot Funtimes (Fernie)
DESCRIPTION:Parent-Tot Funtimes is a drop-in program for families with kids aged 0 to 6. It’s all about helping families connect and giving kids a chance to learn early. Every session has toys\, songs and stories\, and a craft or fun activity.
URL:https://www.ferniewomenscentre.com/calendar/parent-tot-funtimes-fernie-2-2/2028-05-02/
LOCATION:Fernie Family Centre\, 521 4th Ave\, Fernie\, BC\, V0B 1M0\, Canada
ORGANIZER;CN="Fernie Women's Resource Certre (Parent-Tot Funtimes)":MAILTO:parenttotfuntimes@gmail.com
END:VEVENT
END:VCALENDAR