BEGIN:VCALENDAR
VERSION:2.0
PRODID:-//Fernie Women&#039;s Resource Centre - ECPv6.15.20//NONSGML v1.0//EN
CALSCALE:GREGORIAN
METHOD:PUBLISH
X-ORIGINAL-URL:https://www.ferniewomenscentre.com
X-WR-CALDESC:Events for Fernie Women&#039;s Resource Centre
REFRESH-INTERVAL;VALUE=DURATION:PT1H
X-Robots-Tag:noindex
X-PUBLISHED-TTL:PT1H
BEGIN:VTIMEZONE
TZID:America/Vancouver
BEGIN:DAYLIGHT
TZOFFSETFROM:-0800
TZOFFSETTO:-0700
TZNAME:PDT
DTSTART:20270314T100000
END:DAYLIGHT
BEGIN:STANDARD
TZOFFSETFROM:-0700
TZOFFSETTO:-0800
TZNAME:PST
DTSTART:20271107T090000
END:STANDARD
BEGIN:DAYLIGHT
TZOFFSETFROM:-0800
TZOFFSETTO:-0700
TZNAME:PDT
DTSTART:20280312T100000
END:DAYLIGHT
BEGIN:STANDARD
TZOFFSETFROM:-0700
TZOFFSETTO:-0800
TZNAME:PST
DTSTART:20281105T090000
END:STANDARD
BEGIN:DAYLIGHT
TZOFFSETFROM:-0800
TZOFFSETTO:-0700
TZNAME:PDT
DTSTART:20290311T100000
END:DAYLIGHT
BEGIN:STANDARD
TZOFFSETFROM:-0700
TZOFFSETTO:-0800
TZNAME:PST
DTSTART:20291104T090000
END:STANDARD
END:VTIMEZONE
BEGIN:VEVENT
DTSTART;TZID=America/Vancouver:20280911T093000
DTEND;TZID=America/Vancouver:20280911T113000
DTSTAMP:20260422T204818
CREATED:20251017T162638Z
LAST-MODIFIED:20260220T220213Z
UID:10003824-1852277400-1852284600@www.ferniewomenscentre.com
SUMMARY:Parent-Tot Funtimes (Sparwood)
DESCRIPTION:Parent-Tot Funtimes is a drop-in program for families with kids aged 0 to 6. It’s all about helping families connect and giving kids a chance to learn early. Every session has toys\, songs and stories\, and a craft or fun activity.
URL:https://www.ferniewomenscentre.com/calendar/parent-tot-funtimes-sparwood-5-2-2/2028-09-11/
LOCATION:Sparwood Rec Centre in the Community Hall (above Skating Rink)\, 367 Pine Ave\, Sparwood\, BC\, V0B 2G0\, Canada
ORGANIZER;CN="Fernie Women's Resource Certre (Parent-Tot Funtimes)":MAILTO:parenttotfuntimes@gmail.com
END:VEVENT
BEGIN:VEVENT
DTSTART;TZID=America/Vancouver:20280912T093000
DTEND;TZID=America/Vancouver:20280912T113000
DTSTAMP:20260422T204818
CREATED:20250702T160241Z
LAST-MODIFIED:20260220T220329Z
UID:10001018-1852363800-1852371000@www.ferniewomenscentre.com
SUMMARY:Parent-Tot Funtimes (Fernie)
DESCRIPTION:Parent-Tot Funtimes is a drop-in program for families with kids aged 0 to 6. It’s all about helping families connect and giving kids a chance to learn early. Every session has toys\, songs and stories\, and a craft or fun activity.
URL:https://www.ferniewomenscentre.com/calendar/parent-tot-funtimes-fernie-2-2/2028-09-12/
LOCATION:Fernie Family Centre\, 521 4th Ave\, Fernie\, BC\, V0B 1M0\, Canada
ORGANIZER;CN="Fernie Women's Resource Certre (Parent-Tot Funtimes)":MAILTO:parenttotfuntimes@gmail.com
END:VEVENT
BEGIN:VEVENT
DTSTART;TZID=America/Vancouver:20280913T093000
DTEND;TZID=America/Vancouver:20280913T113000
DTSTAMP:20260422T204818
CREATED:20250702T160033Z
LAST-MODIFIED:20260220T220251Z
UID:10001279-1852450200-1852457400@www.ferniewomenscentre.com
SUMMARY:Parent-Tot Funtimes (Elkford)
DESCRIPTION:Parent-Tot Funtimes is a drop-in program for families with kids aged 0 to 6. It’s all about helping families connect and giving kids a chance to learn early. Every session has toys\, songs and stories\, and a craft or fun activity.
URL:https://www.ferniewomenscentre.com/calendar/parent-tot-funtimes-elkford-2-2/2028-09-13/
LOCATION:Elkford Alliance Church (in the Basement)\, 1803 Alpine Drive\, Elkford\, BC\, V0B 1H0\, Canada
ORGANIZER;CN="Fernie Women's Resource Certre (Parent-Tot Funtimes)":MAILTO:parenttotfuntimes@gmail.com
END:VEVENT
BEGIN:VEVENT
DTSTART;TZID=America/Vancouver:20280918T093000
DTEND;TZID=America/Vancouver:20280918T113000
DTSTAMP:20260422T204818
CREATED:20251017T162638Z
LAST-MODIFIED:20260220T220213Z
UID:10003825-1852882200-1852889400@www.ferniewomenscentre.com
SUMMARY:Parent-Tot Funtimes (Sparwood)
DESCRIPTION:Parent-Tot Funtimes is a drop-in program for families with kids aged 0 to 6. It’s all about helping families connect and giving kids a chance to learn early. Every session has toys\, songs and stories\, and a craft or fun activity.
URL:https://www.ferniewomenscentre.com/calendar/parent-tot-funtimes-sparwood-5-2-2/2028-09-18/
LOCATION:Sparwood Rec Centre in the Community Hall (above Skating Rink)\, 367 Pine Ave\, Sparwood\, BC\, V0B 2G0\, Canada
ORGANIZER;CN="Fernie Women's Resource Certre (Parent-Tot Funtimes)":MAILTO:parenttotfuntimes@gmail.com
END:VEVENT
BEGIN:VEVENT
DTSTART;TZID=America/Vancouver:20280919T093000
DTEND;TZID=America/Vancouver:20280919T113000
DTSTAMP:20260422T204818
CREATED:20250702T160241Z
LAST-MODIFIED:20260220T220329Z
UID:10001019-1852968600-1852975800@www.ferniewomenscentre.com
SUMMARY:Parent-Tot Funtimes (Fernie)
DESCRIPTION:Parent-Tot Funtimes is a drop-in program for families with kids aged 0 to 6. It’s all about helping families connect and giving kids a chance to learn early. Every session has toys\, songs and stories\, and a craft or fun activity.
URL:https://www.ferniewomenscentre.com/calendar/parent-tot-funtimes-fernie-2-2/2028-09-19/
LOCATION:Fernie Family Centre\, 521 4th Ave\, Fernie\, BC\, V0B 1M0\, Canada
ORGANIZER;CN="Fernie Women's Resource Certre (Parent-Tot Funtimes)":MAILTO:parenttotfuntimes@gmail.com
END:VEVENT
BEGIN:VEVENT
DTSTART;TZID=America/Vancouver:20280920T093000
DTEND;TZID=America/Vancouver:20280920T113000
DTSTAMP:20260422T204818
CREATED:20250702T160033Z
LAST-MODIFIED:20260220T220251Z
UID:10001280-1853055000-1853062200@www.ferniewomenscentre.com
SUMMARY:Parent-Tot Funtimes (Elkford)
DESCRIPTION:Parent-Tot Funtimes is a drop-in program for families with kids aged 0 to 6. It’s all about helping families connect and giving kids a chance to learn early. Every session has toys\, songs and stories\, and a craft or fun activity.
URL:https://www.ferniewomenscentre.com/calendar/parent-tot-funtimes-elkford-2-2/2028-09-20/
LOCATION:Elkford Alliance Church (in the Basement)\, 1803 Alpine Drive\, Elkford\, BC\, V0B 1H0\, Canada
ORGANIZER;CN="Fernie Women's Resource Certre (Parent-Tot Funtimes)":MAILTO:parenttotfuntimes@gmail.com
END:VEVENT
BEGIN:VEVENT
DTSTART;TZID=America/Vancouver:20280925T093000
DTEND;TZID=America/Vancouver:20280925T113000
DTSTAMP:20260422T204818
CREATED:20251017T162638Z
LAST-MODIFIED:20260220T220213Z
UID:10003826-1853487000-1853494200@www.ferniewomenscentre.com
SUMMARY:Parent-Tot Funtimes (Sparwood)
DESCRIPTION:Parent-Tot Funtimes is a drop-in program for families with kids aged 0 to 6. It’s all about helping families connect and giving kids a chance to learn early. Every session has toys\, songs and stories\, and a craft or fun activity.
URL:https://www.ferniewomenscentre.com/calendar/parent-tot-funtimes-sparwood-5-2-2/2028-09-25/
LOCATION:Sparwood Rec Centre in the Community Hall (above Skating Rink)\, 367 Pine Ave\, Sparwood\, BC\, V0B 2G0\, Canada
ORGANIZER;CN="Fernie Women's Resource Certre (Parent-Tot Funtimes)":MAILTO:parenttotfuntimes@gmail.com
END:VEVENT
BEGIN:VEVENT
DTSTART;TZID=America/Vancouver:20280926T093000
DTEND;TZID=America/Vancouver:20280926T113000
DTSTAMP:20260422T204818
CREATED:20250702T160241Z
LAST-MODIFIED:20260220T220329Z
UID:10001020-1853573400-1853580600@www.ferniewomenscentre.com
SUMMARY:Parent-Tot Funtimes (Fernie)
DESCRIPTION:Parent-Tot Funtimes is a drop-in program for families with kids aged 0 to 6. It’s all about helping families connect and giving kids a chance to learn early. Every session has toys\, songs and stories\, and a craft or fun activity.
URL:https://www.ferniewomenscentre.com/calendar/parent-tot-funtimes-fernie-2-2/2028-09-26/
LOCATION:Fernie Family Centre\, 521 4th Ave\, Fernie\, BC\, V0B 1M0\, Canada
ORGANIZER;CN="Fernie Women's Resource Certre (Parent-Tot Funtimes)":MAILTO:parenttotfuntimes@gmail.com
END:VEVENT
BEGIN:VEVENT
DTSTART;TZID=America/Vancouver:20280927T093000
DTEND;TZID=America/Vancouver:20280927T113000
DTSTAMP:20260422T204818
CREATED:20250702T160033Z
LAST-MODIFIED:20260220T220251Z
UID:10001281-1853659800-1853667000@www.ferniewomenscentre.com
SUMMARY:Parent-Tot Funtimes (Elkford)
DESCRIPTION:Parent-Tot Funtimes is a drop-in program for families with kids aged 0 to 6. It’s all about helping families connect and giving kids a chance to learn early. Every session has toys\, songs and stories\, and a craft or fun activity.
URL:https://www.ferniewomenscentre.com/calendar/parent-tot-funtimes-elkford-2-2/2028-09-27/
LOCATION:Elkford Alliance Church (in the Basement)\, 1803 Alpine Drive\, Elkford\, BC\, V0B 1H0\, Canada
ORGANIZER;CN="Fernie Women's Resource Certre (Parent-Tot Funtimes)":MAILTO:parenttotfuntimes@gmail.com
END:VEVENT
BEGIN:VEVENT
DTSTART;TZID=America/Vancouver:20281002T093000
DTEND;TZID=America/Vancouver:20281002T113000
DTSTAMP:20260422T204818
CREATED:20251017T162638Z
LAST-MODIFIED:20260220T220213Z
UID:10003827-1854091800-1854099000@www.ferniewomenscentre.com
SUMMARY:Parent-Tot Funtimes (Sparwood)
DESCRIPTION:Parent-Tot Funtimes is a drop-in program for families with kids aged 0 to 6. It’s all about helping families connect and giving kids a chance to learn early. Every session has toys\, songs and stories\, and a craft or fun activity.
URL:https://www.ferniewomenscentre.com/calendar/parent-tot-funtimes-sparwood-5-2-2/2028-10-02/
LOCATION:Sparwood Rec Centre in the Community Hall (above Skating Rink)\, 367 Pine Ave\, Sparwood\, BC\, V0B 2G0\, Canada
ORGANIZER;CN="Fernie Women's Resource Certre (Parent-Tot Funtimes)":MAILTO:parenttotfuntimes@gmail.com
END:VEVENT
BEGIN:VEVENT
DTSTART;TZID=America/Vancouver:20281003T093000
DTEND;TZID=America/Vancouver:20281003T113000
DTSTAMP:20260422T204818
CREATED:20250702T160241Z
LAST-MODIFIED:20260220T220329Z
UID:10001021-1854178200-1854185400@www.ferniewomenscentre.com
SUMMARY:Parent-Tot Funtimes (Fernie)
DESCRIPTION:Parent-Tot Funtimes is a drop-in program for families with kids aged 0 to 6. It’s all about helping families connect and giving kids a chance to learn early. Every session has toys\, songs and stories\, and a craft or fun activity.
URL:https://www.ferniewomenscentre.com/calendar/parent-tot-funtimes-fernie-2-2/2028-10-03/
LOCATION:Fernie Family Centre\, 521 4th Ave\, Fernie\, BC\, V0B 1M0\, Canada
ORGANIZER;CN="Fernie Women's Resource Certre (Parent-Tot Funtimes)":MAILTO:parenttotfuntimes@gmail.com
END:VEVENT
BEGIN:VEVENT
DTSTART;TZID=America/Vancouver:20281004T093000
DTEND;TZID=America/Vancouver:20281004T113000
DTSTAMP:20260422T204818
CREATED:20250702T160033Z
LAST-MODIFIED:20260220T220251Z
UID:10001282-1854264600-1854271800@www.ferniewomenscentre.com
SUMMARY:Parent-Tot Funtimes (Elkford)
DESCRIPTION:Parent-Tot Funtimes is a drop-in program for families with kids aged 0 to 6. It’s all about helping families connect and giving kids a chance to learn early. Every session has toys\, songs and stories\, and a craft or fun activity.
URL:https://www.ferniewomenscentre.com/calendar/parent-tot-funtimes-elkford-2-2/2028-10-04/
LOCATION:Elkford Alliance Church (in the Basement)\, 1803 Alpine Drive\, Elkford\, BC\, V0B 1H0\, Canada
ORGANIZER;CN="Fernie Women's Resource Certre (Parent-Tot Funtimes)":MAILTO:parenttotfuntimes@gmail.com
END:VEVENT
BEGIN:VEVENT
DTSTART;TZID=America/Vancouver:20281009T093000
DTEND;TZID=America/Vancouver:20281009T113000
DTSTAMP:20260422T204818
CREATED:20251017T162638Z
LAST-MODIFIED:20260220T220213Z
UID:10003828-1854696600-1854703800@www.ferniewomenscentre.com
SUMMARY:Parent-Tot Funtimes (Sparwood)
DESCRIPTION:Parent-Tot Funtimes is a drop-in program for families with kids aged 0 to 6. It’s all about helping families connect and giving kids a chance to learn early. Every session has toys\, songs and stories\, and a craft or fun activity.
URL:https://www.ferniewomenscentre.com/calendar/parent-tot-funtimes-sparwood-5-2-2/2028-10-09/
LOCATION:Sparwood Rec Centre in the Community Hall (above Skating Rink)\, 367 Pine Ave\, Sparwood\, BC\, V0B 2G0\, Canada
ORGANIZER;CN="Fernie Women's Resource Certre (Parent-Tot Funtimes)":MAILTO:parenttotfuntimes@gmail.com
END:VEVENT
BEGIN:VEVENT
DTSTART;TZID=America/Vancouver:20281010T093000
DTEND;TZID=America/Vancouver:20281010T113000
DTSTAMP:20260422T204818
CREATED:20250702T160241Z
LAST-MODIFIED:20260220T220329Z
UID:10001022-1854783000-1854790200@www.ferniewomenscentre.com
SUMMARY:Parent-Tot Funtimes (Fernie)
DESCRIPTION:Parent-Tot Funtimes is a drop-in program for families with kids aged 0 to 6. It’s all about helping families connect and giving kids a chance to learn early. Every session has toys\, songs and stories\, and a craft or fun activity.
URL:https://www.ferniewomenscentre.com/calendar/parent-tot-funtimes-fernie-2-2/2028-10-10/
LOCATION:Fernie Family Centre\, 521 4th Ave\, Fernie\, BC\, V0B 1M0\, Canada
ORGANIZER;CN="Fernie Women's Resource Certre (Parent-Tot Funtimes)":MAILTO:parenttotfuntimes@gmail.com
END:VEVENT
BEGIN:VEVENT
DTSTART;TZID=America/Vancouver:20281011T093000
DTEND;TZID=America/Vancouver:20281011T113000
DTSTAMP:20260422T204818
CREATED:20250702T160033Z
LAST-MODIFIED:20260220T220251Z
UID:10001283-1854869400-1854876600@www.ferniewomenscentre.com
SUMMARY:Parent-Tot Funtimes (Elkford)
DESCRIPTION:Parent-Tot Funtimes is a drop-in program for families with kids aged 0 to 6. It’s all about helping families connect and giving kids a chance to learn early. Every session has toys\, songs and stories\, and a craft or fun activity.
URL:https://www.ferniewomenscentre.com/calendar/parent-tot-funtimes-elkford-2-2/2028-10-11/
LOCATION:Elkford Alliance Church (in the Basement)\, 1803 Alpine Drive\, Elkford\, BC\, V0B 1H0\, Canada
ORGANIZER;CN="Fernie Women's Resource Certre (Parent-Tot Funtimes)":MAILTO:parenttotfuntimes@gmail.com
END:VEVENT
BEGIN:VEVENT
DTSTART;TZID=America/Vancouver:20281016T093000
DTEND;TZID=America/Vancouver:20281016T113000
DTSTAMP:20260422T204818
CREATED:20251017T162638Z
LAST-MODIFIED:20260220T220213Z
UID:10003829-1855301400-1855308600@www.ferniewomenscentre.com
SUMMARY:Parent-Tot Funtimes (Sparwood)
DESCRIPTION:Parent-Tot Funtimes is a drop-in program for families with kids aged 0 to 6. It’s all about helping families connect and giving kids a chance to learn early. Every session has toys\, songs and stories\, and a craft or fun activity.
URL:https://www.ferniewomenscentre.com/calendar/parent-tot-funtimes-sparwood-5-2-2/2028-10-16/
LOCATION:Sparwood Rec Centre in the Community Hall (above Skating Rink)\, 367 Pine Ave\, Sparwood\, BC\, V0B 2G0\, Canada
ORGANIZER;CN="Fernie Women's Resource Certre (Parent-Tot Funtimes)":MAILTO:parenttotfuntimes@gmail.com
END:VEVENT
BEGIN:VEVENT
DTSTART;TZID=America/Vancouver:20281017T093000
DTEND;TZID=America/Vancouver:20281017T113000
DTSTAMP:20260422T204818
CREATED:20250702T160241Z
LAST-MODIFIED:20260220T220329Z
UID:10001023-1855387800-1855395000@www.ferniewomenscentre.com
SUMMARY:Parent-Tot Funtimes (Fernie)
DESCRIPTION:Parent-Tot Funtimes is a drop-in program for families with kids aged 0 to 6. It’s all about helping families connect and giving kids a chance to learn early. Every session has toys\, songs and stories\, and a craft or fun activity.
URL:https://www.ferniewomenscentre.com/calendar/parent-tot-funtimes-fernie-2-2/2028-10-17/
LOCATION:Fernie Family Centre\, 521 4th Ave\, Fernie\, BC\, V0B 1M0\, Canada
ORGANIZER;CN="Fernie Women's Resource Certre (Parent-Tot Funtimes)":MAILTO:parenttotfuntimes@gmail.com
END:VEVENT
BEGIN:VEVENT
DTSTART;TZID=America/Vancouver:20281018T093000
DTEND;TZID=America/Vancouver:20281018T113000
DTSTAMP:20260422T204818
CREATED:20250702T160033Z
LAST-MODIFIED:20260220T220251Z
UID:10001284-1855474200-1855481400@www.ferniewomenscentre.com
SUMMARY:Parent-Tot Funtimes (Elkford)
DESCRIPTION:Parent-Tot Funtimes is a drop-in program for families with kids aged 0 to 6. It’s all about helping families connect and giving kids a chance to learn early. Every session has toys\, songs and stories\, and a craft or fun activity.
URL:https://www.ferniewomenscentre.com/calendar/parent-tot-funtimes-elkford-2-2/2028-10-18/
LOCATION:Elkford Alliance Church (in the Basement)\, 1803 Alpine Drive\, Elkford\, BC\, V0B 1H0\, Canada
ORGANIZER;CN="Fernie Women's Resource Certre (Parent-Tot Funtimes)":MAILTO:parenttotfuntimes@gmail.com
END:VEVENT
BEGIN:VEVENT
DTSTART;TZID=America/Vancouver:20281023T093000
DTEND;TZID=America/Vancouver:20281023T113000
DTSTAMP:20260422T204818
CREATED:20251017T162638Z
LAST-MODIFIED:20260220T220213Z
UID:10003830-1855906200-1855913400@www.ferniewomenscentre.com
SUMMARY:Parent-Tot Funtimes (Sparwood)
DESCRIPTION:Parent-Tot Funtimes is a drop-in program for families with kids aged 0 to 6. It’s all about helping families connect and giving kids a chance to learn early. Every session has toys\, songs and stories\, and a craft or fun activity.
URL:https://www.ferniewomenscentre.com/calendar/parent-tot-funtimes-sparwood-5-2-2/2028-10-23/
LOCATION:Sparwood Rec Centre in the Community Hall (above Skating Rink)\, 367 Pine Ave\, Sparwood\, BC\, V0B 2G0\, Canada
ORGANIZER;CN="Fernie Women's Resource Certre (Parent-Tot Funtimes)":MAILTO:parenttotfuntimes@gmail.com
END:VEVENT
BEGIN:VEVENT
DTSTART;TZID=America/Vancouver:20281024T093000
DTEND;TZID=America/Vancouver:20281024T113000
DTSTAMP:20260422T204818
CREATED:20250702T160241Z
LAST-MODIFIED:20260220T220329Z
UID:10001024-1855992600-1855999800@www.ferniewomenscentre.com
SUMMARY:Parent-Tot Funtimes (Fernie)
DESCRIPTION:Parent-Tot Funtimes is a drop-in program for families with kids aged 0 to 6. It’s all about helping families connect and giving kids a chance to learn early. Every session has toys\, songs and stories\, and a craft or fun activity.
URL:https://www.ferniewomenscentre.com/calendar/parent-tot-funtimes-fernie-2-2/2028-10-24/
LOCATION:Fernie Family Centre\, 521 4th Ave\, Fernie\, BC\, V0B 1M0\, Canada
ORGANIZER;CN="Fernie Women's Resource Certre (Parent-Tot Funtimes)":MAILTO:parenttotfuntimes@gmail.com
END:VEVENT
BEGIN:VEVENT
DTSTART;TZID=America/Vancouver:20281025T093000
DTEND;TZID=America/Vancouver:20281025T113000
DTSTAMP:20260422T204818
CREATED:20250702T160033Z
LAST-MODIFIED:20260220T220251Z
UID:10001285-1856079000-1856086200@www.ferniewomenscentre.com
SUMMARY:Parent-Tot Funtimes (Elkford)
DESCRIPTION:Parent-Tot Funtimes is a drop-in program for families with kids aged 0 to 6. It’s all about helping families connect and giving kids a chance to learn early. Every session has toys\, songs and stories\, and a craft or fun activity.
URL:https://www.ferniewomenscentre.com/calendar/parent-tot-funtimes-elkford-2-2/2028-10-25/
LOCATION:Elkford Alliance Church (in the Basement)\, 1803 Alpine Drive\, Elkford\, BC\, V0B 1H0\, Canada
ORGANIZER;CN="Fernie Women's Resource Certre (Parent-Tot Funtimes)":MAILTO:parenttotfuntimes@gmail.com
END:VEVENT
BEGIN:VEVENT
DTSTART;TZID=America/Vancouver:20281030T093000
DTEND;TZID=America/Vancouver:20281030T113000
DTSTAMP:20260422T204818
CREATED:20251017T162638Z
LAST-MODIFIED:20260220T220213Z
UID:10003831-1856511000-1856518200@www.ferniewomenscentre.com
SUMMARY:Parent-Tot Funtimes (Sparwood)
DESCRIPTION:Parent-Tot Funtimes is a drop-in program for families with kids aged 0 to 6. It’s all about helping families connect and giving kids a chance to learn early. Every session has toys\, songs and stories\, and a craft or fun activity.
URL:https://www.ferniewomenscentre.com/calendar/parent-tot-funtimes-sparwood-5-2-2/2028-10-30/
LOCATION:Sparwood Rec Centre in the Community Hall (above Skating Rink)\, 367 Pine Ave\, Sparwood\, BC\, V0B 2G0\, Canada
ORGANIZER;CN="Fernie Women's Resource Certre (Parent-Tot Funtimes)":MAILTO:parenttotfuntimes@gmail.com
END:VEVENT
BEGIN:VEVENT
DTSTART;TZID=America/Vancouver:20281031T093000
DTEND;TZID=America/Vancouver:20281031T113000
DTSTAMP:20260422T204818
CREATED:20250702T160241Z
LAST-MODIFIED:20260220T220329Z
UID:10001025-1856597400-1856604600@www.ferniewomenscentre.com
SUMMARY:Parent-Tot Funtimes (Fernie)
DESCRIPTION:Parent-Tot Funtimes is a drop-in program for families with kids aged 0 to 6. It’s all about helping families connect and giving kids a chance to learn early. Every session has toys\, songs and stories\, and a craft or fun activity.
URL:https://www.ferniewomenscentre.com/calendar/parent-tot-funtimes-fernie-2-2/2028-10-31/
LOCATION:Fernie Family Centre\, 521 4th Ave\, Fernie\, BC\, V0B 1M0\, Canada
ORGANIZER;CN="Fernie Women's Resource Certre (Parent-Tot Funtimes)":MAILTO:parenttotfuntimes@gmail.com
END:VEVENT
BEGIN:VEVENT
DTSTART;TZID=America/Vancouver:20281101T093000
DTEND;TZID=America/Vancouver:20281101T113000
DTSTAMP:20260422T204818
CREATED:20250702T160033Z
LAST-MODIFIED:20260220T220251Z
UID:10001286-1856683800-1856691000@www.ferniewomenscentre.com
SUMMARY:Parent-Tot Funtimes (Elkford)
DESCRIPTION:Parent-Tot Funtimes is a drop-in program for families with kids aged 0 to 6. It’s all about helping families connect and giving kids a chance to learn early. Every session has toys\, songs and stories\, and a craft or fun activity.
URL:https://www.ferniewomenscentre.com/calendar/parent-tot-funtimes-elkford-2-2/2028-11-01/
LOCATION:Elkford Alliance Church (in the Basement)\, 1803 Alpine Drive\, Elkford\, BC\, V0B 1H0\, Canada
ORGANIZER;CN="Fernie Women's Resource Certre (Parent-Tot Funtimes)":MAILTO:parenttotfuntimes@gmail.com
END:VEVENT
BEGIN:VEVENT
DTSTART;TZID=America/Vancouver:20281106T093000
DTEND;TZID=America/Vancouver:20281106T113000
DTSTAMP:20260422T204818
CREATED:20251017T162638Z
LAST-MODIFIED:20260220T220213Z
UID:10003832-1857115800-1857123000@www.ferniewomenscentre.com
SUMMARY:Parent-Tot Funtimes (Sparwood)
DESCRIPTION:Parent-Tot Funtimes is a drop-in program for families with kids aged 0 to 6. It’s all about helping families connect and giving kids a chance to learn early. Every session has toys\, songs and stories\, and a craft or fun activity.
URL:https://www.ferniewomenscentre.com/calendar/parent-tot-funtimes-sparwood-5-2-2/2028-11-06/
LOCATION:Sparwood Rec Centre in the Community Hall (above Skating Rink)\, 367 Pine Ave\, Sparwood\, BC\, V0B 2G0\, Canada
ORGANIZER;CN="Fernie Women's Resource Certre (Parent-Tot Funtimes)":MAILTO:parenttotfuntimes@gmail.com
END:VEVENT
BEGIN:VEVENT
DTSTART;TZID=America/Vancouver:20281107T093000
DTEND;TZID=America/Vancouver:20281107T113000
DTSTAMP:20260422T204818
CREATED:20250702T160241Z
LAST-MODIFIED:20260220T220329Z
UID:10001026-1857202200-1857209400@www.ferniewomenscentre.com
SUMMARY:Parent-Tot Funtimes (Fernie)
DESCRIPTION:Parent-Tot Funtimes is a drop-in program for families with kids aged 0 to 6. It’s all about helping families connect and giving kids a chance to learn early. Every session has toys\, songs and stories\, and a craft or fun activity.
URL:https://www.ferniewomenscentre.com/calendar/parent-tot-funtimes-fernie-2-2/2028-11-07/
LOCATION:Fernie Family Centre\, 521 4th Ave\, Fernie\, BC\, V0B 1M0\, Canada
ORGANIZER;CN="Fernie Women's Resource Certre (Parent-Tot Funtimes)":MAILTO:parenttotfuntimes@gmail.com
END:VEVENT
BEGIN:VEVENT
DTSTART;TZID=America/Vancouver:20281108T093000
DTEND;TZID=America/Vancouver:20281108T113000
DTSTAMP:20260422T204818
CREATED:20250702T160033Z
LAST-MODIFIED:20260220T220251Z
UID:10001287-1857288600-1857295800@www.ferniewomenscentre.com
SUMMARY:Parent-Tot Funtimes (Elkford)
DESCRIPTION:Parent-Tot Funtimes is a drop-in program for families with kids aged 0 to 6. It’s all about helping families connect and giving kids a chance to learn early. Every session has toys\, songs and stories\, and a craft or fun activity.
URL:https://www.ferniewomenscentre.com/calendar/parent-tot-funtimes-elkford-2-2/2028-11-08/
LOCATION:Elkford Alliance Church (in the Basement)\, 1803 Alpine Drive\, Elkford\, BC\, V0B 1H0\, Canada
ORGANIZER;CN="Fernie Women's Resource Certre (Parent-Tot Funtimes)":MAILTO:parenttotfuntimes@gmail.com
END:VEVENT
BEGIN:VEVENT
DTSTART;TZID=America/Vancouver:20281113T093000
DTEND;TZID=America/Vancouver:20281113T113000
DTSTAMP:20260422T204818
CREATED:20251017T162638Z
LAST-MODIFIED:20260220T220213Z
UID:10003833-1857720600-1857727800@www.ferniewomenscentre.com
SUMMARY:Parent-Tot Funtimes (Sparwood)
DESCRIPTION:Parent-Tot Funtimes is a drop-in program for families with kids aged 0 to 6. It’s all about helping families connect and giving kids a chance to learn early. Every session has toys\, songs and stories\, and a craft or fun activity.
URL:https://www.ferniewomenscentre.com/calendar/parent-tot-funtimes-sparwood-5-2-2/2028-11-13/
LOCATION:Sparwood Rec Centre in the Community Hall (above Skating Rink)\, 367 Pine Ave\, Sparwood\, BC\, V0B 2G0\, Canada
ORGANIZER;CN="Fernie Women's Resource Certre (Parent-Tot Funtimes)":MAILTO:parenttotfuntimes@gmail.com
END:VEVENT
BEGIN:VEVENT
DTSTART;TZID=America/Vancouver:20281114T093000
DTEND;TZID=America/Vancouver:20281114T113000
DTSTAMP:20260422T204818
CREATED:20250702T160241Z
LAST-MODIFIED:20260220T220329Z
UID:10001027-1857807000-1857814200@www.ferniewomenscentre.com
SUMMARY:Parent-Tot Funtimes (Fernie)
DESCRIPTION:Parent-Tot Funtimes is a drop-in program for families with kids aged 0 to 6. It’s all about helping families connect and giving kids a chance to learn early. Every session has toys\, songs and stories\, and a craft or fun activity.
URL:https://www.ferniewomenscentre.com/calendar/parent-tot-funtimes-fernie-2-2/2028-11-14/
LOCATION:Fernie Family Centre\, 521 4th Ave\, Fernie\, BC\, V0B 1M0\, Canada
ORGANIZER;CN="Fernie Women's Resource Certre (Parent-Tot Funtimes)":MAILTO:parenttotfuntimes@gmail.com
END:VEVENT
BEGIN:VEVENT
DTSTART;TZID=America/Vancouver:20281115T093000
DTEND;TZID=America/Vancouver:20281115T113000
DTSTAMP:20260422T204818
CREATED:20250702T160033Z
LAST-MODIFIED:20260220T220251Z
UID:10001288-1857893400-1857900600@www.ferniewomenscentre.com
SUMMARY:Parent-Tot Funtimes (Elkford)
DESCRIPTION:Parent-Tot Funtimes is a drop-in program for families with kids aged 0 to 6. It’s all about helping families connect and giving kids a chance to learn early. Every session has toys\, songs and stories\, and a craft or fun activity.
URL:https://www.ferniewomenscentre.com/calendar/parent-tot-funtimes-elkford-2-2/2028-11-15/
LOCATION:Elkford Alliance Church (in the Basement)\, 1803 Alpine Drive\, Elkford\, BC\, V0B 1H0\, Canada
ORGANIZER;CN="Fernie Women's Resource Certre (Parent-Tot Funtimes)":MAILTO:parenttotfuntimes@gmail.com
END:VEVENT
END:VCALENDAR