BEGIN:VCALENDAR
VERSION:2.0
PRODID:-//Fernie Women&#039;s Resource Centre - ECPv6.15.20//NONSGML v1.0//EN
CALSCALE:GREGORIAN
METHOD:PUBLISH
X-ORIGINAL-URL:https://www.ferniewomenscentre.com
X-WR-CALDESC:Events for Fernie Women&#039;s Resource Centre
REFRESH-INTERVAL;VALUE=DURATION:PT1H
X-Robots-Tag:noindex
X-PUBLISHED-TTL:PT1H
BEGIN:VTIMEZONE
TZID:America/Vancouver
BEGIN:DAYLIGHT
TZOFFSETFROM:-0800
TZOFFSETTO:-0700
TZNAME:PDT
DTSTART:20240310T100000
END:DAYLIGHT
BEGIN:STANDARD
TZOFFSETFROM:-0700
TZOFFSETTO:-0800
TZNAME:PST
DTSTART:20241103T090000
END:STANDARD
BEGIN:DAYLIGHT
TZOFFSETFROM:-0800
TZOFFSETTO:-0700
TZNAME:PDT
DTSTART:20250309T100000
END:DAYLIGHT
BEGIN:STANDARD
TZOFFSETFROM:-0700
TZOFFSETTO:-0800
TZNAME:PST
DTSTART:20251102T090000
END:STANDARD
BEGIN:DAYLIGHT
TZOFFSETFROM:-0800
TZOFFSETTO:-0700
TZNAME:PDT
DTSTART:20260308T100000
END:DAYLIGHT
BEGIN:STANDARD
TZOFFSETFROM:-0700
TZOFFSETTO:-0800
TZNAME:PST
DTSTART:20261101T090000
END:STANDARD
BEGIN:DAYLIGHT
TZOFFSETFROM:-0800
TZOFFSETTO:-0700
TZNAME:PDT
DTSTART:20270314T100000
END:DAYLIGHT
BEGIN:STANDARD
TZOFFSETFROM:-0700
TZOFFSETTO:-0800
TZNAME:PST
DTSTART:20271107T090000
END:STANDARD
END:VTIMEZONE
BEGIN:VEVENT
DTSTART;TZID=America/Vancouver:20260105T153000
DTEND;TZID=America/Vancouver:20260105T170000
DTSTAMP:20260421T065411
CREATED:20251017T163739Z
LAST-MODIFIED:20260223T160428Z
UID:10003944-1767627000-1767632400@www.ferniewomenscentre.com
SUMMARY:Parent Connections
DESCRIPTION:The Parent Connections program is a free\, drop-in place for parents to meet\, learn from each  other’s experiences\, gain a better understanding of positive parenting strategies\, and build long lasting friendships. Each week parents will engage in a fun activity while sharing and discussing a new parenting topic. \nMondays from 3:30 – 5 PM in a NEW LOCATION\, at the Strong Start room (last portable) of Ecole Isabelle Dickens Elementary School. \nChild minding will be available to give parents open space for discussions. Snacks and warm beverages will be provided!
URL:https://www.ferniewomenscentre.com/calendar/parent-connections-2-2-2/2026-01-05/
LOCATION:Ecole Isabelle Dickens Elementary School\, 1301 2 Ave\, Fernie\, BC\, V0B 1M0\, Canada
END:VEVENT
BEGIN:VEVENT
DTSTART;TZID=America/Vancouver:20251215T153000
DTEND;TZID=America/Vancouver:20251215T170000
DTSTAMP:20260421T065411
CREATED:20251017T163739Z
LAST-MODIFIED:20260223T160428Z
UID:10003941-1765812600-1765818000@www.ferniewomenscentre.com
SUMMARY:Parent Connections
DESCRIPTION:The Parent Connections program is a free\, drop-in place for parents to meet\, learn from each  other’s experiences\, gain a better understanding of positive parenting strategies\, and build long lasting friendships. Each week parents will engage in a fun activity while sharing and discussing a new parenting topic. \nMondays from 3:30 – 5 PM in a NEW LOCATION\, at the Strong Start room (last portable) of Ecole Isabelle Dickens Elementary School. \nChild minding will be available to give parents open space for discussions. Snacks and warm beverages will be provided!
URL:https://www.ferniewomenscentre.com/calendar/parent-connections-2-2-2/2025-12-15/
LOCATION:Ecole Isabelle Dickens Elementary School\, 1301 2 Ave\, Fernie\, BC\, V0B 1M0\, Canada
END:VEVENT
BEGIN:VEVENT
DTSTART;TZID=America/Vancouver:20251208T153000
DTEND;TZID=America/Vancouver:20251208T170000
DTSTAMP:20260421T065411
CREATED:20251017T163739Z
LAST-MODIFIED:20260223T160428Z
UID:10003940-1765207800-1765213200@www.ferniewomenscentre.com
SUMMARY:Parent Connections
DESCRIPTION:The Parent Connections program is a free\, drop-in place for parents to meet\, learn from each  other’s experiences\, gain a better understanding of positive parenting strategies\, and build long lasting friendships. Each week parents will engage in a fun activity while sharing and discussing a new parenting topic. \nMondays from 3:30 – 5 PM in a NEW LOCATION\, at the Strong Start room (last portable) of Ecole Isabelle Dickens Elementary School. \nChild minding will be available to give parents open space for discussions. Snacks and warm beverages will be provided!
URL:https://www.ferniewomenscentre.com/calendar/parent-connections-2-2-2/2025-12-08/
LOCATION:Ecole Isabelle Dickens Elementary School\, 1301 2 Ave\, Fernie\, BC\, V0B 1M0\, Canada
END:VEVENT
BEGIN:VEVENT
DTSTART;TZID=America/Vancouver:20251201T153000
DTEND;TZID=America/Vancouver:20251201T170000
DTSTAMP:20260421T065411
CREATED:20251017T163739Z
LAST-MODIFIED:20260223T160428Z
UID:10003939-1764603000-1764608400@www.ferniewomenscentre.com
SUMMARY:Parent Connections
DESCRIPTION:The Parent Connections program is a free\, drop-in place for parents to meet\, learn from each  other’s experiences\, gain a better understanding of positive parenting strategies\, and build long lasting friendships. Each week parents will engage in a fun activity while sharing and discussing a new parenting topic. \nMondays from 3:30 – 5 PM in a NEW LOCATION\, at the Strong Start room (last portable) of Ecole Isabelle Dickens Elementary School. \nChild minding will be available to give parents open space for discussions. Snacks and warm beverages will be provided!
URL:https://www.ferniewomenscentre.com/calendar/parent-connections-2-2-2/2025-12-01/
LOCATION:Ecole Isabelle Dickens Elementary School\, 1301 2 Ave\, Fernie\, BC\, V0B 1M0\, Canada
END:VEVENT
BEGIN:VEVENT
DTSTART;TZID=America/Vancouver:20251124T153000
DTEND;TZID=America/Vancouver:20251124T170000
DTSTAMP:20260421T065411
CREATED:20251017T163739Z
LAST-MODIFIED:20260223T160428Z
UID:10003938-1763998200-1764003600@www.ferniewomenscentre.com
SUMMARY:Parent Connections
DESCRIPTION:The Parent Connections program is a free\, drop-in place for parents to meet\, learn from each  other’s experiences\, gain a better understanding of positive parenting strategies\, and build long lasting friendships. Each week parents will engage in a fun activity while sharing and discussing a new parenting topic. \nMondays from 3:30 – 5 PM in a NEW LOCATION\, at the Strong Start room (last portable) of Ecole Isabelle Dickens Elementary School. \nChild minding will be available to give parents open space for discussions. Snacks and warm beverages will be provided!
URL:https://www.ferniewomenscentre.com/calendar/parent-connections-2-2-2/2025-11-24/
LOCATION:Ecole Isabelle Dickens Elementary School\, 1301 2 Ave\, Fernie\, BC\, V0B 1M0\, Canada
END:VEVENT
BEGIN:VEVENT
DTSTART;TZID=America/Vancouver:20251117T153000
DTEND;TZID=America/Vancouver:20251117T170000
DTSTAMP:20260421T065411
CREATED:20251017T163739Z
LAST-MODIFIED:20260223T160428Z
UID:10003937-1763393400-1763398800@www.ferniewomenscentre.com
SUMMARY:Parent Connections
DESCRIPTION:The Parent Connections program is a free\, drop-in place for parents to meet\, learn from each  other’s experiences\, gain a better understanding of positive parenting strategies\, and build long lasting friendships. Each week parents will engage in a fun activity while sharing and discussing a new parenting topic. \nMondays from 3:30 – 5 PM in a NEW LOCATION\, at the Strong Start room (last portable) of Ecole Isabelle Dickens Elementary School. \nChild minding will be available to give parents open space for discussions. Snacks and warm beverages will be provided!
URL:https://www.ferniewomenscentre.com/calendar/parent-connections-2-2-2/2025-11-17/
LOCATION:Ecole Isabelle Dickens Elementary School\, 1301 2 Ave\, Fernie\, BC\, V0B 1M0\, Canada
END:VEVENT
BEGIN:VEVENT
DTSTART;TZID=America/Vancouver:20251110T153000
DTEND;TZID=America/Vancouver:20251110T170000
DTSTAMP:20260421T065411
CREATED:20251017T163739Z
LAST-MODIFIED:20260223T160428Z
UID:10003936-1762788600-1762794000@www.ferniewomenscentre.com
SUMMARY:Parent Connections
DESCRIPTION:The Parent Connections program is a free\, drop-in place for parents to meet\, learn from each  other’s experiences\, gain a better understanding of positive parenting strategies\, and build long lasting friendships. Each week parents will engage in a fun activity while sharing and discussing a new parenting topic. \nMondays from 3:30 – 5 PM in a NEW LOCATION\, at the Strong Start room (last portable) of Ecole Isabelle Dickens Elementary School. \nChild minding will be available to give parents open space for discussions. Snacks and warm beverages will be provided!
URL:https://www.ferniewomenscentre.com/calendar/parent-connections-2-2-2/2025-11-10/
LOCATION:Ecole Isabelle Dickens Elementary School\, 1301 2 Ave\, Fernie\, BC\, V0B 1M0\, Canada
END:VEVENT
BEGIN:VEVENT
DTSTART;TZID=America/Vancouver:20251103T153000
DTEND;TZID=America/Vancouver:20251103T170000
DTSTAMP:20260421T065411
CREATED:20251017T163739Z
LAST-MODIFIED:20260223T160428Z
UID:10003935-1762183800-1762189200@www.ferniewomenscentre.com
SUMMARY:Parent Connections
DESCRIPTION:The Parent Connections program is a free\, drop-in place for parents to meet\, learn from each  other’s experiences\, gain a better understanding of positive parenting strategies\, and build long lasting friendships. Each week parents will engage in a fun activity while sharing and discussing a new parenting topic. \nMondays from 3:30 – 5 PM in a NEW LOCATION\, at the Strong Start room (last portable) of Ecole Isabelle Dickens Elementary School. \nChild minding will be available to give parents open space for discussions. Snacks and warm beverages will be provided!
URL:https://www.ferniewomenscentre.com/calendar/parent-connections-2-2-2/2025-11-03/
LOCATION:Ecole Isabelle Dickens Elementary School\, 1301 2 Ave\, Fernie\, BC\, V0B 1M0\, Canada
END:VEVENT
BEGIN:VEVENT
DTSTART;TZID=America/Vancouver:20251027T153000
DTEND;TZID=America/Vancouver:20251027T170000
DTSTAMP:20260421T065411
CREATED:20251017T163739Z
LAST-MODIFIED:20260223T160428Z
UID:10003934-1761579000-1761584400@www.ferniewomenscentre.com
SUMMARY:Parent Connections
DESCRIPTION:The Parent Connections program is a free\, drop-in place for parents to meet\, learn from each  other’s experiences\, gain a better understanding of positive parenting strategies\, and build long lasting friendships. Each week parents will engage in a fun activity while sharing and discussing a new parenting topic. \nMondays from 3:30 – 5 PM in a NEW LOCATION\, at the Strong Start room (last portable) of Ecole Isabelle Dickens Elementary School. \nChild minding will be available to give parents open space for discussions. Snacks and warm beverages will be provided!
URL:https://www.ferniewomenscentre.com/calendar/parent-connections-2-2-2/2025-10-27/
LOCATION:Ecole Isabelle Dickens Elementary School\, 1301 2 Ave\, Fernie\, BC\, V0B 1M0\, Canada
END:VEVENT
BEGIN:VEVENT
DTSTART;TZID=America/Vancouver:20251020T153000
DTEND;TZID=America/Vancouver:20251020T170000
DTSTAMP:20260421T065411
CREATED:20251017T163739Z
LAST-MODIFIED:20260223T160428Z
UID:10002403-1760974200-1760979600@www.ferniewomenscentre.com
SUMMARY:Parent Connections
DESCRIPTION:The Parent Connections program is a free\, drop-in place for parents to meet\, learn from each  other’s experiences\, gain a better understanding of positive parenting strategies\, and build long lasting friendships. Each week parents will engage in a fun activity while sharing and discussing a new parenting topic. \nMondays from 3:30 – 5 PM in a NEW LOCATION\, at the Strong Start room (last portable) of Ecole Isabelle Dickens Elementary School. \nChild minding will be available to give parents open space for discussions. Snacks and warm beverages will be provided!
URL:https://www.ferniewomenscentre.com/calendar/parent-connections-2-2-2/2025-10-20/
LOCATION:Ecole Isabelle Dickens Elementary School\, 1301 2 Ave\, Fernie\, BC\, V0B 1M0\, Canada
END:VEVENT
END:VCALENDAR