BEGIN:VCALENDAR
VERSION:2.0
PRODID:-//Fernie Women&#039;s Resource Centre - ECPv6.15.20//NONSGML v1.0//EN
CALSCALE:GREGORIAN
METHOD:PUBLISH
X-WR-CALNAME:Fernie Women&#039;s Resource Centre
X-ORIGINAL-URL:https://www.ferniewomenscentre.com
X-WR-CALDESC:Events for Fernie Women&#039;s Resource Centre
REFRESH-INTERVAL;VALUE=DURATION:PT1H
X-Robots-Tag:noindex
X-PUBLISHED-TTL:PT1H
BEGIN:VTIMEZONE
TZID:America/Vancouver
BEGIN:DAYLIGHT
TZOFFSETFROM:-0800
TZOFFSETTO:-0700
TZNAME:PDT
DTSTART:20270314T100000
END:DAYLIGHT
BEGIN:STANDARD
TZOFFSETFROM:-0700
TZOFFSETTO:-0800
TZNAME:PST
DTSTART:20271107T090000
END:STANDARD
BEGIN:DAYLIGHT
TZOFFSETFROM:-0800
TZOFFSETTO:-0700
TZNAME:PDT
DTSTART:20280312T100000
END:DAYLIGHT
BEGIN:STANDARD
TZOFFSETFROM:-0700
TZOFFSETTO:-0800
TZNAME:PST
DTSTART:20281105T090000
END:STANDARD
BEGIN:DAYLIGHT
TZOFFSETFROM:-0800
TZOFFSETTO:-0700
TZNAME:PDT
DTSTART:20290311T100000
END:DAYLIGHT
BEGIN:STANDARD
TZOFFSETFROM:-0700
TZOFFSETTO:-0800
TZNAME:PST
DTSTART:20291104T090000
END:STANDARD
BEGIN:DAYLIGHT
TZOFFSETFROM:-0800
TZOFFSETTO:-0700
TZNAME:PDT
DTSTART:20300310T100000
END:DAYLIGHT
BEGIN:STANDARD
TZOFFSETFROM:-0700
TZOFFSETTO:-0800
TZNAME:PST
DTSTART:20301103T090000
END:STANDARD
END:VTIMEZONE
BEGIN:VEVENT
DTSTART;TZID=America/Vancouver:20281101T093000
DTEND;TZID=America/Vancouver:20281101T113000
DTSTAMP:20260421T205855
CREATED:20250702T160033Z
LAST-MODIFIED:20260220T220251Z
UID:10001286-1856683800-1856691000@www.ferniewomenscentre.com
SUMMARY:Parent-Tot Funtimes (Elkford)
DESCRIPTION:Parent-Tot Funtimes is a drop-in program for families with kids aged 0 to 6. It’s all about helping families connect and giving kids a chance to learn early. Every session has toys\, songs and stories\, and a craft or fun activity.
URL:https://www.ferniewomenscentre.com/calendar/parent-tot-funtimes-elkford-2-2/2028-11-01/
LOCATION:Elkford Alliance Church (in the Basement)\, 1803 Alpine Drive\, Elkford\, BC\, V0B 1H0\, Canada
ORGANIZER;CN="Fernie Women's Resource Certre (Parent-Tot Funtimes)":MAILTO:parenttotfuntimes@gmail.com
END:VEVENT
BEGIN:VEVENT
DTSTART;TZID=America/Vancouver:20281108T093000
DTEND;TZID=America/Vancouver:20281108T113000
DTSTAMP:20260421T205855
CREATED:20250702T160033Z
LAST-MODIFIED:20260220T220251Z
UID:10001287-1857288600-1857295800@www.ferniewomenscentre.com
SUMMARY:Parent-Tot Funtimes (Elkford)
DESCRIPTION:Parent-Tot Funtimes is a drop-in program for families with kids aged 0 to 6. It’s all about helping families connect and giving kids a chance to learn early. Every session has toys\, songs and stories\, and a craft or fun activity.
URL:https://www.ferniewomenscentre.com/calendar/parent-tot-funtimes-elkford-2-2/2028-11-08/
LOCATION:Elkford Alliance Church (in the Basement)\, 1803 Alpine Drive\, Elkford\, BC\, V0B 1H0\, Canada
ORGANIZER;CN="Fernie Women's Resource Certre (Parent-Tot Funtimes)":MAILTO:parenttotfuntimes@gmail.com
END:VEVENT
BEGIN:VEVENT
DTSTART;TZID=America/Vancouver:20281115T093000
DTEND;TZID=America/Vancouver:20281115T113000
DTSTAMP:20260421T205855
CREATED:20250702T160033Z
LAST-MODIFIED:20260220T220251Z
UID:10001288-1857893400-1857900600@www.ferniewomenscentre.com
SUMMARY:Parent-Tot Funtimes (Elkford)
DESCRIPTION:Parent-Tot Funtimes is a drop-in program for families with kids aged 0 to 6. It’s all about helping families connect and giving kids a chance to learn early. Every session has toys\, songs and stories\, and a craft or fun activity.
URL:https://www.ferniewomenscentre.com/calendar/parent-tot-funtimes-elkford-2-2/2028-11-15/
LOCATION:Elkford Alliance Church (in the Basement)\, 1803 Alpine Drive\, Elkford\, BC\, V0B 1H0\, Canada
ORGANIZER;CN="Fernie Women's Resource Certre (Parent-Tot Funtimes)":MAILTO:parenttotfuntimes@gmail.com
END:VEVENT
BEGIN:VEVENT
DTSTART;TZID=America/Vancouver:20281122T093000
DTEND;TZID=America/Vancouver:20281122T113000
DTSTAMP:20260421T205855
CREATED:20250702T160033Z
LAST-MODIFIED:20260220T220251Z
UID:10001289-1858498200-1858505400@www.ferniewomenscentre.com
SUMMARY:Parent-Tot Funtimes (Elkford)
DESCRIPTION:Parent-Tot Funtimes is a drop-in program for families with kids aged 0 to 6. It’s all about helping families connect and giving kids a chance to learn early. Every session has toys\, songs and stories\, and a craft or fun activity.
URL:https://www.ferniewomenscentre.com/calendar/parent-tot-funtimes-elkford-2-2/2028-11-22/
LOCATION:Elkford Alliance Church (in the Basement)\, 1803 Alpine Drive\, Elkford\, BC\, V0B 1H0\, Canada
ORGANIZER;CN="Fernie Women's Resource Certre (Parent-Tot Funtimes)":MAILTO:parenttotfuntimes@gmail.com
END:VEVENT
BEGIN:VEVENT
DTSTART;TZID=America/Vancouver:20281129T093000
DTEND;TZID=America/Vancouver:20281129T113000
DTSTAMP:20260421T205855
CREATED:20250702T160033Z
LAST-MODIFIED:20260220T220251Z
UID:10001290-1859103000-1859110200@www.ferniewomenscentre.com
SUMMARY:Parent-Tot Funtimes (Elkford)
DESCRIPTION:Parent-Tot Funtimes is a drop-in program for families with kids aged 0 to 6. It’s all about helping families connect and giving kids a chance to learn early. Every session has toys\, songs and stories\, and a craft or fun activity.
URL:https://www.ferniewomenscentre.com/calendar/parent-tot-funtimes-elkford-2-2/2028-11-29/
LOCATION:Elkford Alliance Church (in the Basement)\, 1803 Alpine Drive\, Elkford\, BC\, V0B 1H0\, Canada
ORGANIZER;CN="Fernie Women's Resource Certre (Parent-Tot Funtimes)":MAILTO:parenttotfuntimes@gmail.com
END:VEVENT
BEGIN:VEVENT
DTSTART;TZID=America/Vancouver:20281206T093000
DTEND;TZID=America/Vancouver:20281206T113000
DTSTAMP:20260421T205855
CREATED:20250702T160033Z
LAST-MODIFIED:20260220T220251Z
UID:10001291-1859707800-1859715000@www.ferniewomenscentre.com
SUMMARY:Parent-Tot Funtimes (Elkford)
DESCRIPTION:Parent-Tot Funtimes is a drop-in program for families with kids aged 0 to 6. It’s all about helping families connect and giving kids a chance to learn early. Every session has toys\, songs and stories\, and a craft or fun activity.
URL:https://www.ferniewomenscentre.com/calendar/parent-tot-funtimes-elkford-2-2/2028-12-06/
LOCATION:Elkford Alliance Church (in the Basement)\, 1803 Alpine Drive\, Elkford\, BC\, V0B 1H0\, Canada
ORGANIZER;CN="Fernie Women's Resource Certre (Parent-Tot Funtimes)":MAILTO:parenttotfuntimes@gmail.com
END:VEVENT
BEGIN:VEVENT
DTSTART;TZID=America/Vancouver:20281213T093000
DTEND;TZID=America/Vancouver:20281213T113000
DTSTAMP:20260421T205855
CREATED:20250702T160033Z
LAST-MODIFIED:20260220T220251Z
UID:10001292-1860312600-1860319800@www.ferniewomenscentre.com
SUMMARY:Parent-Tot Funtimes (Elkford)
DESCRIPTION:Parent-Tot Funtimes is a drop-in program for families with kids aged 0 to 6. It’s all about helping families connect and giving kids a chance to learn early. Every session has toys\, songs and stories\, and a craft or fun activity.
URL:https://www.ferniewomenscentre.com/calendar/parent-tot-funtimes-elkford-2-2/2028-12-13/
LOCATION:Elkford Alliance Church (in the Basement)\, 1803 Alpine Drive\, Elkford\, BC\, V0B 1H0\, Canada
ORGANIZER;CN="Fernie Women's Resource Certre (Parent-Tot Funtimes)":MAILTO:parenttotfuntimes@gmail.com
END:VEVENT
BEGIN:VEVENT
DTSTART;TZID=America/Vancouver:20281220T093000
DTEND;TZID=America/Vancouver:20281220T113000
DTSTAMP:20260421T205855
CREATED:20250702T160033Z
LAST-MODIFIED:20260220T220251Z
UID:10001293-1860917400-1860924600@www.ferniewomenscentre.com
SUMMARY:Parent-Tot Funtimes (Elkford)
DESCRIPTION:Parent-Tot Funtimes is a drop-in program for families with kids aged 0 to 6. It’s all about helping families connect and giving kids a chance to learn early. Every session has toys\, songs and stories\, and a craft or fun activity.
URL:https://www.ferniewomenscentre.com/calendar/parent-tot-funtimes-elkford-2-2/2028-12-20/
LOCATION:Elkford Alliance Church (in the Basement)\, 1803 Alpine Drive\, Elkford\, BC\, V0B 1H0\, Canada
ORGANIZER;CN="Fernie Women's Resource Certre (Parent-Tot Funtimes)":MAILTO:parenttotfuntimes@gmail.com
END:VEVENT
BEGIN:VEVENT
DTSTART;TZID=America/Vancouver:20281227T093000
DTEND;TZID=America/Vancouver:20281227T113000
DTSTAMP:20260421T205855
CREATED:20250702T160033Z
LAST-MODIFIED:20260220T220251Z
UID:10001294-1861522200-1861529400@www.ferniewomenscentre.com
SUMMARY:Parent-Tot Funtimes (Elkford)
DESCRIPTION:Parent-Tot Funtimes is a drop-in program for families with kids aged 0 to 6. It’s all about helping families connect and giving kids a chance to learn early. Every session has toys\, songs and stories\, and a craft or fun activity.
URL:https://www.ferniewomenscentre.com/calendar/parent-tot-funtimes-elkford-2-2/2028-12-27/
LOCATION:Elkford Alliance Church (in the Basement)\, 1803 Alpine Drive\, Elkford\, BC\, V0B 1H0\, Canada
ORGANIZER;CN="Fernie Women's Resource Certre (Parent-Tot Funtimes)":MAILTO:parenttotfuntimes@gmail.com
END:VEVENT
BEGIN:VEVENT
DTSTART;TZID=America/Vancouver:20290103T093000
DTEND;TZID=America/Vancouver:20290103T113000
DTSTAMP:20260421T205855
CREATED:20250702T160033Z
LAST-MODIFIED:20260220T220251Z
UID:10001295-1862127000-1862134200@www.ferniewomenscentre.com
SUMMARY:Parent-Tot Funtimes (Elkford)
DESCRIPTION:Parent-Tot Funtimes is a drop-in program for families with kids aged 0 to 6. It’s all about helping families connect and giving kids a chance to learn early. Every session has toys\, songs and stories\, and a craft or fun activity.
URL:https://www.ferniewomenscentre.com/calendar/parent-tot-funtimes-elkford-2-2/2029-01-03/
LOCATION:Elkford Alliance Church (in the Basement)\, 1803 Alpine Drive\, Elkford\, BC\, V0B 1H0\, Canada
ORGANIZER;CN="Fernie Women's Resource Certre (Parent-Tot Funtimes)":MAILTO:parenttotfuntimes@gmail.com
END:VEVENT
BEGIN:VEVENT
DTSTART;TZID=America/Vancouver:20290110T093000
DTEND;TZID=America/Vancouver:20290110T113000
DTSTAMP:20260421T205855
CREATED:20250702T160033Z
LAST-MODIFIED:20260220T220251Z
UID:10001296-1862731800-1862739000@www.ferniewomenscentre.com
SUMMARY:Parent-Tot Funtimes (Elkford)
DESCRIPTION:Parent-Tot Funtimes is a drop-in program for families with kids aged 0 to 6. It’s all about helping families connect and giving kids a chance to learn early. Every session has toys\, songs and stories\, and a craft or fun activity.
URL:https://www.ferniewomenscentre.com/calendar/parent-tot-funtimes-elkford-2-2/2029-01-10/
LOCATION:Elkford Alliance Church (in the Basement)\, 1803 Alpine Drive\, Elkford\, BC\, V0B 1H0\, Canada
ORGANIZER;CN="Fernie Women's Resource Certre (Parent-Tot Funtimes)":MAILTO:parenttotfuntimes@gmail.com
END:VEVENT
BEGIN:VEVENT
DTSTART;TZID=America/Vancouver:20290117T093000
DTEND;TZID=America/Vancouver:20290117T113000
DTSTAMP:20260421T205855
CREATED:20250702T160033Z
LAST-MODIFIED:20260220T220251Z
UID:10001297-1863336600-1863343800@www.ferniewomenscentre.com
SUMMARY:Parent-Tot Funtimes (Elkford)
DESCRIPTION:Parent-Tot Funtimes is a drop-in program for families with kids aged 0 to 6. It’s all about helping families connect and giving kids a chance to learn early. Every session has toys\, songs and stories\, and a craft or fun activity.
URL:https://www.ferniewomenscentre.com/calendar/parent-tot-funtimes-elkford-2-2/2029-01-17/
LOCATION:Elkford Alliance Church (in the Basement)\, 1803 Alpine Drive\, Elkford\, BC\, V0B 1H0\, Canada
ORGANIZER;CN="Fernie Women's Resource Certre (Parent-Tot Funtimes)":MAILTO:parenttotfuntimes@gmail.com
END:VEVENT
BEGIN:VEVENT
DTSTART;TZID=America/Vancouver:20290124T093000
DTEND;TZID=America/Vancouver:20290124T113000
DTSTAMP:20260421T205855
CREATED:20250702T160033Z
LAST-MODIFIED:20260220T220251Z
UID:10001298-1863941400-1863948600@www.ferniewomenscentre.com
SUMMARY:Parent-Tot Funtimes (Elkford)
DESCRIPTION:Parent-Tot Funtimes is a drop-in program for families with kids aged 0 to 6. It’s all about helping families connect and giving kids a chance to learn early. Every session has toys\, songs and stories\, and a craft or fun activity.
URL:https://www.ferniewomenscentre.com/calendar/parent-tot-funtimes-elkford-2-2/2029-01-24/
LOCATION:Elkford Alliance Church (in the Basement)\, 1803 Alpine Drive\, Elkford\, BC\, V0B 1H0\, Canada
ORGANIZER;CN="Fernie Women's Resource Certre (Parent-Tot Funtimes)":MAILTO:parenttotfuntimes@gmail.com
END:VEVENT
BEGIN:VEVENT
DTSTART;TZID=America/Vancouver:20290131T093000
DTEND;TZID=America/Vancouver:20290131T113000
DTSTAMP:20260421T205855
CREATED:20250702T160033Z
LAST-MODIFIED:20260220T220251Z
UID:10001299-1864546200-1864553400@www.ferniewomenscentre.com
SUMMARY:Parent-Tot Funtimes (Elkford)
DESCRIPTION:Parent-Tot Funtimes is a drop-in program for families with kids aged 0 to 6. It’s all about helping families connect and giving kids a chance to learn early. Every session has toys\, songs and stories\, and a craft or fun activity.
URL:https://www.ferniewomenscentre.com/calendar/parent-tot-funtimes-elkford-2-2/2029-01-31/
LOCATION:Elkford Alliance Church (in the Basement)\, 1803 Alpine Drive\, Elkford\, BC\, V0B 1H0\, Canada
ORGANIZER;CN="Fernie Women's Resource Certre (Parent-Tot Funtimes)":MAILTO:parenttotfuntimes@gmail.com
END:VEVENT
BEGIN:VEVENT
DTSTART;TZID=America/Vancouver:20290207T093000
DTEND;TZID=America/Vancouver:20290207T113000
DTSTAMP:20260421T205855
CREATED:20250702T160033Z
LAST-MODIFIED:20260220T220251Z
UID:10001300-1865151000-1865158200@www.ferniewomenscentre.com
SUMMARY:Parent-Tot Funtimes (Elkford)
DESCRIPTION:Parent-Tot Funtimes is a drop-in program for families with kids aged 0 to 6. It’s all about helping families connect and giving kids a chance to learn early. Every session has toys\, songs and stories\, and a craft or fun activity.
URL:https://www.ferniewomenscentre.com/calendar/parent-tot-funtimes-elkford-2-2/2029-02-07/
LOCATION:Elkford Alliance Church (in the Basement)\, 1803 Alpine Drive\, Elkford\, BC\, V0B 1H0\, Canada
ORGANIZER;CN="Fernie Women's Resource Certre (Parent-Tot Funtimes)":MAILTO:parenttotfuntimes@gmail.com
END:VEVENT
BEGIN:VEVENT
DTSTART;TZID=America/Vancouver:20290214T093000
DTEND;TZID=America/Vancouver:20290214T113000
DTSTAMP:20260421T205855
CREATED:20250702T160033Z
LAST-MODIFIED:20260220T220251Z
UID:10001301-1865755800-1865763000@www.ferniewomenscentre.com
SUMMARY:Parent-Tot Funtimes (Elkford)
DESCRIPTION:Parent-Tot Funtimes is a drop-in program for families with kids aged 0 to 6. It’s all about helping families connect and giving kids a chance to learn early. Every session has toys\, songs and stories\, and a craft or fun activity.
URL:https://www.ferniewomenscentre.com/calendar/parent-tot-funtimes-elkford-2-2/2029-02-14/
LOCATION:Elkford Alliance Church (in the Basement)\, 1803 Alpine Drive\, Elkford\, BC\, V0B 1H0\, Canada
ORGANIZER;CN="Fernie Women's Resource Certre (Parent-Tot Funtimes)":MAILTO:parenttotfuntimes@gmail.com
END:VEVENT
BEGIN:VEVENT
DTSTART;TZID=America/Vancouver:20290221T093000
DTEND;TZID=America/Vancouver:20290221T113000
DTSTAMP:20260421T205855
CREATED:20250702T160033Z
LAST-MODIFIED:20260220T220251Z
UID:10001302-1866360600-1866367800@www.ferniewomenscentre.com
SUMMARY:Parent-Tot Funtimes (Elkford)
DESCRIPTION:Parent-Tot Funtimes is a drop-in program for families with kids aged 0 to 6. It’s all about helping families connect and giving kids a chance to learn early. Every session has toys\, songs and stories\, and a craft or fun activity.
URL:https://www.ferniewomenscentre.com/calendar/parent-tot-funtimes-elkford-2-2/2029-02-21/
LOCATION:Elkford Alliance Church (in the Basement)\, 1803 Alpine Drive\, Elkford\, BC\, V0B 1H0\, Canada
ORGANIZER;CN="Fernie Women's Resource Certre (Parent-Tot Funtimes)":MAILTO:parenttotfuntimes@gmail.com
END:VEVENT
BEGIN:VEVENT
DTSTART;TZID=America/Vancouver:20290228T093000
DTEND;TZID=America/Vancouver:20290228T113000
DTSTAMP:20260421T205855
CREATED:20250702T160033Z
LAST-MODIFIED:20260220T220251Z
UID:10001303-1866965400-1866972600@www.ferniewomenscentre.com
SUMMARY:Parent-Tot Funtimes (Elkford)
DESCRIPTION:Parent-Tot Funtimes is a drop-in program for families with kids aged 0 to 6. It’s all about helping families connect and giving kids a chance to learn early. Every session has toys\, songs and stories\, and a craft or fun activity.
URL:https://www.ferniewomenscentre.com/calendar/parent-tot-funtimes-elkford-2-2/2029-02-28/
LOCATION:Elkford Alliance Church (in the Basement)\, 1803 Alpine Drive\, Elkford\, BC\, V0B 1H0\, Canada
ORGANIZER;CN="Fernie Women's Resource Certre (Parent-Tot Funtimes)":MAILTO:parenttotfuntimes@gmail.com
END:VEVENT
BEGIN:VEVENT
DTSTART;TZID=America/Vancouver:20290307T093000
DTEND;TZID=America/Vancouver:20290307T113000
DTSTAMP:20260421T205855
CREATED:20250702T160033Z
LAST-MODIFIED:20260220T220251Z
UID:10001304-1867570200-1867577400@www.ferniewomenscentre.com
SUMMARY:Parent-Tot Funtimes (Elkford)
DESCRIPTION:Parent-Tot Funtimes is a drop-in program for families with kids aged 0 to 6. It’s all about helping families connect and giving kids a chance to learn early. Every session has toys\, songs and stories\, and a craft or fun activity.
URL:https://www.ferniewomenscentre.com/calendar/parent-tot-funtimes-elkford-2-2/2029-03-07/
LOCATION:Elkford Alliance Church (in the Basement)\, 1803 Alpine Drive\, Elkford\, BC\, V0B 1H0\, Canada
ORGANIZER;CN="Fernie Women's Resource Certre (Parent-Tot Funtimes)":MAILTO:parenttotfuntimes@gmail.com
END:VEVENT
BEGIN:VEVENT
DTSTART;TZID=America/Vancouver:20290314T093000
DTEND;TZID=America/Vancouver:20290314T113000
DTSTAMP:20260421T205855
CREATED:20250702T160033Z
LAST-MODIFIED:20260220T220251Z
UID:10001305-1868175000-1868182200@www.ferniewomenscentre.com
SUMMARY:Parent-Tot Funtimes (Elkford)
DESCRIPTION:Parent-Tot Funtimes is a drop-in program for families with kids aged 0 to 6. It’s all about helping families connect and giving kids a chance to learn early. Every session has toys\, songs and stories\, and a craft or fun activity.
URL:https://www.ferniewomenscentre.com/calendar/parent-tot-funtimes-elkford-2-2/2029-03-14/
LOCATION:Elkford Alliance Church (in the Basement)\, 1803 Alpine Drive\, Elkford\, BC\, V0B 1H0\, Canada
ORGANIZER;CN="Fernie Women's Resource Certre (Parent-Tot Funtimes)":MAILTO:parenttotfuntimes@gmail.com
END:VEVENT
BEGIN:VEVENT
DTSTART;TZID=America/Vancouver:20290321T093000
DTEND;TZID=America/Vancouver:20290321T113000
DTSTAMP:20260421T205855
CREATED:20250702T160033Z
LAST-MODIFIED:20260220T220251Z
UID:10001306-1868779800-1868787000@www.ferniewomenscentre.com
SUMMARY:Parent-Tot Funtimes (Elkford)
DESCRIPTION:Parent-Tot Funtimes is a drop-in program for families with kids aged 0 to 6. It’s all about helping families connect and giving kids a chance to learn early. Every session has toys\, songs and stories\, and a craft or fun activity.
URL:https://www.ferniewomenscentre.com/calendar/parent-tot-funtimes-elkford-2-2/2029-03-21/
LOCATION:Elkford Alliance Church (in the Basement)\, 1803 Alpine Drive\, Elkford\, BC\, V0B 1H0\, Canada
ORGANIZER;CN="Fernie Women's Resource Certre (Parent-Tot Funtimes)":MAILTO:parenttotfuntimes@gmail.com
END:VEVENT
BEGIN:VEVENT
DTSTART;TZID=America/Vancouver:20290328T093000
DTEND;TZID=America/Vancouver:20290328T113000
DTSTAMP:20260421T205855
CREATED:20250702T160033Z
LAST-MODIFIED:20260220T220251Z
UID:10001935-1869384600-1869391800@www.ferniewomenscentre.com
SUMMARY:Parent-Tot Funtimes (Elkford)
DESCRIPTION:Parent-Tot Funtimes is a drop-in program for families with kids aged 0 to 6. It’s all about helping families connect and giving kids a chance to learn early. Every session has toys\, songs and stories\, and a craft or fun activity.
URL:https://www.ferniewomenscentre.com/calendar/parent-tot-funtimes-elkford-2-2/2029-03-28/
LOCATION:Elkford Alliance Church (in the Basement)\, 1803 Alpine Drive\, Elkford\, BC\, V0B 1H0\, Canada
ORGANIZER;CN="Fernie Women's Resource Certre (Parent-Tot Funtimes)":MAILTO:parenttotfuntimes@gmail.com
END:VEVENT
BEGIN:VEVENT
DTSTART;TZID=America/Vancouver:20290404T093000
DTEND;TZID=America/Vancouver:20290404T113000
DTSTAMP:20260421T205855
CREATED:20250702T160033Z
LAST-MODIFIED:20260220T220251Z
UID:10001936-1869989400-1869996600@www.ferniewomenscentre.com
SUMMARY:Parent-Tot Funtimes (Elkford)
DESCRIPTION:Parent-Tot Funtimes is a drop-in program for families with kids aged 0 to 6. It’s all about helping families connect and giving kids a chance to learn early. Every session has toys\, songs and stories\, and a craft or fun activity.
URL:https://www.ferniewomenscentre.com/calendar/parent-tot-funtimes-elkford-2-2/2029-04-04/
LOCATION:Elkford Alliance Church (in the Basement)\, 1803 Alpine Drive\, Elkford\, BC\, V0B 1H0\, Canada
ORGANIZER;CN="Fernie Women's Resource Certre (Parent-Tot Funtimes)":MAILTO:parenttotfuntimes@gmail.com
END:VEVENT
BEGIN:VEVENT
DTSTART;TZID=America/Vancouver:20290411T093000
DTEND;TZID=America/Vancouver:20290411T113000
DTSTAMP:20260421T205855
CREATED:20250702T160033Z
LAST-MODIFIED:20260220T220251Z
UID:10001937-1870594200-1870601400@www.ferniewomenscentre.com
SUMMARY:Parent-Tot Funtimes (Elkford)
DESCRIPTION:Parent-Tot Funtimes is a drop-in program for families with kids aged 0 to 6. It’s all about helping families connect and giving kids a chance to learn early. Every session has toys\, songs and stories\, and a craft or fun activity.
URL:https://www.ferniewomenscentre.com/calendar/parent-tot-funtimes-elkford-2-2/2029-04-11/
LOCATION:Elkford Alliance Church (in the Basement)\, 1803 Alpine Drive\, Elkford\, BC\, V0B 1H0\, Canada
ORGANIZER;CN="Fernie Women's Resource Certre (Parent-Tot Funtimes)":MAILTO:parenttotfuntimes@gmail.com
END:VEVENT
BEGIN:VEVENT
DTSTART;TZID=America/Vancouver:20290418T093000
DTEND;TZID=America/Vancouver:20290418T113000
DTSTAMP:20260421T205855
CREATED:20250702T160033Z
LAST-MODIFIED:20260220T220251Z
UID:10001938-1871199000-1871206200@www.ferniewomenscentre.com
SUMMARY:Parent-Tot Funtimes (Elkford)
DESCRIPTION:Parent-Tot Funtimes is a drop-in program for families with kids aged 0 to 6. It’s all about helping families connect and giving kids a chance to learn early. Every session has toys\, songs and stories\, and a craft or fun activity.
URL:https://www.ferniewomenscentre.com/calendar/parent-tot-funtimes-elkford-2-2/2029-04-18/
LOCATION:Elkford Alliance Church (in the Basement)\, 1803 Alpine Drive\, Elkford\, BC\, V0B 1H0\, Canada
ORGANIZER;CN="Fernie Women's Resource Certre (Parent-Tot Funtimes)":MAILTO:parenttotfuntimes@gmail.com
END:VEVENT
BEGIN:VEVENT
DTSTART;TZID=America/Vancouver:20290425T093000
DTEND;TZID=America/Vancouver:20290425T113000
DTSTAMP:20260421T205855
CREATED:20250702T160033Z
LAST-MODIFIED:20260220T220251Z
UID:10001939-1871803800-1871811000@www.ferniewomenscentre.com
SUMMARY:Parent-Tot Funtimes (Elkford)
DESCRIPTION:Parent-Tot Funtimes is a drop-in program for families with kids aged 0 to 6. It’s all about helping families connect and giving kids a chance to learn early. Every session has toys\, songs and stories\, and a craft or fun activity.
URL:https://www.ferniewomenscentre.com/calendar/parent-tot-funtimes-elkford-2-2/2029-04-25/
LOCATION:Elkford Alliance Church (in the Basement)\, 1803 Alpine Drive\, Elkford\, BC\, V0B 1H0\, Canada
ORGANIZER;CN="Fernie Women's Resource Certre (Parent-Tot Funtimes)":MAILTO:parenttotfuntimes@gmail.com
END:VEVENT
BEGIN:VEVENT
DTSTART;TZID=America/Vancouver:20290502T093000
DTEND;TZID=America/Vancouver:20290502T113000
DTSTAMP:20260421T205855
CREATED:20250702T160033Z
LAST-MODIFIED:20260220T220251Z
UID:10001940-1872408600-1872415800@www.ferniewomenscentre.com
SUMMARY:Parent-Tot Funtimes (Elkford)
DESCRIPTION:Parent-Tot Funtimes is a drop-in program for families with kids aged 0 to 6. It’s all about helping families connect and giving kids a chance to learn early. Every session has toys\, songs and stories\, and a craft or fun activity.
URL:https://www.ferniewomenscentre.com/calendar/parent-tot-funtimes-elkford-2-2/2029-05-02/
LOCATION:Elkford Alliance Church (in the Basement)\, 1803 Alpine Drive\, Elkford\, BC\, V0B 1H0\, Canada
ORGANIZER;CN="Fernie Women's Resource Certre (Parent-Tot Funtimes)":MAILTO:parenttotfuntimes@gmail.com
END:VEVENT
BEGIN:VEVENT
DTSTART;TZID=America/Vancouver:20290509T093000
DTEND;TZID=America/Vancouver:20290509T113000
DTSTAMP:20260421T205855
CREATED:20250702T160033Z
LAST-MODIFIED:20260220T220251Z
UID:10001941-1873013400-1873020600@www.ferniewomenscentre.com
SUMMARY:Parent-Tot Funtimes (Elkford)
DESCRIPTION:Parent-Tot Funtimes is a drop-in program for families with kids aged 0 to 6. It’s all about helping families connect and giving kids a chance to learn early. Every session has toys\, songs and stories\, and a craft or fun activity.
URL:https://www.ferniewomenscentre.com/calendar/parent-tot-funtimes-elkford-2-2/2029-05-09/
LOCATION:Elkford Alliance Church (in the Basement)\, 1803 Alpine Drive\, Elkford\, BC\, V0B 1H0\, Canada
ORGANIZER;CN="Fernie Women's Resource Certre (Parent-Tot Funtimes)":MAILTO:parenttotfuntimes@gmail.com
END:VEVENT
BEGIN:VEVENT
DTSTART;TZID=America/Vancouver:20290516T093000
DTEND;TZID=America/Vancouver:20290516T113000
DTSTAMP:20260421T205855
CREATED:20250702T160033Z
LAST-MODIFIED:20260220T220251Z
UID:10001942-1873618200-1873625400@www.ferniewomenscentre.com
SUMMARY:Parent-Tot Funtimes (Elkford)
DESCRIPTION:Parent-Tot Funtimes is a drop-in program for families with kids aged 0 to 6. It’s all about helping families connect and giving kids a chance to learn early. Every session has toys\, songs and stories\, and a craft or fun activity.
URL:https://www.ferniewomenscentre.com/calendar/parent-tot-funtimes-elkford-2-2/2029-05-16/
LOCATION:Elkford Alliance Church (in the Basement)\, 1803 Alpine Drive\, Elkford\, BC\, V0B 1H0\, Canada
ORGANIZER;CN="Fernie Women's Resource Certre (Parent-Tot Funtimes)":MAILTO:parenttotfuntimes@gmail.com
END:VEVENT
BEGIN:VEVENT
DTSTART;TZID=America/Vancouver:20290523T093000
DTEND;TZID=America/Vancouver:20290523T113000
DTSTAMP:20260421T205855
CREATED:20250702T160033Z
LAST-MODIFIED:20260220T220251Z
UID:10001943-1874223000-1874230200@www.ferniewomenscentre.com
SUMMARY:Parent-Tot Funtimes (Elkford)
DESCRIPTION:Parent-Tot Funtimes is a drop-in program for families with kids aged 0 to 6. It’s all about helping families connect and giving kids a chance to learn early. Every session has toys\, songs and stories\, and a craft or fun activity.
URL:https://www.ferniewomenscentre.com/calendar/parent-tot-funtimes-elkford-2-2/2029-05-23/
LOCATION:Elkford Alliance Church (in the Basement)\, 1803 Alpine Drive\, Elkford\, BC\, V0B 1H0\, Canada
ORGANIZER;CN="Fernie Women's Resource Certre (Parent-Tot Funtimes)":MAILTO:parenttotfuntimes@gmail.com
END:VEVENT
END:VCALENDAR