BEGIN:VCALENDAR
VERSION:2.0
PRODID:-//Fernie Women&#039;s Resource Centre - ECPv6.15.20//NONSGML v1.0//EN
CALSCALE:GREGORIAN
METHOD:PUBLISH
X-WR-CALNAME:Fernie Women&#039;s Resource Centre
X-ORIGINAL-URL:https://www.ferniewomenscentre.com
X-WR-CALDESC:Events for Fernie Women&#039;s Resource Centre
REFRESH-INTERVAL;VALUE=DURATION:PT1H
X-Robots-Tag:noindex
X-PUBLISHED-TTL:PT1H
BEGIN:VTIMEZONE
TZID:America/Vancouver
BEGIN:DAYLIGHT
TZOFFSETFROM:-0800
TZOFFSETTO:-0700
TZNAME:PDT
DTSTART:20280312T100000
END:DAYLIGHT
BEGIN:STANDARD
TZOFFSETFROM:-0700
TZOFFSETTO:-0800
TZNAME:PST
DTSTART:20281105T090000
END:STANDARD
BEGIN:DAYLIGHT
TZOFFSETFROM:-0800
TZOFFSETTO:-0700
TZNAME:PDT
DTSTART:20290311T100000
END:DAYLIGHT
BEGIN:STANDARD
TZOFFSETFROM:-0700
TZOFFSETTO:-0800
TZNAME:PST
DTSTART:20291104T090000
END:STANDARD
BEGIN:DAYLIGHT
TZOFFSETFROM:-0800
TZOFFSETTO:-0700
TZNAME:PDT
DTSTART:20300310T100000
END:DAYLIGHT
BEGIN:STANDARD
TZOFFSETFROM:-0700
TZOFFSETTO:-0800
TZNAME:PST
DTSTART:20301103T090000
END:STANDARD
BEGIN:DAYLIGHT
TZOFFSETFROM:-0800
TZOFFSETTO:-0700
TZNAME:PDT
DTSTART:20310309T100000
END:DAYLIGHT
BEGIN:STANDARD
TZOFFSETFROM:-0700
TZOFFSETTO:-0800
TZNAME:PST
DTSTART:20311102T090000
END:STANDARD
END:VTIMEZONE
BEGIN:VEVENT
DTSTART;TZID=America/Vancouver:20290711T093000
DTEND;TZID=America/Vancouver:20290711T113000
DTSTAMP:20260422T022514
CREATED:20250702T160033Z
LAST-MODIFIED:20260220T220251Z
UID:10002561-1878456600-1878463800@www.ferniewomenscentre.com
SUMMARY:Parent-Tot Funtimes (Elkford)
DESCRIPTION:Parent-Tot Funtimes is a drop-in program for families with kids aged 0 to 6. It’s all about helping families connect and giving kids a chance to learn early. Every session has toys\, songs and stories\, and a craft or fun activity.
URL:https://www.ferniewomenscentre.com/calendar/parent-tot-funtimes-elkford-2-2/2029-07-11/
LOCATION:Elkford Alliance Church (in the Basement)\, 1803 Alpine Drive\, Elkford\, BC\, V0B 1H0\, Canada
ORGANIZER;CN="Fernie Women's Resource Certre (Parent-Tot Funtimes)":MAILTO:parenttotfuntimes@gmail.com
END:VEVENT
BEGIN:VEVENT
DTSTART;TZID=America/Vancouver:20290718T093000
DTEND;TZID=America/Vancouver:20290718T113000
DTSTAMP:20260422T022514
CREATED:20250702T160033Z
LAST-MODIFIED:20260220T220251Z
UID:10002562-1879061400-1879068600@www.ferniewomenscentre.com
SUMMARY:Parent-Tot Funtimes (Elkford)
DESCRIPTION:Parent-Tot Funtimes is a drop-in program for families with kids aged 0 to 6. It’s all about helping families connect and giving kids a chance to learn early. Every session has toys\, songs and stories\, and a craft or fun activity.
URL:https://www.ferniewomenscentre.com/calendar/parent-tot-funtimes-elkford-2-2/2029-07-18/
LOCATION:Elkford Alliance Church (in the Basement)\, 1803 Alpine Drive\, Elkford\, BC\, V0B 1H0\, Canada
ORGANIZER;CN="Fernie Women's Resource Certre (Parent-Tot Funtimes)":MAILTO:parenttotfuntimes@gmail.com
END:VEVENT
BEGIN:VEVENT
DTSTART;TZID=America/Vancouver:20290725T093000
DTEND;TZID=America/Vancouver:20290725T113000
DTSTAMP:20260422T022514
CREATED:20250702T160033Z
LAST-MODIFIED:20260220T220251Z
UID:10002563-1879666200-1879673400@www.ferniewomenscentre.com
SUMMARY:Parent-Tot Funtimes (Elkford)
DESCRIPTION:Parent-Tot Funtimes is a drop-in program for families with kids aged 0 to 6. It’s all about helping families connect and giving kids a chance to learn early. Every session has toys\, songs and stories\, and a craft or fun activity.
URL:https://www.ferniewomenscentre.com/calendar/parent-tot-funtimes-elkford-2-2/2029-07-25/
LOCATION:Elkford Alliance Church (in the Basement)\, 1803 Alpine Drive\, Elkford\, BC\, V0B 1H0\, Canada
ORGANIZER;CN="Fernie Women's Resource Certre (Parent-Tot Funtimes)":MAILTO:parenttotfuntimes@gmail.com
END:VEVENT
BEGIN:VEVENT
DTSTART;TZID=America/Vancouver:20290801T093000
DTEND;TZID=America/Vancouver:20290801T113000
DTSTAMP:20260422T022514
CREATED:20250702T160033Z
LAST-MODIFIED:20260220T220251Z
UID:10002564-1880271000-1880278200@www.ferniewomenscentre.com
SUMMARY:Parent-Tot Funtimes (Elkford)
DESCRIPTION:Parent-Tot Funtimes is a drop-in program for families with kids aged 0 to 6. It’s all about helping families connect and giving kids a chance to learn early. Every session has toys\, songs and stories\, and a craft or fun activity.
URL:https://www.ferniewomenscentre.com/calendar/parent-tot-funtimes-elkford-2-2/2029-08-01/
LOCATION:Elkford Alliance Church (in the Basement)\, 1803 Alpine Drive\, Elkford\, BC\, V0B 1H0\, Canada
ORGANIZER;CN="Fernie Women's Resource Certre (Parent-Tot Funtimes)":MAILTO:parenttotfuntimes@gmail.com
END:VEVENT
BEGIN:VEVENT
DTSTART;TZID=America/Vancouver:20290808T093000
DTEND;TZID=America/Vancouver:20290808T113000
DTSTAMP:20260422T022514
CREATED:20250702T160033Z
LAST-MODIFIED:20260220T220251Z
UID:10002565-1880875800-1880883000@www.ferniewomenscentre.com
SUMMARY:Parent-Tot Funtimes (Elkford)
DESCRIPTION:Parent-Tot Funtimes is a drop-in program for families with kids aged 0 to 6. It’s all about helping families connect and giving kids a chance to learn early. Every session has toys\, songs and stories\, and a craft or fun activity.
URL:https://www.ferniewomenscentre.com/calendar/parent-tot-funtimes-elkford-2-2/2029-08-08/
LOCATION:Elkford Alliance Church (in the Basement)\, 1803 Alpine Drive\, Elkford\, BC\, V0B 1H0\, Canada
ORGANIZER;CN="Fernie Women's Resource Certre (Parent-Tot Funtimes)":MAILTO:parenttotfuntimes@gmail.com
END:VEVENT
BEGIN:VEVENT
DTSTART;TZID=America/Vancouver:20290815T093000
DTEND;TZID=America/Vancouver:20290815T113000
DTSTAMP:20260422T022514
CREATED:20250702T160033Z
LAST-MODIFIED:20260220T220251Z
UID:10002566-1881480600-1881487800@www.ferniewomenscentre.com
SUMMARY:Parent-Tot Funtimes (Elkford)
DESCRIPTION:Parent-Tot Funtimes is a drop-in program for families with kids aged 0 to 6. It’s all about helping families connect and giving kids a chance to learn early. Every session has toys\, songs and stories\, and a craft or fun activity.
URL:https://www.ferniewomenscentre.com/calendar/parent-tot-funtimes-elkford-2-2/2029-08-15/
LOCATION:Elkford Alliance Church (in the Basement)\, 1803 Alpine Drive\, Elkford\, BC\, V0B 1H0\, Canada
ORGANIZER;CN="Fernie Women's Resource Certre (Parent-Tot Funtimes)":MAILTO:parenttotfuntimes@gmail.com
END:VEVENT
BEGIN:VEVENT
DTSTART;TZID=America/Vancouver:20290822T093000
DTEND;TZID=America/Vancouver:20290822T113000
DTSTAMP:20260422T022514
CREATED:20250702T160033Z
LAST-MODIFIED:20260220T220251Z
UID:10002567-1882085400-1882092600@www.ferniewomenscentre.com
SUMMARY:Parent-Tot Funtimes (Elkford)
DESCRIPTION:Parent-Tot Funtimes is a drop-in program for families with kids aged 0 to 6. It’s all about helping families connect and giving kids a chance to learn early. Every session has toys\, songs and stories\, and a craft or fun activity.
URL:https://www.ferniewomenscentre.com/calendar/parent-tot-funtimes-elkford-2-2/2029-08-22/
LOCATION:Elkford Alliance Church (in the Basement)\, 1803 Alpine Drive\, Elkford\, BC\, V0B 1H0\, Canada
ORGANIZER;CN="Fernie Women's Resource Certre (Parent-Tot Funtimes)":MAILTO:parenttotfuntimes@gmail.com
END:VEVENT
BEGIN:VEVENT
DTSTART;TZID=America/Vancouver:20290829T093000
DTEND;TZID=America/Vancouver:20290829T113000
DTSTAMP:20260422T022514
CREATED:20250702T160033Z
LAST-MODIFIED:20260220T220251Z
UID:10002568-1882690200-1882697400@www.ferniewomenscentre.com
SUMMARY:Parent-Tot Funtimes (Elkford)
DESCRIPTION:Parent-Tot Funtimes is a drop-in program for families with kids aged 0 to 6. It’s all about helping families connect and giving kids a chance to learn early. Every session has toys\, songs and stories\, and a craft or fun activity.
URL:https://www.ferniewomenscentre.com/calendar/parent-tot-funtimes-elkford-2-2/2029-08-29/
LOCATION:Elkford Alliance Church (in the Basement)\, 1803 Alpine Drive\, Elkford\, BC\, V0B 1H0\, Canada
ORGANIZER;CN="Fernie Women's Resource Certre (Parent-Tot Funtimes)":MAILTO:parenttotfuntimes@gmail.com
END:VEVENT
BEGIN:VEVENT
DTSTART;TZID=America/Vancouver:20290905T093000
DTEND;TZID=America/Vancouver:20290905T113000
DTSTAMP:20260422T022514
CREATED:20250702T160033Z
LAST-MODIFIED:20260220T220251Z
UID:10002569-1883295000-1883302200@www.ferniewomenscentre.com
SUMMARY:Parent-Tot Funtimes (Elkford)
DESCRIPTION:Parent-Tot Funtimes is a drop-in program for families with kids aged 0 to 6. It’s all about helping families connect and giving kids a chance to learn early. Every session has toys\, songs and stories\, and a craft or fun activity.
URL:https://www.ferniewomenscentre.com/calendar/parent-tot-funtimes-elkford-2-2/2029-09-05/
LOCATION:Elkford Alliance Church (in the Basement)\, 1803 Alpine Drive\, Elkford\, BC\, V0B 1H0\, Canada
ORGANIZER;CN="Fernie Women's Resource Certre (Parent-Tot Funtimes)":MAILTO:parenttotfuntimes@gmail.com
END:VEVENT
BEGIN:VEVENT
DTSTART;TZID=America/Vancouver:20290912T093000
DTEND;TZID=America/Vancouver:20290912T113000
DTSTAMP:20260422T022514
CREATED:20250702T160033Z
LAST-MODIFIED:20260220T220251Z
UID:10002570-1883899800-1883907000@www.ferniewomenscentre.com
SUMMARY:Parent-Tot Funtimes (Elkford)
DESCRIPTION:Parent-Tot Funtimes is a drop-in program for families with kids aged 0 to 6. It’s all about helping families connect and giving kids a chance to learn early. Every session has toys\, songs and stories\, and a craft or fun activity.
URL:https://www.ferniewomenscentre.com/calendar/parent-tot-funtimes-elkford-2-2/2029-09-12/
LOCATION:Elkford Alliance Church (in the Basement)\, 1803 Alpine Drive\, Elkford\, BC\, V0B 1H0\, Canada
ORGANIZER;CN="Fernie Women's Resource Certre (Parent-Tot Funtimes)":MAILTO:parenttotfuntimes@gmail.com
END:VEVENT
BEGIN:VEVENT
DTSTART;TZID=America/Vancouver:20290919T093000
DTEND;TZID=America/Vancouver:20290919T113000
DTSTAMP:20260422T022514
CREATED:20250702T160033Z
LAST-MODIFIED:20260220T220251Z
UID:10002571-1884504600-1884511800@www.ferniewomenscentre.com
SUMMARY:Parent-Tot Funtimes (Elkford)
DESCRIPTION:Parent-Tot Funtimes is a drop-in program for families with kids aged 0 to 6. It’s all about helping families connect and giving kids a chance to learn early. Every session has toys\, songs and stories\, and a craft or fun activity.
URL:https://www.ferniewomenscentre.com/calendar/parent-tot-funtimes-elkford-2-2/2029-09-19/
LOCATION:Elkford Alliance Church (in the Basement)\, 1803 Alpine Drive\, Elkford\, BC\, V0B 1H0\, Canada
ORGANIZER;CN="Fernie Women's Resource Certre (Parent-Tot Funtimes)":MAILTO:parenttotfuntimes@gmail.com
END:VEVENT
BEGIN:VEVENT
DTSTART;TZID=America/Vancouver:20290926T093000
DTEND;TZID=America/Vancouver:20290926T113000
DTSTAMP:20260422T022514
CREATED:20250702T160033Z
LAST-MODIFIED:20260220T220251Z
UID:10002572-1885109400-1885116600@www.ferniewomenscentre.com
SUMMARY:Parent-Tot Funtimes (Elkford)
DESCRIPTION:Parent-Tot Funtimes is a drop-in program for families with kids aged 0 to 6. It’s all about helping families connect and giving kids a chance to learn early. Every session has toys\, songs and stories\, and a craft or fun activity.
URL:https://www.ferniewomenscentre.com/calendar/parent-tot-funtimes-elkford-2-2/2029-09-26/
LOCATION:Elkford Alliance Church (in the Basement)\, 1803 Alpine Drive\, Elkford\, BC\, V0B 1H0\, Canada
ORGANIZER;CN="Fernie Women's Resource Certre (Parent-Tot Funtimes)":MAILTO:parenttotfuntimes@gmail.com
END:VEVENT
BEGIN:VEVENT
DTSTART;TZID=America/Vancouver:20291003T093000
DTEND;TZID=America/Vancouver:20291003T113000
DTSTAMP:20260422T022514
CREATED:20250702T160033Z
LAST-MODIFIED:20260220T220251Z
UID:10002573-1885714200-1885721400@www.ferniewomenscentre.com
SUMMARY:Parent-Tot Funtimes (Elkford)
DESCRIPTION:Parent-Tot Funtimes is a drop-in program for families with kids aged 0 to 6. It’s all about helping families connect and giving kids a chance to learn early. Every session has toys\, songs and stories\, and a craft or fun activity.
URL:https://www.ferniewomenscentre.com/calendar/parent-tot-funtimes-elkford-2-2/2029-10-03/
LOCATION:Elkford Alliance Church (in the Basement)\, 1803 Alpine Drive\, Elkford\, BC\, V0B 1H0\, Canada
ORGANIZER;CN="Fernie Women's Resource Certre (Parent-Tot Funtimes)":MAILTO:parenttotfuntimes@gmail.com
END:VEVENT
BEGIN:VEVENT
DTSTART;TZID=America/Vancouver:20291010T093000
DTEND;TZID=America/Vancouver:20291010T113000
DTSTAMP:20260422T022514
CREATED:20250702T160033Z
LAST-MODIFIED:20260220T220251Z
UID:10002574-1886319000-1886326200@www.ferniewomenscentre.com
SUMMARY:Parent-Tot Funtimes (Elkford)
DESCRIPTION:Parent-Tot Funtimes is a drop-in program for families with kids aged 0 to 6. It’s all about helping families connect and giving kids a chance to learn early. Every session has toys\, songs and stories\, and a craft or fun activity.
URL:https://www.ferniewomenscentre.com/calendar/parent-tot-funtimes-elkford-2-2/2029-10-10/
LOCATION:Elkford Alliance Church (in the Basement)\, 1803 Alpine Drive\, Elkford\, BC\, V0B 1H0\, Canada
ORGANIZER;CN="Fernie Women's Resource Certre (Parent-Tot Funtimes)":MAILTO:parenttotfuntimes@gmail.com
END:VEVENT
BEGIN:VEVENT
DTSTART;TZID=America/Vancouver:20291017T093000
DTEND;TZID=America/Vancouver:20291017T113000
DTSTAMP:20260422T022514
CREATED:20250702T160033Z
LAST-MODIFIED:20260220T220251Z
UID:10002575-1886923800-1886931000@www.ferniewomenscentre.com
SUMMARY:Parent-Tot Funtimes (Elkford)
DESCRIPTION:Parent-Tot Funtimes is a drop-in program for families with kids aged 0 to 6. It’s all about helping families connect and giving kids a chance to learn early. Every session has toys\, songs and stories\, and a craft or fun activity.
URL:https://www.ferniewomenscentre.com/calendar/parent-tot-funtimes-elkford-2-2/2029-10-17/
LOCATION:Elkford Alliance Church (in the Basement)\, 1803 Alpine Drive\, Elkford\, BC\, V0B 1H0\, Canada
ORGANIZER;CN="Fernie Women's Resource Certre (Parent-Tot Funtimes)":MAILTO:parenttotfuntimes@gmail.com
END:VEVENT
BEGIN:VEVENT
DTSTART;TZID=America/Vancouver:20291024T093000
DTEND;TZID=America/Vancouver:20291024T113000
DTSTAMP:20260422T022514
CREATED:20250702T160033Z
LAST-MODIFIED:20260220T220251Z
UID:10002576-1887528600-1887535800@www.ferniewomenscentre.com
SUMMARY:Parent-Tot Funtimes (Elkford)
DESCRIPTION:Parent-Tot Funtimes is a drop-in program for families with kids aged 0 to 6. It’s all about helping families connect and giving kids a chance to learn early. Every session has toys\, songs and stories\, and a craft or fun activity.
URL:https://www.ferniewomenscentre.com/calendar/parent-tot-funtimes-elkford-2-2/2029-10-24/
LOCATION:Elkford Alliance Church (in the Basement)\, 1803 Alpine Drive\, Elkford\, BC\, V0B 1H0\, Canada
ORGANIZER;CN="Fernie Women's Resource Certre (Parent-Tot Funtimes)":MAILTO:parenttotfuntimes@gmail.com
END:VEVENT
BEGIN:VEVENT
DTSTART;TZID=America/Vancouver:20291031T093000
DTEND;TZID=America/Vancouver:20291031T113000
DTSTAMP:20260422T022514
CREATED:20250702T160033Z
LAST-MODIFIED:20260220T220251Z
UID:10002577-1888133400-1888140600@www.ferniewomenscentre.com
SUMMARY:Parent-Tot Funtimes (Elkford)
DESCRIPTION:Parent-Tot Funtimes is a drop-in program for families with kids aged 0 to 6. It’s all about helping families connect and giving kids a chance to learn early. Every session has toys\, songs and stories\, and a craft or fun activity.
URL:https://www.ferniewomenscentre.com/calendar/parent-tot-funtimes-elkford-2-2/2029-10-31/
LOCATION:Elkford Alliance Church (in the Basement)\, 1803 Alpine Drive\, Elkford\, BC\, V0B 1H0\, Canada
ORGANIZER;CN="Fernie Women's Resource Certre (Parent-Tot Funtimes)":MAILTO:parenttotfuntimes@gmail.com
END:VEVENT
BEGIN:VEVENT
DTSTART;TZID=America/Vancouver:20291107T093000
DTEND;TZID=America/Vancouver:20291107T113000
DTSTAMP:20260422T022514
CREATED:20250702T160033Z
LAST-MODIFIED:20260220T220251Z
UID:10002578-1888738200-1888745400@www.ferniewomenscentre.com
SUMMARY:Parent-Tot Funtimes (Elkford)
DESCRIPTION:Parent-Tot Funtimes is a drop-in program for families with kids aged 0 to 6. It’s all about helping families connect and giving kids a chance to learn early. Every session has toys\, songs and stories\, and a craft or fun activity.
URL:https://www.ferniewomenscentre.com/calendar/parent-tot-funtimes-elkford-2-2/2029-11-07/
LOCATION:Elkford Alliance Church (in the Basement)\, 1803 Alpine Drive\, Elkford\, BC\, V0B 1H0\, Canada
ORGANIZER;CN="Fernie Women's Resource Certre (Parent-Tot Funtimes)":MAILTO:parenttotfuntimes@gmail.com
END:VEVENT
BEGIN:VEVENT
DTSTART;TZID=America/Vancouver:20291114T093000
DTEND;TZID=America/Vancouver:20291114T113000
DTSTAMP:20260422T022514
CREATED:20250702T160033Z
LAST-MODIFIED:20260220T220251Z
UID:10002579-1889343000-1889350200@www.ferniewomenscentre.com
SUMMARY:Parent-Tot Funtimes (Elkford)
DESCRIPTION:Parent-Tot Funtimes is a drop-in program for families with kids aged 0 to 6. It’s all about helping families connect and giving kids a chance to learn early. Every session has toys\, songs and stories\, and a craft or fun activity.
URL:https://www.ferniewomenscentre.com/calendar/parent-tot-funtimes-elkford-2-2/2029-11-14/
LOCATION:Elkford Alliance Church (in the Basement)\, 1803 Alpine Drive\, Elkford\, BC\, V0B 1H0\, Canada
ORGANIZER;CN="Fernie Women's Resource Certre (Parent-Tot Funtimes)":MAILTO:parenttotfuntimes@gmail.com
END:VEVENT
BEGIN:VEVENT
DTSTART;TZID=America/Vancouver:20291121T093000
DTEND;TZID=America/Vancouver:20291121T113000
DTSTAMP:20260422T022514
CREATED:20250702T160033Z
LAST-MODIFIED:20260220T220251Z
UID:10002580-1889947800-1889955000@www.ferniewomenscentre.com
SUMMARY:Parent-Tot Funtimes (Elkford)
DESCRIPTION:Parent-Tot Funtimes is a drop-in program for families with kids aged 0 to 6. It’s all about helping families connect and giving kids a chance to learn early. Every session has toys\, songs and stories\, and a craft or fun activity.
URL:https://www.ferniewomenscentre.com/calendar/parent-tot-funtimes-elkford-2-2/2029-11-21/
LOCATION:Elkford Alliance Church (in the Basement)\, 1803 Alpine Drive\, Elkford\, BC\, V0B 1H0\, Canada
ORGANIZER;CN="Fernie Women's Resource Certre (Parent-Tot Funtimes)":MAILTO:parenttotfuntimes@gmail.com
END:VEVENT
BEGIN:VEVENT
DTSTART;TZID=America/Vancouver:20291128T093000
DTEND;TZID=America/Vancouver:20291128T113000
DTSTAMP:20260422T022514
CREATED:20250702T160033Z
LAST-MODIFIED:20260220T220251Z
UID:10002581-1890552600-1890559800@www.ferniewomenscentre.com
SUMMARY:Parent-Tot Funtimes (Elkford)
DESCRIPTION:Parent-Tot Funtimes is a drop-in program for families with kids aged 0 to 6. It’s all about helping families connect and giving kids a chance to learn early. Every session has toys\, songs and stories\, and a craft or fun activity.
URL:https://www.ferniewomenscentre.com/calendar/parent-tot-funtimes-elkford-2-2/2029-11-28/
LOCATION:Elkford Alliance Church (in the Basement)\, 1803 Alpine Drive\, Elkford\, BC\, V0B 1H0\, Canada
ORGANIZER;CN="Fernie Women's Resource Certre (Parent-Tot Funtimes)":MAILTO:parenttotfuntimes@gmail.com
END:VEVENT
BEGIN:VEVENT
DTSTART;TZID=America/Vancouver:20291205T093000
DTEND;TZID=America/Vancouver:20291205T113000
DTSTAMP:20260422T022514
CREATED:20250702T160033Z
LAST-MODIFIED:20260220T220251Z
UID:10002582-1891157400-1891164600@www.ferniewomenscentre.com
SUMMARY:Parent-Tot Funtimes (Elkford)
DESCRIPTION:Parent-Tot Funtimes is a drop-in program for families with kids aged 0 to 6. It’s all about helping families connect and giving kids a chance to learn early. Every session has toys\, songs and stories\, and a craft or fun activity.
URL:https://www.ferniewomenscentre.com/calendar/parent-tot-funtimes-elkford-2-2/2029-12-05/
LOCATION:Elkford Alliance Church (in the Basement)\, 1803 Alpine Drive\, Elkford\, BC\, V0B 1H0\, Canada
ORGANIZER;CN="Fernie Women's Resource Certre (Parent-Tot Funtimes)":MAILTO:parenttotfuntimes@gmail.com
END:VEVENT
BEGIN:VEVENT
DTSTART;TZID=America/Vancouver:20291212T093000
DTEND;TZID=America/Vancouver:20291212T113000
DTSTAMP:20260422T022514
CREATED:20250702T160033Z
LAST-MODIFIED:20260220T220251Z
UID:10002583-1891762200-1891769400@www.ferniewomenscentre.com
SUMMARY:Parent-Tot Funtimes (Elkford)
DESCRIPTION:Parent-Tot Funtimes is a drop-in program for families with kids aged 0 to 6. It’s all about helping families connect and giving kids a chance to learn early. Every session has toys\, songs and stories\, and a craft or fun activity.
URL:https://www.ferniewomenscentre.com/calendar/parent-tot-funtimes-elkford-2-2/2029-12-12/
LOCATION:Elkford Alliance Church (in the Basement)\, 1803 Alpine Drive\, Elkford\, BC\, V0B 1H0\, Canada
ORGANIZER;CN="Fernie Women's Resource Certre (Parent-Tot Funtimes)":MAILTO:parenttotfuntimes@gmail.com
END:VEVENT
BEGIN:VEVENT
DTSTART;TZID=America/Vancouver:20291219T093000
DTEND;TZID=America/Vancouver:20291219T113000
DTSTAMP:20260422T022514
CREATED:20250702T160033Z
LAST-MODIFIED:20260220T220251Z
UID:10002584-1892367000-1892374200@www.ferniewomenscentre.com
SUMMARY:Parent-Tot Funtimes (Elkford)
DESCRIPTION:Parent-Tot Funtimes is a drop-in program for families with kids aged 0 to 6. It’s all about helping families connect and giving kids a chance to learn early. Every session has toys\, songs and stories\, and a craft or fun activity.
URL:https://www.ferniewomenscentre.com/calendar/parent-tot-funtimes-elkford-2-2/2029-12-19/
LOCATION:Elkford Alliance Church (in the Basement)\, 1803 Alpine Drive\, Elkford\, BC\, V0B 1H0\, Canada
ORGANIZER;CN="Fernie Women's Resource Certre (Parent-Tot Funtimes)":MAILTO:parenttotfuntimes@gmail.com
END:VEVENT
BEGIN:VEVENT
DTSTART;TZID=America/Vancouver:20291226T093000
DTEND;TZID=America/Vancouver:20291226T113000
DTSTAMP:20260422T022514
CREATED:20250702T160033Z
LAST-MODIFIED:20260220T220251Z
UID:10002585-1892971800-1892979000@www.ferniewomenscentre.com
SUMMARY:Parent-Tot Funtimes (Elkford)
DESCRIPTION:Parent-Tot Funtimes is a drop-in program for families with kids aged 0 to 6. It’s all about helping families connect and giving kids a chance to learn early. Every session has toys\, songs and stories\, and a craft or fun activity.
URL:https://www.ferniewomenscentre.com/calendar/parent-tot-funtimes-elkford-2-2/2029-12-26/
LOCATION:Elkford Alliance Church (in the Basement)\, 1803 Alpine Drive\, Elkford\, BC\, V0B 1H0\, Canada
ORGANIZER;CN="Fernie Women's Resource Certre (Parent-Tot Funtimes)":MAILTO:parenttotfuntimes@gmail.com
END:VEVENT
BEGIN:VEVENT
DTSTART;TZID=America/Vancouver:20300102T093000
DTEND;TZID=America/Vancouver:20300102T113000
DTSTAMP:20260422T022514
CREATED:20250702T160033Z
LAST-MODIFIED:20260220T220251Z
UID:10002586-1893576600-1893583800@www.ferniewomenscentre.com
SUMMARY:Parent-Tot Funtimes (Elkford)
DESCRIPTION:Parent-Tot Funtimes is a drop-in program for families with kids aged 0 to 6. It’s all about helping families connect and giving kids a chance to learn early. Every session has toys\, songs and stories\, and a craft or fun activity.
URL:https://www.ferniewomenscentre.com/calendar/parent-tot-funtimes-elkford-2-2/2030-01-02/
LOCATION:Elkford Alliance Church (in the Basement)\, 1803 Alpine Drive\, Elkford\, BC\, V0B 1H0\, Canada
ORGANIZER;CN="Fernie Women's Resource Certre (Parent-Tot Funtimes)":MAILTO:parenttotfuntimes@gmail.com
END:VEVENT
BEGIN:VEVENT
DTSTART;TZID=America/Vancouver:20300109T093000
DTEND;TZID=America/Vancouver:20300109T113000
DTSTAMP:20260422T022514
CREATED:20250702T160033Z
LAST-MODIFIED:20260220T220251Z
UID:10002587-1894181400-1894188600@www.ferniewomenscentre.com
SUMMARY:Parent-Tot Funtimes (Elkford)
DESCRIPTION:Parent-Tot Funtimes is a drop-in program for families with kids aged 0 to 6. It’s all about helping families connect and giving kids a chance to learn early. Every session has toys\, songs and stories\, and a craft or fun activity.
URL:https://www.ferniewomenscentre.com/calendar/parent-tot-funtimes-elkford-2-2/2030-01-09/
LOCATION:Elkford Alliance Church (in the Basement)\, 1803 Alpine Drive\, Elkford\, BC\, V0B 1H0\, Canada
ORGANIZER;CN="Fernie Women's Resource Certre (Parent-Tot Funtimes)":MAILTO:parenttotfuntimes@gmail.com
END:VEVENT
BEGIN:VEVENT
DTSTART;TZID=America/Vancouver:20300116T093000
DTEND;TZID=America/Vancouver:20300116T113000
DTSTAMP:20260422T022514
CREATED:20250702T160033Z
LAST-MODIFIED:20260220T220251Z
UID:10002588-1894786200-1894793400@www.ferniewomenscentre.com
SUMMARY:Parent-Tot Funtimes (Elkford)
DESCRIPTION:Parent-Tot Funtimes is a drop-in program for families with kids aged 0 to 6. It’s all about helping families connect and giving kids a chance to learn early. Every session has toys\, songs and stories\, and a craft or fun activity.
URL:https://www.ferniewomenscentre.com/calendar/parent-tot-funtimes-elkford-2-2/2030-01-16/
LOCATION:Elkford Alliance Church (in the Basement)\, 1803 Alpine Drive\, Elkford\, BC\, V0B 1H0\, Canada
ORGANIZER;CN="Fernie Women's Resource Certre (Parent-Tot Funtimes)":MAILTO:parenttotfuntimes@gmail.com
END:VEVENT
BEGIN:VEVENT
DTSTART;TZID=America/Vancouver:20300123T093000
DTEND;TZID=America/Vancouver:20300123T113000
DTSTAMP:20260422T022514
CREATED:20250702T160033Z
LAST-MODIFIED:20260220T220251Z
UID:10002589-1895391000-1895398200@www.ferniewomenscentre.com
SUMMARY:Parent-Tot Funtimes (Elkford)
DESCRIPTION:Parent-Tot Funtimes is a drop-in program for families with kids aged 0 to 6. It’s all about helping families connect and giving kids a chance to learn early. Every session has toys\, songs and stories\, and a craft or fun activity.
URL:https://www.ferniewomenscentre.com/calendar/parent-tot-funtimes-elkford-2-2/2030-01-23/
LOCATION:Elkford Alliance Church (in the Basement)\, 1803 Alpine Drive\, Elkford\, BC\, V0B 1H0\, Canada
ORGANIZER;CN="Fernie Women's Resource Certre (Parent-Tot Funtimes)":MAILTO:parenttotfuntimes@gmail.com
END:VEVENT
BEGIN:VEVENT
DTSTART;TZID=America/Vancouver:20300130T093000
DTEND;TZID=America/Vancouver:20300130T113000
DTSTAMP:20260422T022514
CREATED:20250702T160033Z
LAST-MODIFIED:20260220T220251Z
UID:10002590-1895995800-1896003000@www.ferniewomenscentre.com
SUMMARY:Parent-Tot Funtimes (Elkford)
DESCRIPTION:Parent-Tot Funtimes is a drop-in program for families with kids aged 0 to 6. It’s all about helping families connect and giving kids a chance to learn early. Every session has toys\, songs and stories\, and a craft or fun activity.
URL:https://www.ferniewomenscentre.com/calendar/parent-tot-funtimes-elkford-2-2/2030-01-30/
LOCATION:Elkford Alliance Church (in the Basement)\, 1803 Alpine Drive\, Elkford\, BC\, V0B 1H0\, Canada
ORGANIZER;CN="Fernie Women's Resource Certre (Parent-Tot Funtimes)":MAILTO:parenttotfuntimes@gmail.com
END:VEVENT
END:VCALENDAR