BEGIN:VCALENDAR
VERSION:2.0
PRODID:-//Fernie Women&#039;s Resource Centre - ECPv6.15.20//NONSGML v1.0//EN
CALSCALE:GREGORIAN
METHOD:PUBLISH
X-WR-CALNAME:Fernie Women&#039;s Resource Centre
X-ORIGINAL-URL:https://www.ferniewomenscentre.com
X-WR-CALDESC:Events for Fernie Women&#039;s Resource Centre
REFRESH-INTERVAL;VALUE=DURATION:PT1H
X-Robots-Tag:noindex
X-PUBLISHED-TTL:PT1H
BEGIN:VTIMEZONE
TZID:America/Vancouver
BEGIN:DAYLIGHT
TZOFFSETFROM:-0800
TZOFFSETTO:-0700
TZNAME:PDT
DTSTART:20280312T100000
END:DAYLIGHT
BEGIN:STANDARD
TZOFFSETFROM:-0700
TZOFFSETTO:-0800
TZNAME:PST
DTSTART:20281105T090000
END:STANDARD
BEGIN:DAYLIGHT
TZOFFSETFROM:-0800
TZOFFSETTO:-0700
TZNAME:PDT
DTSTART:20290311T100000
END:DAYLIGHT
BEGIN:STANDARD
TZOFFSETFROM:-0700
TZOFFSETTO:-0800
TZNAME:PST
DTSTART:20291104T090000
END:STANDARD
BEGIN:DAYLIGHT
TZOFFSETFROM:-0800
TZOFFSETTO:-0700
TZNAME:PDT
DTSTART:20300310T100000
END:DAYLIGHT
BEGIN:STANDARD
TZOFFSETFROM:-0700
TZOFFSETTO:-0800
TZNAME:PST
DTSTART:20301103T090000
END:STANDARD
BEGIN:DAYLIGHT
TZOFFSETFROM:-0800
TZOFFSETTO:-0700
TZNAME:PDT
DTSTART:20310309T100000
END:DAYLIGHT
BEGIN:STANDARD
TZOFFSETFROM:-0700
TZOFFSETTO:-0800
TZNAME:PST
DTSTART:20311102T090000
END:STANDARD
END:VTIMEZONE
BEGIN:VEVENT
DTSTART;TZID=America/Vancouver:20291226T093000
DTEND;TZID=America/Vancouver:20291226T113000
DTSTAMP:20260422T061624
CREATED:20250702T160033Z
LAST-MODIFIED:20260220T220251Z
UID:10002585-1892971800-1892979000@www.ferniewomenscentre.com
SUMMARY:Parent-Tot Funtimes (Elkford)
DESCRIPTION:Parent-Tot Funtimes is a drop-in program for families with kids aged 0 to 6. It’s all about helping families connect and giving kids a chance to learn early. Every session has toys\, songs and stories\, and a craft or fun activity.
URL:https://www.ferniewomenscentre.com/calendar/parent-tot-funtimes-elkford-2-2/2029-12-26/
LOCATION:Elkford Alliance Church (in the Basement)\, 1803 Alpine Drive\, Elkford\, BC\, V0B 1H0\, Canada
ORGANIZER;CN="Fernie Women's Resource Certre (Parent-Tot Funtimes)":MAILTO:parenttotfuntimes@gmail.com
END:VEVENT
BEGIN:VEVENT
DTSTART;TZID=America/Vancouver:20300102T093000
DTEND;TZID=America/Vancouver:20300102T113000
DTSTAMP:20260422T061625
CREATED:20250702T160033Z
LAST-MODIFIED:20260220T220251Z
UID:10002586-1893576600-1893583800@www.ferniewomenscentre.com
SUMMARY:Parent-Tot Funtimes (Elkford)
DESCRIPTION:Parent-Tot Funtimes is a drop-in program for families with kids aged 0 to 6. It’s all about helping families connect and giving kids a chance to learn early. Every session has toys\, songs and stories\, and a craft or fun activity.
URL:https://www.ferniewomenscentre.com/calendar/parent-tot-funtimes-elkford-2-2/2030-01-02/
LOCATION:Elkford Alliance Church (in the Basement)\, 1803 Alpine Drive\, Elkford\, BC\, V0B 1H0\, Canada
ORGANIZER;CN="Fernie Women's Resource Certre (Parent-Tot Funtimes)":MAILTO:parenttotfuntimes@gmail.com
END:VEVENT
BEGIN:VEVENT
DTSTART;TZID=America/Vancouver:20300109T093000
DTEND;TZID=America/Vancouver:20300109T113000
DTSTAMP:20260422T061625
CREATED:20250702T160033Z
LAST-MODIFIED:20260220T220251Z
UID:10002587-1894181400-1894188600@www.ferniewomenscentre.com
SUMMARY:Parent-Tot Funtimes (Elkford)
DESCRIPTION:Parent-Tot Funtimes is a drop-in program for families with kids aged 0 to 6. It’s all about helping families connect and giving kids a chance to learn early. Every session has toys\, songs and stories\, and a craft or fun activity.
URL:https://www.ferniewomenscentre.com/calendar/parent-tot-funtimes-elkford-2-2/2030-01-09/
LOCATION:Elkford Alliance Church (in the Basement)\, 1803 Alpine Drive\, Elkford\, BC\, V0B 1H0\, Canada
ORGANIZER;CN="Fernie Women's Resource Certre (Parent-Tot Funtimes)":MAILTO:parenttotfuntimes@gmail.com
END:VEVENT
BEGIN:VEVENT
DTSTART;TZID=America/Vancouver:20300116T093000
DTEND;TZID=America/Vancouver:20300116T113000
DTSTAMP:20260422T061625
CREATED:20250702T160033Z
LAST-MODIFIED:20260220T220251Z
UID:10002588-1894786200-1894793400@www.ferniewomenscentre.com
SUMMARY:Parent-Tot Funtimes (Elkford)
DESCRIPTION:Parent-Tot Funtimes is a drop-in program for families with kids aged 0 to 6. It’s all about helping families connect and giving kids a chance to learn early. Every session has toys\, songs and stories\, and a craft or fun activity.
URL:https://www.ferniewomenscentre.com/calendar/parent-tot-funtimes-elkford-2-2/2030-01-16/
LOCATION:Elkford Alliance Church (in the Basement)\, 1803 Alpine Drive\, Elkford\, BC\, V0B 1H0\, Canada
ORGANIZER;CN="Fernie Women's Resource Certre (Parent-Tot Funtimes)":MAILTO:parenttotfuntimes@gmail.com
END:VEVENT
BEGIN:VEVENT
DTSTART;TZID=America/Vancouver:20300123T093000
DTEND;TZID=America/Vancouver:20300123T113000
DTSTAMP:20260422T061625
CREATED:20250702T160033Z
LAST-MODIFIED:20260220T220251Z
UID:10002589-1895391000-1895398200@www.ferniewomenscentre.com
SUMMARY:Parent-Tot Funtimes (Elkford)
DESCRIPTION:Parent-Tot Funtimes is a drop-in program for families with kids aged 0 to 6. It’s all about helping families connect and giving kids a chance to learn early. Every session has toys\, songs and stories\, and a craft or fun activity.
URL:https://www.ferniewomenscentre.com/calendar/parent-tot-funtimes-elkford-2-2/2030-01-23/
LOCATION:Elkford Alliance Church (in the Basement)\, 1803 Alpine Drive\, Elkford\, BC\, V0B 1H0\, Canada
ORGANIZER;CN="Fernie Women's Resource Certre (Parent-Tot Funtimes)":MAILTO:parenttotfuntimes@gmail.com
END:VEVENT
BEGIN:VEVENT
DTSTART;TZID=America/Vancouver:20300130T093000
DTEND;TZID=America/Vancouver:20300130T113000
DTSTAMP:20260422T061625
CREATED:20250702T160033Z
LAST-MODIFIED:20260220T220251Z
UID:10002590-1895995800-1896003000@www.ferniewomenscentre.com
SUMMARY:Parent-Tot Funtimes (Elkford)
DESCRIPTION:Parent-Tot Funtimes is a drop-in program for families with kids aged 0 to 6. It’s all about helping families connect and giving kids a chance to learn early. Every session has toys\, songs and stories\, and a craft or fun activity.
URL:https://www.ferniewomenscentre.com/calendar/parent-tot-funtimes-elkford-2-2/2030-01-30/
LOCATION:Elkford Alliance Church (in the Basement)\, 1803 Alpine Drive\, Elkford\, BC\, V0B 1H0\, Canada
ORGANIZER;CN="Fernie Women's Resource Certre (Parent-Tot Funtimes)":MAILTO:parenttotfuntimes@gmail.com
END:VEVENT
BEGIN:VEVENT
DTSTART;TZID=America/Vancouver:20300206T093000
DTEND;TZID=America/Vancouver:20300206T113000
DTSTAMP:20260422T061625
CREATED:20250702T160033Z
LAST-MODIFIED:20260220T220251Z
UID:10002591-1896600600-1896607800@www.ferniewomenscentre.com
SUMMARY:Parent-Tot Funtimes (Elkford)
DESCRIPTION:Parent-Tot Funtimes is a drop-in program for families with kids aged 0 to 6. It’s all about helping families connect and giving kids a chance to learn early. Every session has toys\, songs and stories\, and a craft or fun activity.
URL:https://www.ferniewomenscentre.com/calendar/parent-tot-funtimes-elkford-2-2/2030-02-06/
LOCATION:Elkford Alliance Church (in the Basement)\, 1803 Alpine Drive\, Elkford\, BC\, V0B 1H0\, Canada
ORGANIZER;CN="Fernie Women's Resource Certre (Parent-Tot Funtimes)":MAILTO:parenttotfuntimes@gmail.com
END:VEVENT
BEGIN:VEVENT
DTSTART;TZID=America/Vancouver:20300213T093000
DTEND;TZID=America/Vancouver:20300213T113000
DTSTAMP:20260422T061625
CREATED:20250702T160033Z
LAST-MODIFIED:20260220T220251Z
UID:10002592-1897205400-1897212600@www.ferniewomenscentre.com
SUMMARY:Parent-Tot Funtimes (Elkford)
DESCRIPTION:Parent-Tot Funtimes is a drop-in program for families with kids aged 0 to 6. It’s all about helping families connect and giving kids a chance to learn early. Every session has toys\, songs and stories\, and a craft or fun activity.
URL:https://www.ferniewomenscentre.com/calendar/parent-tot-funtimes-elkford-2-2/2030-02-13/
LOCATION:Elkford Alliance Church (in the Basement)\, 1803 Alpine Drive\, Elkford\, BC\, V0B 1H0\, Canada
ORGANIZER;CN="Fernie Women's Resource Certre (Parent-Tot Funtimes)":MAILTO:parenttotfuntimes@gmail.com
END:VEVENT
BEGIN:VEVENT
DTSTART;TZID=America/Vancouver:20300220T093000
DTEND;TZID=America/Vancouver:20300220T113000
DTSTAMP:20260422T061625
CREATED:20250702T160033Z
LAST-MODIFIED:20260220T220251Z
UID:10002593-1897810200-1897817400@www.ferniewomenscentre.com
SUMMARY:Parent-Tot Funtimes (Elkford)
DESCRIPTION:Parent-Tot Funtimes is a drop-in program for families with kids aged 0 to 6. It’s all about helping families connect and giving kids a chance to learn early. Every session has toys\, songs and stories\, and a craft or fun activity.
URL:https://www.ferniewomenscentre.com/calendar/parent-tot-funtimes-elkford-2-2/2030-02-20/
LOCATION:Elkford Alliance Church (in the Basement)\, 1803 Alpine Drive\, Elkford\, BC\, V0B 1H0\, Canada
ORGANIZER;CN="Fernie Women's Resource Certre (Parent-Tot Funtimes)":MAILTO:parenttotfuntimes@gmail.com
END:VEVENT
BEGIN:VEVENT
DTSTART;TZID=America/Vancouver:20300227T093000
DTEND;TZID=America/Vancouver:20300227T113000
DTSTAMP:20260422T061625
CREATED:20250702T160033Z
LAST-MODIFIED:20260220T220251Z
UID:10002594-1898415000-1898422200@www.ferniewomenscentre.com
SUMMARY:Parent-Tot Funtimes (Elkford)
DESCRIPTION:Parent-Tot Funtimes is a drop-in program for families with kids aged 0 to 6. It’s all about helping families connect and giving kids a chance to learn early. Every session has toys\, songs and stories\, and a craft or fun activity.
URL:https://www.ferniewomenscentre.com/calendar/parent-tot-funtimes-elkford-2-2/2030-02-27/
LOCATION:Elkford Alliance Church (in the Basement)\, 1803 Alpine Drive\, Elkford\, BC\, V0B 1H0\, Canada
ORGANIZER;CN="Fernie Women's Resource Certre (Parent-Tot Funtimes)":MAILTO:parenttotfuntimes@gmail.com
END:VEVENT
BEGIN:VEVENT
DTSTART;TZID=America/Vancouver:20300306T093000
DTEND;TZID=America/Vancouver:20300306T113000
DTSTAMP:20260422T061625
CREATED:20250702T160033Z
LAST-MODIFIED:20260220T220251Z
UID:10002598-1899019800-1899027000@www.ferniewomenscentre.com
SUMMARY:Parent-Tot Funtimes (Elkford)
DESCRIPTION:Parent-Tot Funtimes is a drop-in program for families with kids aged 0 to 6. It’s all about helping families connect and giving kids a chance to learn early. Every session has toys\, songs and stories\, and a craft or fun activity.
URL:https://www.ferniewomenscentre.com/calendar/parent-tot-funtimes-elkford-2-2/2030-03-06/
LOCATION:Elkford Alliance Church (in the Basement)\, 1803 Alpine Drive\, Elkford\, BC\, V0B 1H0\, Canada
ORGANIZER;CN="Fernie Women's Resource Certre (Parent-Tot Funtimes)":MAILTO:parenttotfuntimes@gmail.com
END:VEVENT
BEGIN:VEVENT
DTSTART;TZID=America/Vancouver:20300313T093000
DTEND;TZID=America/Vancouver:20300313T113000
DTSTAMP:20260422T061625
CREATED:20250702T160033Z
LAST-MODIFIED:20260220T220251Z
UID:10002938-1899624600-1899631800@www.ferniewomenscentre.com
SUMMARY:Parent-Tot Funtimes (Elkford)
DESCRIPTION:Parent-Tot Funtimes is a drop-in program for families with kids aged 0 to 6. It’s all about helping families connect and giving kids a chance to learn early. Every session has toys\, songs and stories\, and a craft or fun activity.
URL:https://www.ferniewomenscentre.com/calendar/parent-tot-funtimes-elkford-2-2/2030-03-13/
LOCATION:Elkford Alliance Church (in the Basement)\, 1803 Alpine Drive\, Elkford\, BC\, V0B 1H0\, Canada
ORGANIZER;CN="Fernie Women's Resource Certre (Parent-Tot Funtimes)":MAILTO:parenttotfuntimes@gmail.com
END:VEVENT
BEGIN:VEVENT
DTSTART;TZID=America/Vancouver:20300320T093000
DTEND;TZID=America/Vancouver:20300320T113000
DTSTAMP:20260422T061625
CREATED:20250702T160033Z
LAST-MODIFIED:20260220T220251Z
UID:10002939-1900229400-1900236600@www.ferniewomenscentre.com
SUMMARY:Parent-Tot Funtimes (Elkford)
DESCRIPTION:Parent-Tot Funtimes is a drop-in program for families with kids aged 0 to 6. It’s all about helping families connect and giving kids a chance to learn early. Every session has toys\, songs and stories\, and a craft or fun activity.
URL:https://www.ferniewomenscentre.com/calendar/parent-tot-funtimes-elkford-2-2/2030-03-20/
LOCATION:Elkford Alliance Church (in the Basement)\, 1803 Alpine Drive\, Elkford\, BC\, V0B 1H0\, Canada
ORGANIZER;CN="Fernie Women's Resource Certre (Parent-Tot Funtimes)":MAILTO:parenttotfuntimes@gmail.com
END:VEVENT
BEGIN:VEVENT
DTSTART;TZID=America/Vancouver:20300327T093000
DTEND;TZID=America/Vancouver:20300327T113000
DTSTAMP:20260422T061625
CREATED:20250702T160033Z
LAST-MODIFIED:20260220T220251Z
UID:10002940-1900834200-1900841400@www.ferniewomenscentre.com
SUMMARY:Parent-Tot Funtimes (Elkford)
DESCRIPTION:Parent-Tot Funtimes is a drop-in program for families with kids aged 0 to 6. It’s all about helping families connect and giving kids a chance to learn early. Every session has toys\, songs and stories\, and a craft or fun activity.
URL:https://www.ferniewomenscentre.com/calendar/parent-tot-funtimes-elkford-2-2/2030-03-27/
LOCATION:Elkford Alliance Church (in the Basement)\, 1803 Alpine Drive\, Elkford\, BC\, V0B 1H0\, Canada
ORGANIZER;CN="Fernie Women's Resource Certre (Parent-Tot Funtimes)":MAILTO:parenttotfuntimes@gmail.com
END:VEVENT
BEGIN:VEVENT
DTSTART;TZID=America/Vancouver:20300403T093000
DTEND;TZID=America/Vancouver:20300403T113000
DTSTAMP:20260422T061625
CREATED:20250702T160033Z
LAST-MODIFIED:20260220T220251Z
UID:10002941-1901439000-1901446200@www.ferniewomenscentre.com
SUMMARY:Parent-Tot Funtimes (Elkford)
DESCRIPTION:Parent-Tot Funtimes is a drop-in program for families with kids aged 0 to 6. It’s all about helping families connect and giving kids a chance to learn early. Every session has toys\, songs and stories\, and a craft or fun activity.
URL:https://www.ferniewomenscentre.com/calendar/parent-tot-funtimes-elkford-2-2/2030-04-03/
LOCATION:Elkford Alliance Church (in the Basement)\, 1803 Alpine Drive\, Elkford\, BC\, V0B 1H0\, Canada
ORGANIZER;CN="Fernie Women's Resource Certre (Parent-Tot Funtimes)":MAILTO:parenttotfuntimes@gmail.com
END:VEVENT
BEGIN:VEVENT
DTSTART;TZID=America/Vancouver:20300410T093000
DTEND;TZID=America/Vancouver:20300410T113000
DTSTAMP:20260422T061625
CREATED:20250702T160033Z
LAST-MODIFIED:20260220T220251Z
UID:10002942-1902043800-1902051000@www.ferniewomenscentre.com
SUMMARY:Parent-Tot Funtimes (Elkford)
DESCRIPTION:Parent-Tot Funtimes is a drop-in program for families with kids aged 0 to 6. It’s all about helping families connect and giving kids a chance to learn early. Every session has toys\, songs and stories\, and a craft or fun activity.
URL:https://www.ferniewomenscentre.com/calendar/parent-tot-funtimes-elkford-2-2/2030-04-10/
LOCATION:Elkford Alliance Church (in the Basement)\, 1803 Alpine Drive\, Elkford\, BC\, V0B 1H0\, Canada
ORGANIZER;CN="Fernie Women's Resource Certre (Parent-Tot Funtimes)":MAILTO:parenttotfuntimes@gmail.com
END:VEVENT
BEGIN:VEVENT
DTSTART;TZID=America/Vancouver:20300417T093000
DTEND;TZID=America/Vancouver:20300417T113000
DTSTAMP:20260422T061625
CREATED:20250702T160033Z
LAST-MODIFIED:20260220T220251Z
UID:10002943-1902648600-1902655800@www.ferniewomenscentre.com
SUMMARY:Parent-Tot Funtimes (Elkford)
DESCRIPTION:Parent-Tot Funtimes is a drop-in program for families with kids aged 0 to 6. It’s all about helping families connect and giving kids a chance to learn early. Every session has toys\, songs and stories\, and a craft or fun activity.
URL:https://www.ferniewomenscentre.com/calendar/parent-tot-funtimes-elkford-2-2/2030-04-17/
LOCATION:Elkford Alliance Church (in the Basement)\, 1803 Alpine Drive\, Elkford\, BC\, V0B 1H0\, Canada
ORGANIZER;CN="Fernie Women's Resource Certre (Parent-Tot Funtimes)":MAILTO:parenttotfuntimes@gmail.com
END:VEVENT
BEGIN:VEVENT
DTSTART;TZID=America/Vancouver:20300424T093000
DTEND;TZID=America/Vancouver:20300424T113000
DTSTAMP:20260422T061625
CREATED:20250702T160033Z
LAST-MODIFIED:20260220T220251Z
UID:10002944-1903253400-1903260600@www.ferniewomenscentre.com
SUMMARY:Parent-Tot Funtimes (Elkford)
DESCRIPTION:Parent-Tot Funtimes is a drop-in program for families with kids aged 0 to 6. It’s all about helping families connect and giving kids a chance to learn early. Every session has toys\, songs and stories\, and a craft or fun activity.
URL:https://www.ferniewomenscentre.com/calendar/parent-tot-funtimes-elkford-2-2/2030-04-24/
LOCATION:Elkford Alliance Church (in the Basement)\, 1803 Alpine Drive\, Elkford\, BC\, V0B 1H0\, Canada
ORGANIZER;CN="Fernie Women's Resource Certre (Parent-Tot Funtimes)":MAILTO:parenttotfuntimes@gmail.com
END:VEVENT
BEGIN:VEVENT
DTSTART;TZID=America/Vancouver:20300501T093000
DTEND;TZID=America/Vancouver:20300501T113000
DTSTAMP:20260422T061625
CREATED:20250702T160033Z
LAST-MODIFIED:20260220T220251Z
UID:10002945-1903858200-1903865400@www.ferniewomenscentre.com
SUMMARY:Parent-Tot Funtimes (Elkford)
DESCRIPTION:Parent-Tot Funtimes is a drop-in program for families with kids aged 0 to 6. It’s all about helping families connect and giving kids a chance to learn early. Every session has toys\, songs and stories\, and a craft or fun activity.
URL:https://www.ferniewomenscentre.com/calendar/parent-tot-funtimes-elkford-2-2/2030-05-01/
LOCATION:Elkford Alliance Church (in the Basement)\, 1803 Alpine Drive\, Elkford\, BC\, V0B 1H0\, Canada
ORGANIZER;CN="Fernie Women's Resource Certre (Parent-Tot Funtimes)":MAILTO:parenttotfuntimes@gmail.com
END:VEVENT
BEGIN:VEVENT
DTSTART;TZID=America/Vancouver:20300508T093000
DTEND;TZID=America/Vancouver:20300508T113000
DTSTAMP:20260422T061625
CREATED:20250702T160033Z
LAST-MODIFIED:20260220T220251Z
UID:10002946-1904463000-1904470200@www.ferniewomenscentre.com
SUMMARY:Parent-Tot Funtimes (Elkford)
DESCRIPTION:Parent-Tot Funtimes is a drop-in program for families with kids aged 0 to 6. It’s all about helping families connect and giving kids a chance to learn early. Every session has toys\, songs and stories\, and a craft or fun activity.
URL:https://www.ferniewomenscentre.com/calendar/parent-tot-funtimes-elkford-2-2/2030-05-08/
LOCATION:Elkford Alliance Church (in the Basement)\, 1803 Alpine Drive\, Elkford\, BC\, V0B 1H0\, Canada
ORGANIZER;CN="Fernie Women's Resource Certre (Parent-Tot Funtimes)":MAILTO:parenttotfuntimes@gmail.com
END:VEVENT
BEGIN:VEVENT
DTSTART;TZID=America/Vancouver:20300515T093000
DTEND;TZID=America/Vancouver:20300515T113000
DTSTAMP:20260422T061625
CREATED:20250702T160033Z
LAST-MODIFIED:20260220T220251Z
UID:10002947-1905067800-1905075000@www.ferniewomenscentre.com
SUMMARY:Parent-Tot Funtimes (Elkford)
DESCRIPTION:Parent-Tot Funtimes is a drop-in program for families with kids aged 0 to 6. It’s all about helping families connect and giving kids a chance to learn early. Every session has toys\, songs and stories\, and a craft or fun activity.
URL:https://www.ferniewomenscentre.com/calendar/parent-tot-funtimes-elkford-2-2/2030-05-15/
LOCATION:Elkford Alliance Church (in the Basement)\, 1803 Alpine Drive\, Elkford\, BC\, V0B 1H0\, Canada
ORGANIZER;CN="Fernie Women's Resource Certre (Parent-Tot Funtimes)":MAILTO:parenttotfuntimes@gmail.com
END:VEVENT
BEGIN:VEVENT
DTSTART;TZID=America/Vancouver:20300522T093000
DTEND;TZID=America/Vancouver:20300522T113000
DTSTAMP:20260422T061625
CREATED:20250702T160033Z
LAST-MODIFIED:20260220T220251Z
UID:10002948-1905672600-1905679800@www.ferniewomenscentre.com
SUMMARY:Parent-Tot Funtimes (Elkford)
DESCRIPTION:Parent-Tot Funtimes is a drop-in program for families with kids aged 0 to 6. It’s all about helping families connect and giving kids a chance to learn early. Every session has toys\, songs and stories\, and a craft or fun activity.
URL:https://www.ferniewomenscentre.com/calendar/parent-tot-funtimes-elkford-2-2/2030-05-22/
LOCATION:Elkford Alliance Church (in the Basement)\, 1803 Alpine Drive\, Elkford\, BC\, V0B 1H0\, Canada
ORGANIZER;CN="Fernie Women's Resource Certre (Parent-Tot Funtimes)":MAILTO:parenttotfuntimes@gmail.com
END:VEVENT
BEGIN:VEVENT
DTSTART;TZID=America/Vancouver:20300529T093000
DTEND;TZID=America/Vancouver:20300529T113000
DTSTAMP:20260422T061625
CREATED:20250702T160033Z
LAST-MODIFIED:20260220T220251Z
UID:10002949-1906277400-1906284600@www.ferniewomenscentre.com
SUMMARY:Parent-Tot Funtimes (Elkford)
DESCRIPTION:Parent-Tot Funtimes is a drop-in program for families with kids aged 0 to 6. It’s all about helping families connect and giving kids a chance to learn early. Every session has toys\, songs and stories\, and a craft or fun activity.
URL:https://www.ferniewomenscentre.com/calendar/parent-tot-funtimes-elkford-2-2/2030-05-29/
LOCATION:Elkford Alliance Church (in the Basement)\, 1803 Alpine Drive\, Elkford\, BC\, V0B 1H0\, Canada
ORGANIZER;CN="Fernie Women's Resource Certre (Parent-Tot Funtimes)":MAILTO:parenttotfuntimes@gmail.com
END:VEVENT
BEGIN:VEVENT
DTSTART;TZID=America/Vancouver:20300605T093000
DTEND;TZID=America/Vancouver:20300605T113000
DTSTAMP:20260422T061625
CREATED:20250702T160033Z
LAST-MODIFIED:20260220T220251Z
UID:10002950-1906882200-1906889400@www.ferniewomenscentre.com
SUMMARY:Parent-Tot Funtimes (Elkford)
DESCRIPTION:Parent-Tot Funtimes is a drop-in program for families with kids aged 0 to 6. It’s all about helping families connect and giving kids a chance to learn early. Every session has toys\, songs and stories\, and a craft or fun activity.
URL:https://www.ferniewomenscentre.com/calendar/parent-tot-funtimes-elkford-2-2/2030-06-05/
LOCATION:Elkford Alliance Church (in the Basement)\, 1803 Alpine Drive\, Elkford\, BC\, V0B 1H0\, Canada
ORGANIZER;CN="Fernie Women's Resource Certre (Parent-Tot Funtimes)":MAILTO:parenttotfuntimes@gmail.com
END:VEVENT
BEGIN:VEVENT
DTSTART;TZID=America/Vancouver:20300612T093000
DTEND;TZID=America/Vancouver:20300612T113000
DTSTAMP:20260422T061625
CREATED:20250702T160033Z
LAST-MODIFIED:20260220T220251Z
UID:10002951-1907487000-1907494200@www.ferniewomenscentre.com
SUMMARY:Parent-Tot Funtimes (Elkford)
DESCRIPTION:Parent-Tot Funtimes is a drop-in program for families with kids aged 0 to 6. It’s all about helping families connect and giving kids a chance to learn early. Every session has toys\, songs and stories\, and a craft or fun activity.
URL:https://www.ferniewomenscentre.com/calendar/parent-tot-funtimes-elkford-2-2/2030-06-12/
LOCATION:Elkford Alliance Church (in the Basement)\, 1803 Alpine Drive\, Elkford\, BC\, V0B 1H0\, Canada
ORGANIZER;CN="Fernie Women's Resource Certre (Parent-Tot Funtimes)":MAILTO:parenttotfuntimes@gmail.com
END:VEVENT
BEGIN:VEVENT
DTSTART;TZID=America/Vancouver:20300619T093000
DTEND;TZID=America/Vancouver:20300619T113000
DTSTAMP:20260422T061625
CREATED:20250702T160033Z
LAST-MODIFIED:20260220T220251Z
UID:10002952-1908091800-1908099000@www.ferniewomenscentre.com
SUMMARY:Parent-Tot Funtimes (Elkford)
DESCRIPTION:Parent-Tot Funtimes is a drop-in program for families with kids aged 0 to 6. It’s all about helping families connect and giving kids a chance to learn early. Every session has toys\, songs and stories\, and a craft or fun activity.
URL:https://www.ferniewomenscentre.com/calendar/parent-tot-funtimes-elkford-2-2/2030-06-19/
LOCATION:Elkford Alliance Church (in the Basement)\, 1803 Alpine Drive\, Elkford\, BC\, V0B 1H0\, Canada
ORGANIZER;CN="Fernie Women's Resource Certre (Parent-Tot Funtimes)":MAILTO:parenttotfuntimes@gmail.com
END:VEVENT
BEGIN:VEVENT
DTSTART;TZID=America/Vancouver:20300626T093000
DTEND;TZID=America/Vancouver:20300626T113000
DTSTAMP:20260422T061625
CREATED:20250702T160033Z
LAST-MODIFIED:20260220T220251Z
UID:10002953-1908696600-1908703800@www.ferniewomenscentre.com
SUMMARY:Parent-Tot Funtimes (Elkford)
DESCRIPTION:Parent-Tot Funtimes is a drop-in program for families with kids aged 0 to 6. It’s all about helping families connect and giving kids a chance to learn early. Every session has toys\, songs and stories\, and a craft or fun activity.
URL:https://www.ferniewomenscentre.com/calendar/parent-tot-funtimes-elkford-2-2/2030-06-26/
LOCATION:Elkford Alliance Church (in the Basement)\, 1803 Alpine Drive\, Elkford\, BC\, V0B 1H0\, Canada
ORGANIZER;CN="Fernie Women's Resource Certre (Parent-Tot Funtimes)":MAILTO:parenttotfuntimes@gmail.com
END:VEVENT
BEGIN:VEVENT
DTSTART;TZID=America/Vancouver:20300703T093000
DTEND;TZID=America/Vancouver:20300703T113000
DTSTAMP:20260422T061625
CREATED:20250702T160033Z
LAST-MODIFIED:20260220T220251Z
UID:10003327-1909301400-1909308600@www.ferniewomenscentre.com
SUMMARY:Parent-Tot Funtimes (Elkford)
DESCRIPTION:Parent-Tot Funtimes is a drop-in program for families with kids aged 0 to 6. It’s all about helping families connect and giving kids a chance to learn early. Every session has toys\, songs and stories\, and a craft or fun activity.
URL:https://www.ferniewomenscentre.com/calendar/parent-tot-funtimes-elkford-2-2/2030-07-03/
LOCATION:Elkford Alliance Church (in the Basement)\, 1803 Alpine Drive\, Elkford\, BC\, V0B 1H0\, Canada
ORGANIZER;CN="Fernie Women's Resource Certre (Parent-Tot Funtimes)":MAILTO:parenttotfuntimes@gmail.com
END:VEVENT
BEGIN:VEVENT
DTSTART;TZID=America/Vancouver:20300710T093000
DTEND;TZID=America/Vancouver:20300710T113000
DTSTAMP:20260422T061625
CREATED:20250702T160033Z
LAST-MODIFIED:20260220T220251Z
UID:10003328-1909906200-1909913400@www.ferniewomenscentre.com
SUMMARY:Parent-Tot Funtimes (Elkford)
DESCRIPTION:Parent-Tot Funtimes is a drop-in program for families with kids aged 0 to 6. It’s all about helping families connect and giving kids a chance to learn early. Every session has toys\, songs and stories\, and a craft or fun activity.
URL:https://www.ferniewomenscentre.com/calendar/parent-tot-funtimes-elkford-2-2/2030-07-10/
LOCATION:Elkford Alliance Church (in the Basement)\, 1803 Alpine Drive\, Elkford\, BC\, V0B 1H0\, Canada
ORGANIZER;CN="Fernie Women's Resource Certre (Parent-Tot Funtimes)":MAILTO:parenttotfuntimes@gmail.com
END:VEVENT
BEGIN:VEVENT
DTSTART;TZID=America/Vancouver:20300717T093000
DTEND;TZID=America/Vancouver:20300717T113000
DTSTAMP:20260422T061625
CREATED:20250702T160033Z
LAST-MODIFIED:20260220T220251Z
UID:10003329-1910511000-1910518200@www.ferniewomenscentre.com
SUMMARY:Parent-Tot Funtimes (Elkford)
DESCRIPTION:Parent-Tot Funtimes is a drop-in program for families with kids aged 0 to 6. It’s all about helping families connect and giving kids a chance to learn early. Every session has toys\, songs and stories\, and a craft or fun activity.
URL:https://www.ferniewomenscentre.com/calendar/parent-tot-funtimes-elkford-2-2/2030-07-17/
LOCATION:Elkford Alliance Church (in the Basement)\, 1803 Alpine Drive\, Elkford\, BC\, V0B 1H0\, Canada
ORGANIZER;CN="Fernie Women's Resource Certre (Parent-Tot Funtimes)":MAILTO:parenttotfuntimes@gmail.com
END:VEVENT
END:VCALENDAR