BEGIN:VCALENDAR
VERSION:2.0
PRODID:-//Fernie Women&#039;s Resource Centre - ECPv6.15.20//NONSGML v1.0//EN
CALSCALE:GREGORIAN
METHOD:PUBLISH
X-ORIGINAL-URL:https://www.ferniewomenscentre.com
X-WR-CALDESC:Events for Fernie Women&#039;s Resource Centre
REFRESH-INTERVAL;VALUE=DURATION:PT1H
X-Robots-Tag:noindex
X-PUBLISHED-TTL:PT1H
BEGIN:VTIMEZONE
TZID:America/Vancouver
BEGIN:DAYLIGHT
TZOFFSETFROM:-0800
TZOFFSETTO:-0700
TZNAME:PDT
DTSTART:20260308T100000
END:DAYLIGHT
BEGIN:STANDARD
TZOFFSETFROM:-0700
TZOFFSETTO:-0800
TZNAME:PST
DTSTART:20261101T090000
END:STANDARD
BEGIN:DAYLIGHT
TZOFFSETFROM:-0800
TZOFFSETTO:-0700
TZNAME:PDT
DTSTART:20270314T100000
END:DAYLIGHT
BEGIN:STANDARD
TZOFFSETFROM:-0700
TZOFFSETTO:-0800
TZNAME:PST
DTSTART:20271107T090000
END:STANDARD
BEGIN:DAYLIGHT
TZOFFSETFROM:-0800
TZOFFSETTO:-0700
TZNAME:PDT
DTSTART:20280312T100000
END:DAYLIGHT
BEGIN:STANDARD
TZOFFSETFROM:-0700
TZOFFSETTO:-0800
TZNAME:PST
DTSTART:20281105T090000
END:STANDARD
BEGIN:DAYLIGHT
TZOFFSETFROM:-0800
TZOFFSETTO:-0700
TZNAME:PDT
DTSTART:20290311T100000
END:DAYLIGHT
BEGIN:STANDARD
TZOFFSETFROM:-0700
TZOFFSETTO:-0800
TZNAME:PST
DTSTART:20291104T090000
END:STANDARD
END:VTIMEZONE
BEGIN:VEVENT
DTSTART;TZID=America/Vancouver:20270908T093000
DTEND;TZID=America/Vancouver:20270908T113000
DTSTAMP:20260421T120041
CREATED:20250702T160033Z
LAST-MODIFIED:20260220T220251Z
UID:10001226-1820395800-1820403000@www.ferniewomenscentre.com
SUMMARY:Parent-Tot Funtimes (Elkford)
DESCRIPTION:Parent-Tot Funtimes is a drop-in program for families with kids aged 0 to 6. It’s all about helping families connect and giving kids a chance to learn early. Every session has toys\, songs and stories\, and a craft or fun activity.
URL:https://www.ferniewomenscentre.com/calendar/parent-tot-funtimes-elkford-2-2/2027-09-08/
LOCATION:Elkford Alliance Church (in the Basement)\, 1803 Alpine Drive\, Elkford\, BC\, V0B 1H0\, Canada
ORGANIZER;CN="Fernie Women's Resource Certre (Parent-Tot Funtimes)":MAILTO:parenttotfuntimes@gmail.com
END:VEVENT
BEGIN:VEVENT
DTSTART;TZID=America/Vancouver:20270915T093000
DTEND;TZID=America/Vancouver:20270915T113000
DTSTAMP:20260421T120041
CREATED:20250702T160033Z
LAST-MODIFIED:20260220T220251Z
UID:10001227-1821000600-1821007800@www.ferniewomenscentre.com
SUMMARY:Parent-Tot Funtimes (Elkford)
DESCRIPTION:Parent-Tot Funtimes is a drop-in program for families with kids aged 0 to 6. It’s all about helping families connect and giving kids a chance to learn early. Every session has toys\, songs and stories\, and a craft or fun activity.
URL:https://www.ferniewomenscentre.com/calendar/parent-tot-funtimes-elkford-2-2/2027-09-15/
LOCATION:Elkford Alliance Church (in the Basement)\, 1803 Alpine Drive\, Elkford\, BC\, V0B 1H0\, Canada
ORGANIZER;CN="Fernie Women's Resource Certre (Parent-Tot Funtimes)":MAILTO:parenttotfuntimes@gmail.com
END:VEVENT
BEGIN:VEVENT
DTSTART;TZID=America/Vancouver:20270922T093000
DTEND;TZID=America/Vancouver:20270922T113000
DTSTAMP:20260421T120041
CREATED:20250702T160033Z
LAST-MODIFIED:20260220T220251Z
UID:10001228-1821605400-1821612600@www.ferniewomenscentre.com
SUMMARY:Parent-Tot Funtimes (Elkford)
DESCRIPTION:Parent-Tot Funtimes is a drop-in program for families with kids aged 0 to 6. It’s all about helping families connect and giving kids a chance to learn early. Every session has toys\, songs and stories\, and a craft or fun activity.
URL:https://www.ferniewomenscentre.com/calendar/parent-tot-funtimes-elkford-2-2/2027-09-22/
LOCATION:Elkford Alliance Church (in the Basement)\, 1803 Alpine Drive\, Elkford\, BC\, V0B 1H0\, Canada
ORGANIZER;CN="Fernie Women's Resource Certre (Parent-Tot Funtimes)":MAILTO:parenttotfuntimes@gmail.com
END:VEVENT
BEGIN:VEVENT
DTSTART;TZID=America/Vancouver:20270929T093000
DTEND;TZID=America/Vancouver:20270929T113000
DTSTAMP:20260421T120041
CREATED:20250702T160033Z
LAST-MODIFIED:20260220T220251Z
UID:10001229-1822210200-1822217400@www.ferniewomenscentre.com
SUMMARY:Parent-Tot Funtimes (Elkford)
DESCRIPTION:Parent-Tot Funtimes is a drop-in program for families with kids aged 0 to 6. It’s all about helping families connect and giving kids a chance to learn early. Every session has toys\, songs and stories\, and a craft or fun activity.
URL:https://www.ferniewomenscentre.com/calendar/parent-tot-funtimes-elkford-2-2/2027-09-29/
LOCATION:Elkford Alliance Church (in the Basement)\, 1803 Alpine Drive\, Elkford\, BC\, V0B 1H0\, Canada
ORGANIZER;CN="Fernie Women's Resource Certre (Parent-Tot Funtimes)":MAILTO:parenttotfuntimes@gmail.com
END:VEVENT
BEGIN:VEVENT
DTSTART;TZID=America/Vancouver:20271006T093000
DTEND;TZID=America/Vancouver:20271006T113000
DTSTAMP:20260421T120041
CREATED:20250702T160033Z
LAST-MODIFIED:20260220T220251Z
UID:10001230-1822815000-1822822200@www.ferniewomenscentre.com
SUMMARY:Parent-Tot Funtimes (Elkford)
DESCRIPTION:Parent-Tot Funtimes is a drop-in program for families with kids aged 0 to 6. It’s all about helping families connect and giving kids a chance to learn early. Every session has toys\, songs and stories\, and a craft or fun activity.
URL:https://www.ferniewomenscentre.com/calendar/parent-tot-funtimes-elkford-2-2/2027-10-06/
LOCATION:Elkford Alliance Church (in the Basement)\, 1803 Alpine Drive\, Elkford\, BC\, V0B 1H0\, Canada
ORGANIZER;CN="Fernie Women's Resource Certre (Parent-Tot Funtimes)":MAILTO:parenttotfuntimes@gmail.com
END:VEVENT
BEGIN:VEVENT
DTSTART;TZID=America/Vancouver:20271013T093000
DTEND;TZID=America/Vancouver:20271013T113000
DTSTAMP:20260421T120041
CREATED:20250702T160033Z
LAST-MODIFIED:20260220T220251Z
UID:10001231-1823419800-1823427000@www.ferniewomenscentre.com
SUMMARY:Parent-Tot Funtimes (Elkford)
DESCRIPTION:Parent-Tot Funtimes is a drop-in program for families with kids aged 0 to 6. It’s all about helping families connect and giving kids a chance to learn early. Every session has toys\, songs and stories\, and a craft or fun activity.
URL:https://www.ferniewomenscentre.com/calendar/parent-tot-funtimes-elkford-2-2/2027-10-13/
LOCATION:Elkford Alliance Church (in the Basement)\, 1803 Alpine Drive\, Elkford\, BC\, V0B 1H0\, Canada
ORGANIZER;CN="Fernie Women's Resource Certre (Parent-Tot Funtimes)":MAILTO:parenttotfuntimes@gmail.com
END:VEVENT
BEGIN:VEVENT
DTSTART;TZID=America/Vancouver:20271020T093000
DTEND;TZID=America/Vancouver:20271020T113000
DTSTAMP:20260421T120041
CREATED:20250702T160033Z
LAST-MODIFIED:20260220T220251Z
UID:10001232-1824024600-1824031800@www.ferniewomenscentre.com
SUMMARY:Parent-Tot Funtimes (Elkford)
DESCRIPTION:Parent-Tot Funtimes is a drop-in program for families with kids aged 0 to 6. It’s all about helping families connect and giving kids a chance to learn early. Every session has toys\, songs and stories\, and a craft or fun activity.
URL:https://www.ferniewomenscentre.com/calendar/parent-tot-funtimes-elkford-2-2/2027-10-20/
LOCATION:Elkford Alliance Church (in the Basement)\, 1803 Alpine Drive\, Elkford\, BC\, V0B 1H0\, Canada
ORGANIZER;CN="Fernie Women's Resource Certre (Parent-Tot Funtimes)":MAILTO:parenttotfuntimes@gmail.com
END:VEVENT
BEGIN:VEVENT
DTSTART;TZID=America/Vancouver:20271027T093000
DTEND;TZID=America/Vancouver:20271027T113000
DTSTAMP:20260421T120041
CREATED:20250702T160033Z
LAST-MODIFIED:20260220T220251Z
UID:10001233-1824629400-1824636600@www.ferniewomenscentre.com
SUMMARY:Parent-Tot Funtimes (Elkford)
DESCRIPTION:Parent-Tot Funtimes is a drop-in program for families with kids aged 0 to 6. It’s all about helping families connect and giving kids a chance to learn early. Every session has toys\, songs and stories\, and a craft or fun activity.
URL:https://www.ferniewomenscentre.com/calendar/parent-tot-funtimes-elkford-2-2/2027-10-27/
LOCATION:Elkford Alliance Church (in the Basement)\, 1803 Alpine Drive\, Elkford\, BC\, V0B 1H0\, Canada
ORGANIZER;CN="Fernie Women's Resource Certre (Parent-Tot Funtimes)":MAILTO:parenttotfuntimes@gmail.com
END:VEVENT
BEGIN:VEVENT
DTSTART;TZID=America/Vancouver:20271103T093000
DTEND;TZID=America/Vancouver:20271103T113000
DTSTAMP:20260421T120041
CREATED:20250702T160033Z
LAST-MODIFIED:20260220T220251Z
UID:10001234-1825234200-1825241400@www.ferniewomenscentre.com
SUMMARY:Parent-Tot Funtimes (Elkford)
DESCRIPTION:Parent-Tot Funtimes is a drop-in program for families with kids aged 0 to 6. It’s all about helping families connect and giving kids a chance to learn early. Every session has toys\, songs and stories\, and a craft or fun activity.
URL:https://www.ferniewomenscentre.com/calendar/parent-tot-funtimes-elkford-2-2/2027-11-03/
LOCATION:Elkford Alliance Church (in the Basement)\, 1803 Alpine Drive\, Elkford\, BC\, V0B 1H0\, Canada
ORGANIZER;CN="Fernie Women's Resource Certre (Parent-Tot Funtimes)":MAILTO:parenttotfuntimes@gmail.com
END:VEVENT
BEGIN:VEVENT
DTSTART;TZID=America/Vancouver:20271110T093000
DTEND;TZID=America/Vancouver:20271110T113000
DTSTAMP:20260421T120041
CREATED:20250702T160033Z
LAST-MODIFIED:20260220T220251Z
UID:10001235-1825839000-1825846200@www.ferniewomenscentre.com
SUMMARY:Parent-Tot Funtimes (Elkford)
DESCRIPTION:Parent-Tot Funtimes is a drop-in program for families with kids aged 0 to 6. It’s all about helping families connect and giving kids a chance to learn early. Every session has toys\, songs and stories\, and a craft or fun activity.
URL:https://www.ferniewomenscentre.com/calendar/parent-tot-funtimes-elkford-2-2/2027-11-10/
LOCATION:Elkford Alliance Church (in the Basement)\, 1803 Alpine Drive\, Elkford\, BC\, V0B 1H0\, Canada
ORGANIZER;CN="Fernie Women's Resource Certre (Parent-Tot Funtimes)":MAILTO:parenttotfuntimes@gmail.com
END:VEVENT
BEGIN:VEVENT
DTSTART;TZID=America/Vancouver:20271117T093000
DTEND;TZID=America/Vancouver:20271117T113000
DTSTAMP:20260421T120041
CREATED:20250702T160033Z
LAST-MODIFIED:20260220T220251Z
UID:10001236-1826443800-1826451000@www.ferniewomenscentre.com
SUMMARY:Parent-Tot Funtimes (Elkford)
DESCRIPTION:Parent-Tot Funtimes is a drop-in program for families with kids aged 0 to 6. It’s all about helping families connect and giving kids a chance to learn early. Every session has toys\, songs and stories\, and a craft or fun activity.
URL:https://www.ferniewomenscentre.com/calendar/parent-tot-funtimes-elkford-2-2/2027-11-17/
LOCATION:Elkford Alliance Church (in the Basement)\, 1803 Alpine Drive\, Elkford\, BC\, V0B 1H0\, Canada
ORGANIZER;CN="Fernie Women's Resource Certre (Parent-Tot Funtimes)":MAILTO:parenttotfuntimes@gmail.com
END:VEVENT
BEGIN:VEVENT
DTSTART;TZID=America/Vancouver:20271124T093000
DTEND;TZID=America/Vancouver:20271124T113000
DTSTAMP:20260421T120041
CREATED:20250702T160033Z
LAST-MODIFIED:20260220T220251Z
UID:10001237-1827048600-1827055800@www.ferniewomenscentre.com
SUMMARY:Parent-Tot Funtimes (Elkford)
DESCRIPTION:Parent-Tot Funtimes is a drop-in program for families with kids aged 0 to 6. It’s all about helping families connect and giving kids a chance to learn early. Every session has toys\, songs and stories\, and a craft or fun activity.
URL:https://www.ferniewomenscentre.com/calendar/parent-tot-funtimes-elkford-2-2/2027-11-24/
LOCATION:Elkford Alliance Church (in the Basement)\, 1803 Alpine Drive\, Elkford\, BC\, V0B 1H0\, Canada
ORGANIZER;CN="Fernie Women's Resource Certre (Parent-Tot Funtimes)":MAILTO:parenttotfuntimes@gmail.com
END:VEVENT
BEGIN:VEVENT
DTSTART;TZID=America/Vancouver:20271201T093000
DTEND;TZID=America/Vancouver:20271201T113000
DTSTAMP:20260421T120041
CREATED:20250702T160033Z
LAST-MODIFIED:20260220T220251Z
UID:10001238-1827653400-1827660600@www.ferniewomenscentre.com
SUMMARY:Parent-Tot Funtimes (Elkford)
DESCRIPTION:Parent-Tot Funtimes is a drop-in program for families with kids aged 0 to 6. It’s all about helping families connect and giving kids a chance to learn early. Every session has toys\, songs and stories\, and a craft or fun activity.
URL:https://www.ferniewomenscentre.com/calendar/parent-tot-funtimes-elkford-2-2/2027-12-01/
LOCATION:Elkford Alliance Church (in the Basement)\, 1803 Alpine Drive\, Elkford\, BC\, V0B 1H0\, Canada
ORGANIZER;CN="Fernie Women's Resource Certre (Parent-Tot Funtimes)":MAILTO:parenttotfuntimes@gmail.com
END:VEVENT
BEGIN:VEVENT
DTSTART;TZID=America/Vancouver:20271208T093000
DTEND;TZID=America/Vancouver:20271208T113000
DTSTAMP:20260421T120041
CREATED:20250702T160033Z
LAST-MODIFIED:20260220T220251Z
UID:10001239-1828258200-1828265400@www.ferniewomenscentre.com
SUMMARY:Parent-Tot Funtimes (Elkford)
DESCRIPTION:Parent-Tot Funtimes is a drop-in program for families with kids aged 0 to 6. It’s all about helping families connect and giving kids a chance to learn early. Every session has toys\, songs and stories\, and a craft or fun activity.
URL:https://www.ferniewomenscentre.com/calendar/parent-tot-funtimes-elkford-2-2/2027-12-08/
LOCATION:Elkford Alliance Church (in the Basement)\, 1803 Alpine Drive\, Elkford\, BC\, V0B 1H0\, Canada
ORGANIZER;CN="Fernie Women's Resource Certre (Parent-Tot Funtimes)":MAILTO:parenttotfuntimes@gmail.com
END:VEVENT
BEGIN:VEVENT
DTSTART;TZID=America/Vancouver:20271215T093000
DTEND;TZID=America/Vancouver:20271215T113000
DTSTAMP:20260421T120041
CREATED:20250702T160033Z
LAST-MODIFIED:20260220T220251Z
UID:10001240-1828863000-1828870200@www.ferniewomenscentre.com
SUMMARY:Parent-Tot Funtimes (Elkford)
DESCRIPTION:Parent-Tot Funtimes is a drop-in program for families with kids aged 0 to 6. It’s all about helping families connect and giving kids a chance to learn early. Every session has toys\, songs and stories\, and a craft or fun activity.
URL:https://www.ferniewomenscentre.com/calendar/parent-tot-funtimes-elkford-2-2/2027-12-15/
LOCATION:Elkford Alliance Church (in the Basement)\, 1803 Alpine Drive\, Elkford\, BC\, V0B 1H0\, Canada
ORGANIZER;CN="Fernie Women's Resource Certre (Parent-Tot Funtimes)":MAILTO:parenttotfuntimes@gmail.com
END:VEVENT
BEGIN:VEVENT
DTSTART;TZID=America/Vancouver:20271222T093000
DTEND;TZID=America/Vancouver:20271222T113000
DTSTAMP:20260421T120041
CREATED:20250702T160033Z
LAST-MODIFIED:20260220T220251Z
UID:10001241-1829467800-1829475000@www.ferniewomenscentre.com
SUMMARY:Parent-Tot Funtimes (Elkford)
DESCRIPTION:Parent-Tot Funtimes is a drop-in program for families with kids aged 0 to 6. It’s all about helping families connect and giving kids a chance to learn early. Every session has toys\, songs and stories\, and a craft or fun activity.
URL:https://www.ferniewomenscentre.com/calendar/parent-tot-funtimes-elkford-2-2/2027-12-22/
LOCATION:Elkford Alliance Church (in the Basement)\, 1803 Alpine Drive\, Elkford\, BC\, V0B 1H0\, Canada
ORGANIZER;CN="Fernie Women's Resource Certre (Parent-Tot Funtimes)":MAILTO:parenttotfuntimes@gmail.com
END:VEVENT
BEGIN:VEVENT
DTSTART;TZID=America/Vancouver:20271229T093000
DTEND;TZID=America/Vancouver:20271229T113000
DTSTAMP:20260421T120041
CREATED:20250702T160033Z
LAST-MODIFIED:20260220T220251Z
UID:10001242-1830072600-1830079800@www.ferniewomenscentre.com
SUMMARY:Parent-Tot Funtimes (Elkford)
DESCRIPTION:Parent-Tot Funtimes is a drop-in program for families with kids aged 0 to 6. It’s all about helping families connect and giving kids a chance to learn early. Every session has toys\, songs and stories\, and a craft or fun activity.
URL:https://www.ferniewomenscentre.com/calendar/parent-tot-funtimes-elkford-2-2/2027-12-29/
LOCATION:Elkford Alliance Church (in the Basement)\, 1803 Alpine Drive\, Elkford\, BC\, V0B 1H0\, Canada
ORGANIZER;CN="Fernie Women's Resource Certre (Parent-Tot Funtimes)":MAILTO:parenttotfuntimes@gmail.com
END:VEVENT
BEGIN:VEVENT
DTSTART;TZID=America/Vancouver:20280105T093000
DTEND;TZID=America/Vancouver:20280105T113000
DTSTAMP:20260421T120041
CREATED:20250702T160033Z
LAST-MODIFIED:20260220T220251Z
UID:10001243-1830677400-1830684600@www.ferniewomenscentre.com
SUMMARY:Parent-Tot Funtimes (Elkford)
DESCRIPTION:Parent-Tot Funtimes is a drop-in program for families with kids aged 0 to 6. It’s all about helping families connect and giving kids a chance to learn early. Every session has toys\, songs and stories\, and a craft or fun activity.
URL:https://www.ferniewomenscentre.com/calendar/parent-tot-funtimes-elkford-2-2/2028-01-05/
LOCATION:Elkford Alliance Church (in the Basement)\, 1803 Alpine Drive\, Elkford\, BC\, V0B 1H0\, Canada
ORGANIZER;CN="Fernie Women's Resource Certre (Parent-Tot Funtimes)":MAILTO:parenttotfuntimes@gmail.com
END:VEVENT
BEGIN:VEVENT
DTSTART;TZID=America/Vancouver:20280112T093000
DTEND;TZID=America/Vancouver:20280112T113000
DTSTAMP:20260421T120041
CREATED:20250702T160033Z
LAST-MODIFIED:20260220T220251Z
UID:10001244-1831282200-1831289400@www.ferniewomenscentre.com
SUMMARY:Parent-Tot Funtimes (Elkford)
DESCRIPTION:Parent-Tot Funtimes is a drop-in program for families with kids aged 0 to 6. It’s all about helping families connect and giving kids a chance to learn early. Every session has toys\, songs and stories\, and a craft or fun activity.
URL:https://www.ferniewomenscentre.com/calendar/parent-tot-funtimes-elkford-2-2/2028-01-12/
LOCATION:Elkford Alliance Church (in the Basement)\, 1803 Alpine Drive\, Elkford\, BC\, V0B 1H0\, Canada
ORGANIZER;CN="Fernie Women's Resource Certre (Parent-Tot Funtimes)":MAILTO:parenttotfuntimes@gmail.com
END:VEVENT
BEGIN:VEVENT
DTSTART;TZID=America/Vancouver:20280119T093000
DTEND;TZID=America/Vancouver:20280119T113000
DTSTAMP:20260421T120041
CREATED:20250702T160033Z
LAST-MODIFIED:20260220T220251Z
UID:10001245-1831887000-1831894200@www.ferniewomenscentre.com
SUMMARY:Parent-Tot Funtimes (Elkford)
DESCRIPTION:Parent-Tot Funtimes is a drop-in program for families with kids aged 0 to 6. It’s all about helping families connect and giving kids a chance to learn early. Every session has toys\, songs and stories\, and a craft or fun activity.
URL:https://www.ferniewomenscentre.com/calendar/parent-tot-funtimes-elkford-2-2/2028-01-19/
LOCATION:Elkford Alliance Church (in the Basement)\, 1803 Alpine Drive\, Elkford\, BC\, V0B 1H0\, Canada
ORGANIZER;CN="Fernie Women's Resource Certre (Parent-Tot Funtimes)":MAILTO:parenttotfuntimes@gmail.com
END:VEVENT
BEGIN:VEVENT
DTSTART;TZID=America/Vancouver:20280126T093000
DTEND;TZID=America/Vancouver:20280126T113000
DTSTAMP:20260421T120041
CREATED:20250702T160033Z
LAST-MODIFIED:20260220T220251Z
UID:10001246-1832491800-1832499000@www.ferniewomenscentre.com
SUMMARY:Parent-Tot Funtimes (Elkford)
DESCRIPTION:Parent-Tot Funtimes is a drop-in program for families with kids aged 0 to 6. It’s all about helping families connect and giving kids a chance to learn early. Every session has toys\, songs and stories\, and a craft or fun activity.
URL:https://www.ferniewomenscentre.com/calendar/parent-tot-funtimes-elkford-2-2/2028-01-26/
LOCATION:Elkford Alliance Church (in the Basement)\, 1803 Alpine Drive\, Elkford\, BC\, V0B 1H0\, Canada
ORGANIZER;CN="Fernie Women's Resource Certre (Parent-Tot Funtimes)":MAILTO:parenttotfuntimes@gmail.com
END:VEVENT
BEGIN:VEVENT
DTSTART;TZID=America/Vancouver:20280202T093000
DTEND;TZID=America/Vancouver:20280202T113000
DTSTAMP:20260421T120041
CREATED:20250702T160033Z
LAST-MODIFIED:20260220T220251Z
UID:10001247-1833096600-1833103800@www.ferniewomenscentre.com
SUMMARY:Parent-Tot Funtimes (Elkford)
DESCRIPTION:Parent-Tot Funtimes is a drop-in program for families with kids aged 0 to 6. It’s all about helping families connect and giving kids a chance to learn early. Every session has toys\, songs and stories\, and a craft or fun activity.
URL:https://www.ferniewomenscentre.com/calendar/parent-tot-funtimes-elkford-2-2/2028-02-02/
LOCATION:Elkford Alliance Church (in the Basement)\, 1803 Alpine Drive\, Elkford\, BC\, V0B 1H0\, Canada
ORGANIZER;CN="Fernie Women's Resource Certre (Parent-Tot Funtimes)":MAILTO:parenttotfuntimes@gmail.com
END:VEVENT
BEGIN:VEVENT
DTSTART;TZID=America/Vancouver:20280209T093000
DTEND;TZID=America/Vancouver:20280209T113000
DTSTAMP:20260421T120041
CREATED:20250702T160033Z
LAST-MODIFIED:20260220T220251Z
UID:10001248-1833701400-1833708600@www.ferniewomenscentre.com
SUMMARY:Parent-Tot Funtimes (Elkford)
DESCRIPTION:Parent-Tot Funtimes is a drop-in program for families with kids aged 0 to 6. It’s all about helping families connect and giving kids a chance to learn early. Every session has toys\, songs and stories\, and a craft or fun activity.
URL:https://www.ferniewomenscentre.com/calendar/parent-tot-funtimes-elkford-2-2/2028-02-09/
LOCATION:Elkford Alliance Church (in the Basement)\, 1803 Alpine Drive\, Elkford\, BC\, V0B 1H0\, Canada
ORGANIZER;CN="Fernie Women's Resource Certre (Parent-Tot Funtimes)":MAILTO:parenttotfuntimes@gmail.com
END:VEVENT
BEGIN:VEVENT
DTSTART;TZID=America/Vancouver:20280216T093000
DTEND;TZID=America/Vancouver:20280216T113000
DTSTAMP:20260421T120041
CREATED:20250702T160033Z
LAST-MODIFIED:20260220T220251Z
UID:10001249-1834306200-1834313400@www.ferniewomenscentre.com
SUMMARY:Parent-Tot Funtimes (Elkford)
DESCRIPTION:Parent-Tot Funtimes is a drop-in program for families with kids aged 0 to 6. It’s all about helping families connect and giving kids a chance to learn early. Every session has toys\, songs and stories\, and a craft or fun activity.
URL:https://www.ferniewomenscentre.com/calendar/parent-tot-funtimes-elkford-2-2/2028-02-16/
LOCATION:Elkford Alliance Church (in the Basement)\, 1803 Alpine Drive\, Elkford\, BC\, V0B 1H0\, Canada
ORGANIZER;CN="Fernie Women's Resource Certre (Parent-Tot Funtimes)":MAILTO:parenttotfuntimes@gmail.com
END:VEVENT
BEGIN:VEVENT
DTSTART;TZID=America/Vancouver:20280223T093000
DTEND;TZID=America/Vancouver:20280223T113000
DTSTAMP:20260421T120041
CREATED:20250702T160033Z
LAST-MODIFIED:20260220T220251Z
UID:10001250-1834911000-1834918200@www.ferniewomenscentre.com
SUMMARY:Parent-Tot Funtimes (Elkford)
DESCRIPTION:Parent-Tot Funtimes is a drop-in program for families with kids aged 0 to 6. It’s all about helping families connect and giving kids a chance to learn early. Every session has toys\, songs and stories\, and a craft or fun activity.
URL:https://www.ferniewomenscentre.com/calendar/parent-tot-funtimes-elkford-2-2/2028-02-23/
LOCATION:Elkford Alliance Church (in the Basement)\, 1803 Alpine Drive\, Elkford\, BC\, V0B 1H0\, Canada
ORGANIZER;CN="Fernie Women's Resource Certre (Parent-Tot Funtimes)":MAILTO:parenttotfuntimes@gmail.com
END:VEVENT
BEGIN:VEVENT
DTSTART;TZID=America/Vancouver:20280301T093000
DTEND;TZID=America/Vancouver:20280301T113000
DTSTAMP:20260421T120041
CREATED:20250702T160033Z
LAST-MODIFIED:20260220T220251Z
UID:10001251-1835515800-1835523000@www.ferniewomenscentre.com
SUMMARY:Parent-Tot Funtimes (Elkford)
DESCRIPTION:Parent-Tot Funtimes is a drop-in program for families with kids aged 0 to 6. It’s all about helping families connect and giving kids a chance to learn early. Every session has toys\, songs and stories\, and a craft or fun activity.
URL:https://www.ferniewomenscentre.com/calendar/parent-tot-funtimes-elkford-2-2/2028-03-01/
LOCATION:Elkford Alliance Church (in the Basement)\, 1803 Alpine Drive\, Elkford\, BC\, V0B 1H0\, Canada
ORGANIZER;CN="Fernie Women's Resource Certre (Parent-Tot Funtimes)":MAILTO:parenttotfuntimes@gmail.com
END:VEVENT
BEGIN:VEVENT
DTSTART;TZID=America/Vancouver:20280308T093000
DTEND;TZID=America/Vancouver:20280308T113000
DTSTAMP:20260421T120041
CREATED:20250702T160033Z
LAST-MODIFIED:20260220T220251Z
UID:10001252-1836120600-1836127800@www.ferniewomenscentre.com
SUMMARY:Parent-Tot Funtimes (Elkford)
DESCRIPTION:Parent-Tot Funtimes is a drop-in program for families with kids aged 0 to 6. It’s all about helping families connect and giving kids a chance to learn early. Every session has toys\, songs and stories\, and a craft or fun activity.
URL:https://www.ferniewomenscentre.com/calendar/parent-tot-funtimes-elkford-2-2/2028-03-08/
LOCATION:Elkford Alliance Church (in the Basement)\, 1803 Alpine Drive\, Elkford\, BC\, V0B 1H0\, Canada
ORGANIZER;CN="Fernie Women's Resource Certre (Parent-Tot Funtimes)":MAILTO:parenttotfuntimes@gmail.com
END:VEVENT
BEGIN:VEVENT
DTSTART;TZID=America/Vancouver:20280315T093000
DTEND;TZID=America/Vancouver:20280315T113000
DTSTAMP:20260421T120041
CREATED:20250702T160033Z
LAST-MODIFIED:20260220T220251Z
UID:10001253-1836725400-1836732600@www.ferniewomenscentre.com
SUMMARY:Parent-Tot Funtimes (Elkford)
DESCRIPTION:Parent-Tot Funtimes is a drop-in program for families with kids aged 0 to 6. It’s all about helping families connect and giving kids a chance to learn early. Every session has toys\, songs and stories\, and a craft or fun activity.
URL:https://www.ferniewomenscentre.com/calendar/parent-tot-funtimes-elkford-2-2/2028-03-15/
LOCATION:Elkford Alliance Church (in the Basement)\, 1803 Alpine Drive\, Elkford\, BC\, V0B 1H0\, Canada
ORGANIZER;CN="Fernie Women's Resource Certre (Parent-Tot Funtimes)":MAILTO:parenttotfuntimes@gmail.com
END:VEVENT
BEGIN:VEVENT
DTSTART;TZID=America/Vancouver:20280322T093000
DTEND;TZID=America/Vancouver:20280322T113000
DTSTAMP:20260421T120041
CREATED:20250702T160033Z
LAST-MODIFIED:20260220T220251Z
UID:10001254-1837330200-1837337400@www.ferniewomenscentre.com
SUMMARY:Parent-Tot Funtimes (Elkford)
DESCRIPTION:Parent-Tot Funtimes is a drop-in program for families with kids aged 0 to 6. It’s all about helping families connect and giving kids a chance to learn early. Every session has toys\, songs and stories\, and a craft or fun activity.
URL:https://www.ferniewomenscentre.com/calendar/parent-tot-funtimes-elkford-2-2/2028-03-22/
LOCATION:Elkford Alliance Church (in the Basement)\, 1803 Alpine Drive\, Elkford\, BC\, V0B 1H0\, Canada
ORGANIZER;CN="Fernie Women's Resource Certre (Parent-Tot Funtimes)":MAILTO:parenttotfuntimes@gmail.com
END:VEVENT
BEGIN:VEVENT
DTSTART;TZID=America/Vancouver:20280329T093000
DTEND;TZID=America/Vancouver:20280329T113000
DTSTAMP:20260421T120041
CREATED:20250702T160033Z
LAST-MODIFIED:20260220T220251Z
UID:10001255-1837935000-1837942200@www.ferniewomenscentre.com
SUMMARY:Parent-Tot Funtimes (Elkford)
DESCRIPTION:Parent-Tot Funtimes is a drop-in program for families with kids aged 0 to 6. It’s all about helping families connect and giving kids a chance to learn early. Every session has toys\, songs and stories\, and a craft or fun activity.
URL:https://www.ferniewomenscentre.com/calendar/parent-tot-funtimes-elkford-2-2/2028-03-29/
LOCATION:Elkford Alliance Church (in the Basement)\, 1803 Alpine Drive\, Elkford\, BC\, V0B 1H0\, Canada
ORGANIZER;CN="Fernie Women's Resource Certre (Parent-Tot Funtimes)":MAILTO:parenttotfuntimes@gmail.com
END:VEVENT
END:VCALENDAR