BEGIN:VCALENDAR
VERSION:2.0
PRODID:-//Fernie Women&#039;s Resource Centre - ECPv6.15.20//NONSGML v1.0//EN
CALSCALE:GREGORIAN
METHOD:PUBLISH
X-ORIGINAL-URL:https://www.ferniewomenscentre.com
X-WR-CALDESC:Events for Fernie Women&#039;s Resource Centre
REFRESH-INTERVAL;VALUE=DURATION:PT1H
X-Robots-Tag:noindex
X-PUBLISHED-TTL:PT1H
BEGIN:VTIMEZONE
TZID:America/Vancouver
BEGIN:DAYLIGHT
TZOFFSETFROM:-0800
TZOFFSETTO:-0700
TZNAME:PDT
DTSTART:20270314T100000
END:DAYLIGHT
BEGIN:STANDARD
TZOFFSETFROM:-0700
TZOFFSETTO:-0800
TZNAME:PST
DTSTART:20271107T090000
END:STANDARD
BEGIN:DAYLIGHT
TZOFFSETFROM:-0800
TZOFFSETTO:-0700
TZNAME:PDT
DTSTART:20280312T100000
END:DAYLIGHT
BEGIN:STANDARD
TZOFFSETFROM:-0700
TZOFFSETTO:-0800
TZNAME:PST
DTSTART:20281105T090000
END:STANDARD
BEGIN:DAYLIGHT
TZOFFSETFROM:-0800
TZOFFSETTO:-0700
TZNAME:PDT
DTSTART:20290311T100000
END:DAYLIGHT
BEGIN:STANDARD
TZOFFSETFROM:-0700
TZOFFSETTO:-0800
TZNAME:PST
DTSTART:20291104T090000
END:STANDARD
END:VTIMEZONE
BEGIN:VEVENT
DTSTART;TZID=America/Vancouver:20280516T093000
DTEND;TZID=America/Vancouver:20280516T113000
DTSTAMP:20260421T083213
CREATED:20250702T160241Z
LAST-MODIFIED:20260220T220329Z
UID:10001001-1842082200-1842089400@www.ferniewomenscentre.com
SUMMARY:Parent-Tot Funtimes (Fernie)
DESCRIPTION:Parent-Tot Funtimes is a drop-in program for families with kids aged 0 to 6. It’s all about helping families connect and giving kids a chance to learn early. Every session has toys\, songs and stories\, and a craft or fun activity.
URL:https://www.ferniewomenscentre.com/calendar/parent-tot-funtimes-fernie-2-2/2028-05-16/
LOCATION:Fernie Family Centre\, 521 4th Ave\, Fernie\, BC\, V0B 1M0\, Canada
ORGANIZER;CN="Fernie Women's Resource Certre (Parent-Tot Funtimes)":MAILTO:parenttotfuntimes@gmail.com
END:VEVENT
BEGIN:VEVENT
DTSTART;TZID=America/Vancouver:20280523T093000
DTEND;TZID=America/Vancouver:20280523T113000
DTSTAMP:20260421T083213
CREATED:20250702T160241Z
LAST-MODIFIED:20260220T220329Z
UID:10001002-1842687000-1842694200@www.ferniewomenscentre.com
SUMMARY:Parent-Tot Funtimes (Fernie)
DESCRIPTION:Parent-Tot Funtimes is a drop-in program for families with kids aged 0 to 6. It’s all about helping families connect and giving kids a chance to learn early. Every session has toys\, songs and stories\, and a craft or fun activity.
URL:https://www.ferniewomenscentre.com/calendar/parent-tot-funtimes-fernie-2-2/2028-05-23/
LOCATION:Fernie Family Centre\, 521 4th Ave\, Fernie\, BC\, V0B 1M0\, Canada
ORGANIZER;CN="Fernie Women's Resource Certre (Parent-Tot Funtimes)":MAILTO:parenttotfuntimes@gmail.com
END:VEVENT
BEGIN:VEVENT
DTSTART;TZID=America/Vancouver:20280530T093000
DTEND;TZID=America/Vancouver:20280530T113000
DTSTAMP:20260421T083213
CREATED:20250702T160241Z
LAST-MODIFIED:20260220T220329Z
UID:10001003-1843291800-1843299000@www.ferniewomenscentre.com
SUMMARY:Parent-Tot Funtimes (Fernie)
DESCRIPTION:Parent-Tot Funtimes is a drop-in program for families with kids aged 0 to 6. It’s all about helping families connect and giving kids a chance to learn early. Every session has toys\, songs and stories\, and a craft or fun activity.
URL:https://www.ferniewomenscentre.com/calendar/parent-tot-funtimes-fernie-2-2/2028-05-30/
LOCATION:Fernie Family Centre\, 521 4th Ave\, Fernie\, BC\, V0B 1M0\, Canada
ORGANIZER;CN="Fernie Women's Resource Certre (Parent-Tot Funtimes)":MAILTO:parenttotfuntimes@gmail.com
END:VEVENT
BEGIN:VEVENT
DTSTART;TZID=America/Vancouver:20280606T093000
DTEND;TZID=America/Vancouver:20280606T113000
DTSTAMP:20260421T083213
CREATED:20250702T160241Z
LAST-MODIFIED:20260220T220329Z
UID:10001004-1843896600-1843903800@www.ferniewomenscentre.com
SUMMARY:Parent-Tot Funtimes (Fernie)
DESCRIPTION:Parent-Tot Funtimes is a drop-in program for families with kids aged 0 to 6. It’s all about helping families connect and giving kids a chance to learn early. Every session has toys\, songs and stories\, and a craft or fun activity.
URL:https://www.ferniewomenscentre.com/calendar/parent-tot-funtimes-fernie-2-2/2028-06-06/
LOCATION:Fernie Family Centre\, 521 4th Ave\, Fernie\, BC\, V0B 1M0\, Canada
ORGANIZER;CN="Fernie Women's Resource Certre (Parent-Tot Funtimes)":MAILTO:parenttotfuntimes@gmail.com
END:VEVENT
BEGIN:VEVENT
DTSTART;TZID=America/Vancouver:20280613T093000
DTEND;TZID=America/Vancouver:20280613T113000
DTSTAMP:20260421T083213
CREATED:20250702T160241Z
LAST-MODIFIED:20260220T220329Z
UID:10001005-1844501400-1844508600@www.ferniewomenscentre.com
SUMMARY:Parent-Tot Funtimes (Fernie)
DESCRIPTION:Parent-Tot Funtimes is a drop-in program for families with kids aged 0 to 6. It’s all about helping families connect and giving kids a chance to learn early. Every session has toys\, songs and stories\, and a craft or fun activity.
URL:https://www.ferniewomenscentre.com/calendar/parent-tot-funtimes-fernie-2-2/2028-06-13/
LOCATION:Fernie Family Centre\, 521 4th Ave\, Fernie\, BC\, V0B 1M0\, Canada
ORGANIZER;CN="Fernie Women's Resource Certre (Parent-Tot Funtimes)":MAILTO:parenttotfuntimes@gmail.com
END:VEVENT
BEGIN:VEVENT
DTSTART;TZID=America/Vancouver:20280620T093000
DTEND;TZID=America/Vancouver:20280620T113000
DTSTAMP:20260421T083213
CREATED:20250702T160241Z
LAST-MODIFIED:20260220T220329Z
UID:10001006-1845106200-1845113400@www.ferniewomenscentre.com
SUMMARY:Parent-Tot Funtimes (Fernie)
DESCRIPTION:Parent-Tot Funtimes is a drop-in program for families with kids aged 0 to 6. It’s all about helping families connect and giving kids a chance to learn early. Every session has toys\, songs and stories\, and a craft or fun activity.
URL:https://www.ferniewomenscentre.com/calendar/parent-tot-funtimes-fernie-2-2/2028-06-20/
LOCATION:Fernie Family Centre\, 521 4th Ave\, Fernie\, BC\, V0B 1M0\, Canada
ORGANIZER;CN="Fernie Women's Resource Certre (Parent-Tot Funtimes)":MAILTO:parenttotfuntimes@gmail.com
END:VEVENT
BEGIN:VEVENT
DTSTART;TZID=America/Vancouver:20280627T093000
DTEND;TZID=America/Vancouver:20280627T113000
DTSTAMP:20260421T083213
CREATED:20250702T160241Z
LAST-MODIFIED:20260220T220329Z
UID:10001007-1845711000-1845718200@www.ferniewomenscentre.com
SUMMARY:Parent-Tot Funtimes (Fernie)
DESCRIPTION:Parent-Tot Funtimes is a drop-in program for families with kids aged 0 to 6. It’s all about helping families connect and giving kids a chance to learn early. Every session has toys\, songs and stories\, and a craft or fun activity.
URL:https://www.ferniewomenscentre.com/calendar/parent-tot-funtimes-fernie-2-2/2028-06-27/
LOCATION:Fernie Family Centre\, 521 4th Ave\, Fernie\, BC\, V0B 1M0\, Canada
ORGANIZER;CN="Fernie Women's Resource Certre (Parent-Tot Funtimes)":MAILTO:parenttotfuntimes@gmail.com
END:VEVENT
BEGIN:VEVENT
DTSTART;TZID=America/Vancouver:20280704T093000
DTEND;TZID=America/Vancouver:20280704T113000
DTSTAMP:20260421T083213
CREATED:20250702T160241Z
LAST-MODIFIED:20260220T220329Z
UID:10001008-1846315800-1846323000@www.ferniewomenscentre.com
SUMMARY:Parent-Tot Funtimes (Fernie)
DESCRIPTION:Parent-Tot Funtimes is a drop-in program for families with kids aged 0 to 6. It’s all about helping families connect and giving kids a chance to learn early. Every session has toys\, songs and stories\, and a craft or fun activity.
URL:https://www.ferniewomenscentre.com/calendar/parent-tot-funtimes-fernie-2-2/2028-07-04/
LOCATION:Fernie Family Centre\, 521 4th Ave\, Fernie\, BC\, V0B 1M0\, Canada
ORGANIZER;CN="Fernie Women's Resource Certre (Parent-Tot Funtimes)":MAILTO:parenttotfuntimes@gmail.com
END:VEVENT
BEGIN:VEVENT
DTSTART;TZID=America/Vancouver:20280711T093000
DTEND;TZID=America/Vancouver:20280711T113000
DTSTAMP:20260421T083213
CREATED:20250702T160241Z
LAST-MODIFIED:20260220T220329Z
UID:10001009-1846920600-1846927800@www.ferniewomenscentre.com
SUMMARY:Parent-Tot Funtimes (Fernie)
DESCRIPTION:Parent-Tot Funtimes is a drop-in program for families with kids aged 0 to 6. It’s all about helping families connect and giving kids a chance to learn early. Every session has toys\, songs and stories\, and a craft or fun activity.
URL:https://www.ferniewomenscentre.com/calendar/parent-tot-funtimes-fernie-2-2/2028-07-11/
LOCATION:Fernie Family Centre\, 521 4th Ave\, Fernie\, BC\, V0B 1M0\, Canada
ORGANIZER;CN="Fernie Women's Resource Certre (Parent-Tot Funtimes)":MAILTO:parenttotfuntimes@gmail.com
END:VEVENT
BEGIN:VEVENT
DTSTART;TZID=America/Vancouver:20280718T093000
DTEND;TZID=America/Vancouver:20280718T113000
DTSTAMP:20260421T083213
CREATED:20250702T160241Z
LAST-MODIFIED:20260220T220329Z
UID:10001010-1847525400-1847532600@www.ferniewomenscentre.com
SUMMARY:Parent-Tot Funtimes (Fernie)
DESCRIPTION:Parent-Tot Funtimes is a drop-in program for families with kids aged 0 to 6. It’s all about helping families connect and giving kids a chance to learn early. Every session has toys\, songs and stories\, and a craft or fun activity.
URL:https://www.ferniewomenscentre.com/calendar/parent-tot-funtimes-fernie-2-2/2028-07-18/
LOCATION:Fernie Family Centre\, 521 4th Ave\, Fernie\, BC\, V0B 1M0\, Canada
ORGANIZER;CN="Fernie Women's Resource Certre (Parent-Tot Funtimes)":MAILTO:parenttotfuntimes@gmail.com
END:VEVENT
BEGIN:VEVENT
DTSTART;TZID=America/Vancouver:20280725T093000
DTEND;TZID=America/Vancouver:20280725T113000
DTSTAMP:20260421T083213
CREATED:20250702T160241Z
LAST-MODIFIED:20260220T220329Z
UID:10001011-1848130200-1848137400@www.ferniewomenscentre.com
SUMMARY:Parent-Tot Funtimes (Fernie)
DESCRIPTION:Parent-Tot Funtimes is a drop-in program for families with kids aged 0 to 6. It’s all about helping families connect and giving kids a chance to learn early. Every session has toys\, songs and stories\, and a craft or fun activity.
URL:https://www.ferniewomenscentre.com/calendar/parent-tot-funtimes-fernie-2-2/2028-07-25/
LOCATION:Fernie Family Centre\, 521 4th Ave\, Fernie\, BC\, V0B 1M0\, Canada
ORGANIZER;CN="Fernie Women's Resource Certre (Parent-Tot Funtimes)":MAILTO:parenttotfuntimes@gmail.com
END:VEVENT
BEGIN:VEVENT
DTSTART;TZID=America/Vancouver:20280801T093000
DTEND;TZID=America/Vancouver:20280801T113000
DTSTAMP:20260421T083213
CREATED:20250702T160241Z
LAST-MODIFIED:20260220T220329Z
UID:10001012-1848735000-1848742200@www.ferniewomenscentre.com
SUMMARY:Parent-Tot Funtimes (Fernie)
DESCRIPTION:Parent-Tot Funtimes is a drop-in program for families with kids aged 0 to 6. It’s all about helping families connect and giving kids a chance to learn early. Every session has toys\, songs and stories\, and a craft or fun activity.
URL:https://www.ferniewomenscentre.com/calendar/parent-tot-funtimes-fernie-2-2/2028-08-01/
LOCATION:Fernie Family Centre\, 521 4th Ave\, Fernie\, BC\, V0B 1M0\, Canada
ORGANIZER;CN="Fernie Women's Resource Certre (Parent-Tot Funtimes)":MAILTO:parenttotfuntimes@gmail.com
END:VEVENT
BEGIN:VEVENT
DTSTART;TZID=America/Vancouver:20280808T093000
DTEND;TZID=America/Vancouver:20280808T113000
DTSTAMP:20260421T083213
CREATED:20250702T160241Z
LAST-MODIFIED:20260220T220329Z
UID:10001013-1849339800-1849347000@www.ferniewomenscentre.com
SUMMARY:Parent-Tot Funtimes (Fernie)
DESCRIPTION:Parent-Tot Funtimes is a drop-in program for families with kids aged 0 to 6. It’s all about helping families connect and giving kids a chance to learn early. Every session has toys\, songs and stories\, and a craft or fun activity.
URL:https://www.ferniewomenscentre.com/calendar/parent-tot-funtimes-fernie-2-2/2028-08-08/
LOCATION:Fernie Family Centre\, 521 4th Ave\, Fernie\, BC\, V0B 1M0\, Canada
ORGANIZER;CN="Fernie Women's Resource Certre (Parent-Tot Funtimes)":MAILTO:parenttotfuntimes@gmail.com
END:VEVENT
BEGIN:VEVENT
DTSTART;TZID=America/Vancouver:20280815T093000
DTEND;TZID=America/Vancouver:20280815T113000
DTSTAMP:20260421T083213
CREATED:20250702T160241Z
LAST-MODIFIED:20260220T220329Z
UID:10001014-1849944600-1849951800@www.ferniewomenscentre.com
SUMMARY:Parent-Tot Funtimes (Fernie)
DESCRIPTION:Parent-Tot Funtimes is a drop-in program for families with kids aged 0 to 6. It’s all about helping families connect and giving kids a chance to learn early. Every session has toys\, songs and stories\, and a craft or fun activity.
URL:https://www.ferniewomenscentre.com/calendar/parent-tot-funtimes-fernie-2-2/2028-08-15/
LOCATION:Fernie Family Centre\, 521 4th Ave\, Fernie\, BC\, V0B 1M0\, Canada
ORGANIZER;CN="Fernie Women's Resource Certre (Parent-Tot Funtimes)":MAILTO:parenttotfuntimes@gmail.com
END:VEVENT
BEGIN:VEVENT
DTSTART;TZID=America/Vancouver:20280822T093000
DTEND;TZID=America/Vancouver:20280822T113000
DTSTAMP:20260421T083213
CREATED:20250702T160241Z
LAST-MODIFIED:20260220T220329Z
UID:10001015-1850549400-1850556600@www.ferniewomenscentre.com
SUMMARY:Parent-Tot Funtimes (Fernie)
DESCRIPTION:Parent-Tot Funtimes is a drop-in program for families with kids aged 0 to 6. It’s all about helping families connect and giving kids a chance to learn early. Every session has toys\, songs and stories\, and a craft or fun activity.
URL:https://www.ferniewomenscentre.com/calendar/parent-tot-funtimes-fernie-2-2/2028-08-22/
LOCATION:Fernie Family Centre\, 521 4th Ave\, Fernie\, BC\, V0B 1M0\, Canada
ORGANIZER;CN="Fernie Women's Resource Certre (Parent-Tot Funtimes)":MAILTO:parenttotfuntimes@gmail.com
END:VEVENT
BEGIN:VEVENT
DTSTART;TZID=America/Vancouver:20280829T093000
DTEND;TZID=America/Vancouver:20280829T113000
DTSTAMP:20260421T083213
CREATED:20250702T160241Z
LAST-MODIFIED:20260220T220329Z
UID:10001016-1851154200-1851161400@www.ferniewomenscentre.com
SUMMARY:Parent-Tot Funtimes (Fernie)
DESCRIPTION:Parent-Tot Funtimes is a drop-in program for families with kids aged 0 to 6. It’s all about helping families connect and giving kids a chance to learn early. Every session has toys\, songs and stories\, and a craft or fun activity.
URL:https://www.ferniewomenscentre.com/calendar/parent-tot-funtimes-fernie-2-2/2028-08-29/
LOCATION:Fernie Family Centre\, 521 4th Ave\, Fernie\, BC\, V0B 1M0\, Canada
ORGANIZER;CN="Fernie Women's Resource Certre (Parent-Tot Funtimes)":MAILTO:parenttotfuntimes@gmail.com
END:VEVENT
BEGIN:VEVENT
DTSTART;TZID=America/Vancouver:20280905T093000
DTEND;TZID=America/Vancouver:20280905T113000
DTSTAMP:20260421T083213
CREATED:20250702T160241Z
LAST-MODIFIED:20260220T220329Z
UID:10001017-1851759000-1851766200@www.ferniewomenscentre.com
SUMMARY:Parent-Tot Funtimes (Fernie)
DESCRIPTION:Parent-Tot Funtimes is a drop-in program for families with kids aged 0 to 6. It’s all about helping families connect and giving kids a chance to learn early. Every session has toys\, songs and stories\, and a craft or fun activity.
URL:https://www.ferniewomenscentre.com/calendar/parent-tot-funtimes-fernie-2-2/2028-09-05/
LOCATION:Fernie Family Centre\, 521 4th Ave\, Fernie\, BC\, V0B 1M0\, Canada
ORGANIZER;CN="Fernie Women's Resource Certre (Parent-Tot Funtimes)":MAILTO:parenttotfuntimes@gmail.com
END:VEVENT
BEGIN:VEVENT
DTSTART;TZID=America/Vancouver:20280912T093000
DTEND;TZID=America/Vancouver:20280912T113000
DTSTAMP:20260421T083213
CREATED:20250702T160241Z
LAST-MODIFIED:20260220T220329Z
UID:10001018-1852363800-1852371000@www.ferniewomenscentre.com
SUMMARY:Parent-Tot Funtimes (Fernie)
DESCRIPTION:Parent-Tot Funtimes is a drop-in program for families with kids aged 0 to 6. It’s all about helping families connect and giving kids a chance to learn early. Every session has toys\, songs and stories\, and a craft or fun activity.
URL:https://www.ferniewomenscentre.com/calendar/parent-tot-funtimes-fernie-2-2/2028-09-12/
LOCATION:Fernie Family Centre\, 521 4th Ave\, Fernie\, BC\, V0B 1M0\, Canada
ORGANIZER;CN="Fernie Women's Resource Certre (Parent-Tot Funtimes)":MAILTO:parenttotfuntimes@gmail.com
END:VEVENT
BEGIN:VEVENT
DTSTART;TZID=America/Vancouver:20280919T093000
DTEND;TZID=America/Vancouver:20280919T113000
DTSTAMP:20260421T083213
CREATED:20250702T160241Z
LAST-MODIFIED:20260220T220329Z
UID:10001019-1852968600-1852975800@www.ferniewomenscentre.com
SUMMARY:Parent-Tot Funtimes (Fernie)
DESCRIPTION:Parent-Tot Funtimes is a drop-in program for families with kids aged 0 to 6. It’s all about helping families connect and giving kids a chance to learn early. Every session has toys\, songs and stories\, and a craft or fun activity.
URL:https://www.ferniewomenscentre.com/calendar/parent-tot-funtimes-fernie-2-2/2028-09-19/
LOCATION:Fernie Family Centre\, 521 4th Ave\, Fernie\, BC\, V0B 1M0\, Canada
ORGANIZER;CN="Fernie Women's Resource Certre (Parent-Tot Funtimes)":MAILTO:parenttotfuntimes@gmail.com
END:VEVENT
BEGIN:VEVENT
DTSTART;TZID=America/Vancouver:20280926T093000
DTEND;TZID=America/Vancouver:20280926T113000
DTSTAMP:20260421T083213
CREATED:20250702T160241Z
LAST-MODIFIED:20260220T220329Z
UID:10001020-1853573400-1853580600@www.ferniewomenscentre.com
SUMMARY:Parent-Tot Funtimes (Fernie)
DESCRIPTION:Parent-Tot Funtimes is a drop-in program for families with kids aged 0 to 6. It’s all about helping families connect and giving kids a chance to learn early. Every session has toys\, songs and stories\, and a craft or fun activity.
URL:https://www.ferniewomenscentre.com/calendar/parent-tot-funtimes-fernie-2-2/2028-09-26/
LOCATION:Fernie Family Centre\, 521 4th Ave\, Fernie\, BC\, V0B 1M0\, Canada
ORGANIZER;CN="Fernie Women's Resource Certre (Parent-Tot Funtimes)":MAILTO:parenttotfuntimes@gmail.com
END:VEVENT
BEGIN:VEVENT
DTSTART;TZID=America/Vancouver:20281003T093000
DTEND;TZID=America/Vancouver:20281003T113000
DTSTAMP:20260421T083213
CREATED:20250702T160241Z
LAST-MODIFIED:20260220T220329Z
UID:10001021-1854178200-1854185400@www.ferniewomenscentre.com
SUMMARY:Parent-Tot Funtimes (Fernie)
DESCRIPTION:Parent-Tot Funtimes is a drop-in program for families with kids aged 0 to 6. It’s all about helping families connect and giving kids a chance to learn early. Every session has toys\, songs and stories\, and a craft or fun activity.
URL:https://www.ferniewomenscentre.com/calendar/parent-tot-funtimes-fernie-2-2/2028-10-03/
LOCATION:Fernie Family Centre\, 521 4th Ave\, Fernie\, BC\, V0B 1M0\, Canada
ORGANIZER;CN="Fernie Women's Resource Certre (Parent-Tot Funtimes)":MAILTO:parenttotfuntimes@gmail.com
END:VEVENT
BEGIN:VEVENT
DTSTART;TZID=America/Vancouver:20281010T093000
DTEND;TZID=America/Vancouver:20281010T113000
DTSTAMP:20260421T083213
CREATED:20250702T160241Z
LAST-MODIFIED:20260220T220329Z
UID:10001022-1854783000-1854790200@www.ferniewomenscentre.com
SUMMARY:Parent-Tot Funtimes (Fernie)
DESCRIPTION:Parent-Tot Funtimes is a drop-in program for families with kids aged 0 to 6. It’s all about helping families connect and giving kids a chance to learn early. Every session has toys\, songs and stories\, and a craft or fun activity.
URL:https://www.ferniewomenscentre.com/calendar/parent-tot-funtimes-fernie-2-2/2028-10-10/
LOCATION:Fernie Family Centre\, 521 4th Ave\, Fernie\, BC\, V0B 1M0\, Canada
ORGANIZER;CN="Fernie Women's Resource Certre (Parent-Tot Funtimes)":MAILTO:parenttotfuntimes@gmail.com
END:VEVENT
BEGIN:VEVENT
DTSTART;TZID=America/Vancouver:20281017T093000
DTEND;TZID=America/Vancouver:20281017T113000
DTSTAMP:20260421T083213
CREATED:20250702T160241Z
LAST-MODIFIED:20260220T220329Z
UID:10001023-1855387800-1855395000@www.ferniewomenscentre.com
SUMMARY:Parent-Tot Funtimes (Fernie)
DESCRIPTION:Parent-Tot Funtimes is a drop-in program for families with kids aged 0 to 6. It’s all about helping families connect and giving kids a chance to learn early. Every session has toys\, songs and stories\, and a craft or fun activity.
URL:https://www.ferniewomenscentre.com/calendar/parent-tot-funtimes-fernie-2-2/2028-10-17/
LOCATION:Fernie Family Centre\, 521 4th Ave\, Fernie\, BC\, V0B 1M0\, Canada
ORGANIZER;CN="Fernie Women's Resource Certre (Parent-Tot Funtimes)":MAILTO:parenttotfuntimes@gmail.com
END:VEVENT
BEGIN:VEVENT
DTSTART;TZID=America/Vancouver:20281024T093000
DTEND;TZID=America/Vancouver:20281024T113000
DTSTAMP:20260421T083213
CREATED:20250702T160241Z
LAST-MODIFIED:20260220T220329Z
UID:10001024-1855992600-1855999800@www.ferniewomenscentre.com
SUMMARY:Parent-Tot Funtimes (Fernie)
DESCRIPTION:Parent-Tot Funtimes is a drop-in program for families with kids aged 0 to 6. It’s all about helping families connect and giving kids a chance to learn early. Every session has toys\, songs and stories\, and a craft or fun activity.
URL:https://www.ferniewomenscentre.com/calendar/parent-tot-funtimes-fernie-2-2/2028-10-24/
LOCATION:Fernie Family Centre\, 521 4th Ave\, Fernie\, BC\, V0B 1M0\, Canada
ORGANIZER;CN="Fernie Women's Resource Certre (Parent-Tot Funtimes)":MAILTO:parenttotfuntimes@gmail.com
END:VEVENT
BEGIN:VEVENT
DTSTART;TZID=America/Vancouver:20281031T093000
DTEND;TZID=America/Vancouver:20281031T113000
DTSTAMP:20260421T083213
CREATED:20250702T160241Z
LAST-MODIFIED:20260220T220329Z
UID:10001025-1856597400-1856604600@www.ferniewomenscentre.com
SUMMARY:Parent-Tot Funtimes (Fernie)
DESCRIPTION:Parent-Tot Funtimes is a drop-in program for families with kids aged 0 to 6. It’s all about helping families connect and giving kids a chance to learn early. Every session has toys\, songs and stories\, and a craft or fun activity.
URL:https://www.ferniewomenscentre.com/calendar/parent-tot-funtimes-fernie-2-2/2028-10-31/
LOCATION:Fernie Family Centre\, 521 4th Ave\, Fernie\, BC\, V0B 1M0\, Canada
ORGANIZER;CN="Fernie Women's Resource Certre (Parent-Tot Funtimes)":MAILTO:parenttotfuntimes@gmail.com
END:VEVENT
BEGIN:VEVENT
DTSTART;TZID=America/Vancouver:20281107T093000
DTEND;TZID=America/Vancouver:20281107T113000
DTSTAMP:20260421T083213
CREATED:20250702T160241Z
LAST-MODIFIED:20260220T220329Z
UID:10001026-1857202200-1857209400@www.ferniewomenscentre.com
SUMMARY:Parent-Tot Funtimes (Fernie)
DESCRIPTION:Parent-Tot Funtimes is a drop-in program for families with kids aged 0 to 6. It’s all about helping families connect and giving kids a chance to learn early. Every session has toys\, songs and stories\, and a craft or fun activity.
URL:https://www.ferniewomenscentre.com/calendar/parent-tot-funtimes-fernie-2-2/2028-11-07/
LOCATION:Fernie Family Centre\, 521 4th Ave\, Fernie\, BC\, V0B 1M0\, Canada
ORGANIZER;CN="Fernie Women's Resource Certre (Parent-Tot Funtimes)":MAILTO:parenttotfuntimes@gmail.com
END:VEVENT
BEGIN:VEVENT
DTSTART;TZID=America/Vancouver:20281114T093000
DTEND;TZID=America/Vancouver:20281114T113000
DTSTAMP:20260421T083213
CREATED:20250702T160241Z
LAST-MODIFIED:20260220T220329Z
UID:10001027-1857807000-1857814200@www.ferniewomenscentre.com
SUMMARY:Parent-Tot Funtimes (Fernie)
DESCRIPTION:Parent-Tot Funtimes is a drop-in program for families with kids aged 0 to 6. It’s all about helping families connect and giving kids a chance to learn early. Every session has toys\, songs and stories\, and a craft or fun activity.
URL:https://www.ferniewomenscentre.com/calendar/parent-tot-funtimes-fernie-2-2/2028-11-14/
LOCATION:Fernie Family Centre\, 521 4th Ave\, Fernie\, BC\, V0B 1M0\, Canada
ORGANIZER;CN="Fernie Women's Resource Certre (Parent-Tot Funtimes)":MAILTO:parenttotfuntimes@gmail.com
END:VEVENT
BEGIN:VEVENT
DTSTART;TZID=America/Vancouver:20281121T093000
DTEND;TZID=America/Vancouver:20281121T113000
DTSTAMP:20260421T083213
CREATED:20250702T160241Z
LAST-MODIFIED:20260220T220329Z
UID:10001028-1858411800-1858419000@www.ferniewomenscentre.com
SUMMARY:Parent-Tot Funtimes (Fernie)
DESCRIPTION:Parent-Tot Funtimes is a drop-in program for families with kids aged 0 to 6. It’s all about helping families connect and giving kids a chance to learn early. Every session has toys\, songs and stories\, and a craft or fun activity.
URL:https://www.ferniewomenscentre.com/calendar/parent-tot-funtimes-fernie-2-2/2028-11-21/
LOCATION:Fernie Family Centre\, 521 4th Ave\, Fernie\, BC\, V0B 1M0\, Canada
ORGANIZER;CN="Fernie Women's Resource Certre (Parent-Tot Funtimes)":MAILTO:parenttotfuntimes@gmail.com
END:VEVENT
BEGIN:VEVENT
DTSTART;TZID=America/Vancouver:20281128T093000
DTEND;TZID=America/Vancouver:20281128T113000
DTSTAMP:20260421T083213
CREATED:20250702T160241Z
LAST-MODIFIED:20260220T220329Z
UID:10001029-1859016600-1859023800@www.ferniewomenscentre.com
SUMMARY:Parent-Tot Funtimes (Fernie)
DESCRIPTION:Parent-Tot Funtimes is a drop-in program for families with kids aged 0 to 6. It’s all about helping families connect and giving kids a chance to learn early. Every session has toys\, songs and stories\, and a craft or fun activity.
URL:https://www.ferniewomenscentre.com/calendar/parent-tot-funtimes-fernie-2-2/2028-11-28/
LOCATION:Fernie Family Centre\, 521 4th Ave\, Fernie\, BC\, V0B 1M0\, Canada
ORGANIZER;CN="Fernie Women's Resource Certre (Parent-Tot Funtimes)":MAILTO:parenttotfuntimes@gmail.com
END:VEVENT
BEGIN:VEVENT
DTSTART;TZID=America/Vancouver:20281205T093000
DTEND;TZID=America/Vancouver:20281205T113000
DTSTAMP:20260421T083213
CREATED:20250702T160241Z
LAST-MODIFIED:20260220T220329Z
UID:10001030-1859621400-1859628600@www.ferniewomenscentre.com
SUMMARY:Parent-Tot Funtimes (Fernie)
DESCRIPTION:Parent-Tot Funtimes is a drop-in program for families with kids aged 0 to 6. It’s all about helping families connect and giving kids a chance to learn early. Every session has toys\, songs and stories\, and a craft or fun activity.
URL:https://www.ferniewomenscentre.com/calendar/parent-tot-funtimes-fernie-2-2/2028-12-05/
LOCATION:Fernie Family Centre\, 521 4th Ave\, Fernie\, BC\, V0B 1M0\, Canada
ORGANIZER;CN="Fernie Women's Resource Certre (Parent-Tot Funtimes)":MAILTO:parenttotfuntimes@gmail.com
END:VEVENT
END:VCALENDAR