BEGIN:VCALENDAR
VERSION:2.0
PRODID:-//Fernie Women&#039;s Resource Centre - ECPv6.15.20//NONSGML v1.0//EN
CALSCALE:GREGORIAN
METHOD:PUBLISH
X-ORIGINAL-URL:https://www.ferniewomenscentre.com
X-WR-CALDESC:Events for Fernie Women&#039;s Resource Centre
REFRESH-INTERVAL;VALUE=DURATION:PT1H
X-Robots-Tag:noindex
X-PUBLISHED-TTL:PT1H
BEGIN:VTIMEZONE
TZID:America/Vancouver
BEGIN:DAYLIGHT
TZOFFSETFROM:-0800
TZOFFSETTO:-0700
TZNAME:PDT
DTSTART:20260308T100000
END:DAYLIGHT
BEGIN:STANDARD
TZOFFSETFROM:-0700
TZOFFSETTO:-0800
TZNAME:PST
DTSTART:20261101T090000
END:STANDARD
BEGIN:DAYLIGHT
TZOFFSETFROM:-0800
TZOFFSETTO:-0700
TZNAME:PDT
DTSTART:20270314T100000
END:DAYLIGHT
BEGIN:STANDARD
TZOFFSETFROM:-0700
TZOFFSETTO:-0800
TZNAME:PST
DTSTART:20271107T090000
END:STANDARD
BEGIN:DAYLIGHT
TZOFFSETFROM:-0800
TZOFFSETTO:-0700
TZNAME:PDT
DTSTART:20280312T100000
END:DAYLIGHT
BEGIN:STANDARD
TZOFFSETFROM:-0700
TZOFFSETTO:-0800
TZNAME:PST
DTSTART:20281105T090000
END:STANDARD
BEGIN:DAYLIGHT
TZOFFSETFROM:-0800
TZOFFSETTO:-0700
TZNAME:PDT
DTSTART:20290311T100000
END:DAYLIGHT
BEGIN:STANDARD
TZOFFSETFROM:-0700
TZOFFSETTO:-0800
TZNAME:PST
DTSTART:20291104T090000
END:STANDARD
END:VTIMEZONE
BEGIN:VEVENT
DTSTART;TZID=America/Vancouver:20270907T093000
DTEND;TZID=America/Vancouver:20270907T113000
DTSTAMP:20260421T030206
CREATED:20250702T160241Z
LAST-MODIFIED:20260220T220329Z
UID:10000965-1820309400-1820316600@www.ferniewomenscentre.com
SUMMARY:Parent-Tot Funtimes (Fernie)
DESCRIPTION:Parent-Tot Funtimes is a drop-in program for families with kids aged 0 to 6. It’s all about helping families connect and giving kids a chance to learn early. Every session has toys\, songs and stories\, and a craft or fun activity.
URL:https://www.ferniewomenscentre.com/calendar/parent-tot-funtimes-fernie-2-2/2027-09-07/
LOCATION:Fernie Family Centre\, 521 4th Ave\, Fernie\, BC\, V0B 1M0\, Canada
ORGANIZER;CN="Fernie Women's Resource Certre (Parent-Tot Funtimes)":MAILTO:parenttotfuntimes@gmail.com
END:VEVENT
BEGIN:VEVENT
DTSTART;TZID=America/Vancouver:20270914T093000
DTEND;TZID=America/Vancouver:20270914T113000
DTSTAMP:20260421T030206
CREATED:20250702T160241Z
LAST-MODIFIED:20260220T220329Z
UID:10000966-1820914200-1820921400@www.ferniewomenscentre.com
SUMMARY:Parent-Tot Funtimes (Fernie)
DESCRIPTION:Parent-Tot Funtimes is a drop-in program for families with kids aged 0 to 6. It’s all about helping families connect and giving kids a chance to learn early. Every session has toys\, songs and stories\, and a craft or fun activity.
URL:https://www.ferniewomenscentre.com/calendar/parent-tot-funtimes-fernie-2-2/2027-09-14/
LOCATION:Fernie Family Centre\, 521 4th Ave\, Fernie\, BC\, V0B 1M0\, Canada
ORGANIZER;CN="Fernie Women's Resource Certre (Parent-Tot Funtimes)":MAILTO:parenttotfuntimes@gmail.com
END:VEVENT
BEGIN:VEVENT
DTSTART;TZID=America/Vancouver:20270921T093000
DTEND;TZID=America/Vancouver:20270921T113000
DTSTAMP:20260421T030206
CREATED:20250702T160241Z
LAST-MODIFIED:20260220T220329Z
UID:10000967-1821519000-1821526200@www.ferniewomenscentre.com
SUMMARY:Parent-Tot Funtimes (Fernie)
DESCRIPTION:Parent-Tot Funtimes is a drop-in program for families with kids aged 0 to 6. It’s all about helping families connect and giving kids a chance to learn early. Every session has toys\, songs and stories\, and a craft or fun activity.
URL:https://www.ferniewomenscentre.com/calendar/parent-tot-funtimes-fernie-2-2/2027-09-21/
LOCATION:Fernie Family Centre\, 521 4th Ave\, Fernie\, BC\, V0B 1M0\, Canada
ORGANIZER;CN="Fernie Women's Resource Certre (Parent-Tot Funtimes)":MAILTO:parenttotfuntimes@gmail.com
END:VEVENT
BEGIN:VEVENT
DTSTART;TZID=America/Vancouver:20270928T093000
DTEND;TZID=America/Vancouver:20270928T113000
DTSTAMP:20260421T030206
CREATED:20250702T160241Z
LAST-MODIFIED:20260220T220329Z
UID:10000968-1822123800-1822131000@www.ferniewomenscentre.com
SUMMARY:Parent-Tot Funtimes (Fernie)
DESCRIPTION:Parent-Tot Funtimes is a drop-in program for families with kids aged 0 to 6. It’s all about helping families connect and giving kids a chance to learn early. Every session has toys\, songs and stories\, and a craft or fun activity.
URL:https://www.ferniewomenscentre.com/calendar/parent-tot-funtimes-fernie-2-2/2027-09-28/
LOCATION:Fernie Family Centre\, 521 4th Ave\, Fernie\, BC\, V0B 1M0\, Canada
ORGANIZER;CN="Fernie Women's Resource Certre (Parent-Tot Funtimes)":MAILTO:parenttotfuntimes@gmail.com
END:VEVENT
BEGIN:VEVENT
DTSTART;TZID=America/Vancouver:20271005T093000
DTEND;TZID=America/Vancouver:20271005T113000
DTSTAMP:20260421T030206
CREATED:20250702T160241Z
LAST-MODIFIED:20260220T220329Z
UID:10000969-1822728600-1822735800@www.ferniewomenscentre.com
SUMMARY:Parent-Tot Funtimes (Fernie)
DESCRIPTION:Parent-Tot Funtimes is a drop-in program for families with kids aged 0 to 6. It’s all about helping families connect and giving kids a chance to learn early. Every session has toys\, songs and stories\, and a craft or fun activity.
URL:https://www.ferniewomenscentre.com/calendar/parent-tot-funtimes-fernie-2-2/2027-10-05/
LOCATION:Fernie Family Centre\, 521 4th Ave\, Fernie\, BC\, V0B 1M0\, Canada
ORGANIZER;CN="Fernie Women's Resource Certre (Parent-Tot Funtimes)":MAILTO:parenttotfuntimes@gmail.com
END:VEVENT
BEGIN:VEVENT
DTSTART;TZID=America/Vancouver:20271012T093000
DTEND;TZID=America/Vancouver:20271012T113000
DTSTAMP:20260421T030206
CREATED:20250702T160241Z
LAST-MODIFIED:20260220T220329Z
UID:10000970-1823333400-1823340600@www.ferniewomenscentre.com
SUMMARY:Parent-Tot Funtimes (Fernie)
DESCRIPTION:Parent-Tot Funtimes is a drop-in program for families with kids aged 0 to 6. It’s all about helping families connect and giving kids a chance to learn early. Every session has toys\, songs and stories\, and a craft or fun activity.
URL:https://www.ferniewomenscentre.com/calendar/parent-tot-funtimes-fernie-2-2/2027-10-12/
LOCATION:Fernie Family Centre\, 521 4th Ave\, Fernie\, BC\, V0B 1M0\, Canada
ORGANIZER;CN="Fernie Women's Resource Certre (Parent-Tot Funtimes)":MAILTO:parenttotfuntimes@gmail.com
END:VEVENT
BEGIN:VEVENT
DTSTART;TZID=America/Vancouver:20271019T093000
DTEND;TZID=America/Vancouver:20271019T113000
DTSTAMP:20260421T030206
CREATED:20250702T160241Z
LAST-MODIFIED:20260220T220329Z
UID:10000971-1823938200-1823945400@www.ferniewomenscentre.com
SUMMARY:Parent-Tot Funtimes (Fernie)
DESCRIPTION:Parent-Tot Funtimes is a drop-in program for families with kids aged 0 to 6. It’s all about helping families connect and giving kids a chance to learn early. Every session has toys\, songs and stories\, and a craft or fun activity.
URL:https://www.ferniewomenscentre.com/calendar/parent-tot-funtimes-fernie-2-2/2027-10-19/
LOCATION:Fernie Family Centre\, 521 4th Ave\, Fernie\, BC\, V0B 1M0\, Canada
ORGANIZER;CN="Fernie Women's Resource Certre (Parent-Tot Funtimes)":MAILTO:parenttotfuntimes@gmail.com
END:VEVENT
BEGIN:VEVENT
DTSTART;TZID=America/Vancouver:20271026T093000
DTEND;TZID=America/Vancouver:20271026T113000
DTSTAMP:20260421T030206
CREATED:20250702T160241Z
LAST-MODIFIED:20260220T220329Z
UID:10000972-1824543000-1824550200@www.ferniewomenscentre.com
SUMMARY:Parent-Tot Funtimes (Fernie)
DESCRIPTION:Parent-Tot Funtimes is a drop-in program for families with kids aged 0 to 6. It’s all about helping families connect and giving kids a chance to learn early. Every session has toys\, songs and stories\, and a craft or fun activity.
URL:https://www.ferniewomenscentre.com/calendar/parent-tot-funtimes-fernie-2-2/2027-10-26/
LOCATION:Fernie Family Centre\, 521 4th Ave\, Fernie\, BC\, V0B 1M0\, Canada
ORGANIZER;CN="Fernie Women's Resource Certre (Parent-Tot Funtimes)":MAILTO:parenttotfuntimes@gmail.com
END:VEVENT
BEGIN:VEVENT
DTSTART;TZID=America/Vancouver:20271102T093000
DTEND;TZID=America/Vancouver:20271102T113000
DTSTAMP:20260421T030206
CREATED:20250702T160241Z
LAST-MODIFIED:20260220T220329Z
UID:10000973-1825147800-1825155000@www.ferniewomenscentre.com
SUMMARY:Parent-Tot Funtimes (Fernie)
DESCRIPTION:Parent-Tot Funtimes is a drop-in program for families with kids aged 0 to 6. It’s all about helping families connect and giving kids a chance to learn early. Every session has toys\, songs and stories\, and a craft or fun activity.
URL:https://www.ferniewomenscentre.com/calendar/parent-tot-funtimes-fernie-2-2/2027-11-02/
LOCATION:Fernie Family Centre\, 521 4th Ave\, Fernie\, BC\, V0B 1M0\, Canada
ORGANIZER;CN="Fernie Women's Resource Certre (Parent-Tot Funtimes)":MAILTO:parenttotfuntimes@gmail.com
END:VEVENT
BEGIN:VEVENT
DTSTART;TZID=America/Vancouver:20271109T093000
DTEND;TZID=America/Vancouver:20271109T113000
DTSTAMP:20260421T030206
CREATED:20250702T160241Z
LAST-MODIFIED:20260220T220329Z
UID:10000974-1825752600-1825759800@www.ferniewomenscentre.com
SUMMARY:Parent-Tot Funtimes (Fernie)
DESCRIPTION:Parent-Tot Funtimes is a drop-in program for families with kids aged 0 to 6. It’s all about helping families connect and giving kids a chance to learn early. Every session has toys\, songs and stories\, and a craft or fun activity.
URL:https://www.ferniewomenscentre.com/calendar/parent-tot-funtimes-fernie-2-2/2027-11-09/
LOCATION:Fernie Family Centre\, 521 4th Ave\, Fernie\, BC\, V0B 1M0\, Canada
ORGANIZER;CN="Fernie Women's Resource Certre (Parent-Tot Funtimes)":MAILTO:parenttotfuntimes@gmail.com
END:VEVENT
BEGIN:VEVENT
DTSTART;TZID=America/Vancouver:20271116T093000
DTEND;TZID=America/Vancouver:20271116T113000
DTSTAMP:20260421T030206
CREATED:20250702T160241Z
LAST-MODIFIED:20260220T220329Z
UID:10000975-1826357400-1826364600@www.ferniewomenscentre.com
SUMMARY:Parent-Tot Funtimes (Fernie)
DESCRIPTION:Parent-Tot Funtimes is a drop-in program for families with kids aged 0 to 6. It’s all about helping families connect and giving kids a chance to learn early. Every session has toys\, songs and stories\, and a craft or fun activity.
URL:https://www.ferniewomenscentre.com/calendar/parent-tot-funtimes-fernie-2-2/2027-11-16/
LOCATION:Fernie Family Centre\, 521 4th Ave\, Fernie\, BC\, V0B 1M0\, Canada
ORGANIZER;CN="Fernie Women's Resource Certre (Parent-Tot Funtimes)":MAILTO:parenttotfuntimes@gmail.com
END:VEVENT
BEGIN:VEVENT
DTSTART;TZID=America/Vancouver:20271123T093000
DTEND;TZID=America/Vancouver:20271123T113000
DTSTAMP:20260421T030206
CREATED:20250702T160241Z
LAST-MODIFIED:20260220T220329Z
UID:10000976-1826962200-1826969400@www.ferniewomenscentre.com
SUMMARY:Parent-Tot Funtimes (Fernie)
DESCRIPTION:Parent-Tot Funtimes is a drop-in program for families with kids aged 0 to 6. It’s all about helping families connect and giving kids a chance to learn early. Every session has toys\, songs and stories\, and a craft or fun activity.
URL:https://www.ferniewomenscentre.com/calendar/parent-tot-funtimes-fernie-2-2/2027-11-23/
LOCATION:Fernie Family Centre\, 521 4th Ave\, Fernie\, BC\, V0B 1M0\, Canada
ORGANIZER;CN="Fernie Women's Resource Certre (Parent-Tot Funtimes)":MAILTO:parenttotfuntimes@gmail.com
END:VEVENT
BEGIN:VEVENT
DTSTART;TZID=America/Vancouver:20271130T093000
DTEND;TZID=America/Vancouver:20271130T113000
DTSTAMP:20260421T030206
CREATED:20250702T160241Z
LAST-MODIFIED:20260220T220329Z
UID:10000977-1827567000-1827574200@www.ferniewomenscentre.com
SUMMARY:Parent-Tot Funtimes (Fernie)
DESCRIPTION:Parent-Tot Funtimes is a drop-in program for families with kids aged 0 to 6. It’s all about helping families connect and giving kids a chance to learn early. Every session has toys\, songs and stories\, and a craft or fun activity.
URL:https://www.ferniewomenscentre.com/calendar/parent-tot-funtimes-fernie-2-2/2027-11-30/
LOCATION:Fernie Family Centre\, 521 4th Ave\, Fernie\, BC\, V0B 1M0\, Canada
ORGANIZER;CN="Fernie Women's Resource Certre (Parent-Tot Funtimes)":MAILTO:parenttotfuntimes@gmail.com
END:VEVENT
BEGIN:VEVENT
DTSTART;TZID=America/Vancouver:20271207T093000
DTEND;TZID=America/Vancouver:20271207T113000
DTSTAMP:20260421T030206
CREATED:20250702T160241Z
LAST-MODIFIED:20260220T220329Z
UID:10000978-1828171800-1828179000@www.ferniewomenscentre.com
SUMMARY:Parent-Tot Funtimes (Fernie)
DESCRIPTION:Parent-Tot Funtimes is a drop-in program for families with kids aged 0 to 6. It’s all about helping families connect and giving kids a chance to learn early. Every session has toys\, songs and stories\, and a craft or fun activity.
URL:https://www.ferniewomenscentre.com/calendar/parent-tot-funtimes-fernie-2-2/2027-12-07/
LOCATION:Fernie Family Centre\, 521 4th Ave\, Fernie\, BC\, V0B 1M0\, Canada
ORGANIZER;CN="Fernie Women's Resource Certre (Parent-Tot Funtimes)":MAILTO:parenttotfuntimes@gmail.com
END:VEVENT
BEGIN:VEVENT
DTSTART;TZID=America/Vancouver:20271214T093000
DTEND;TZID=America/Vancouver:20271214T113000
DTSTAMP:20260421T030206
CREATED:20250702T160241Z
LAST-MODIFIED:20260220T220329Z
UID:10000979-1828776600-1828783800@www.ferniewomenscentre.com
SUMMARY:Parent-Tot Funtimes (Fernie)
DESCRIPTION:Parent-Tot Funtimes is a drop-in program for families with kids aged 0 to 6. It’s all about helping families connect and giving kids a chance to learn early. Every session has toys\, songs and stories\, and a craft or fun activity.
URL:https://www.ferniewomenscentre.com/calendar/parent-tot-funtimes-fernie-2-2/2027-12-14/
LOCATION:Fernie Family Centre\, 521 4th Ave\, Fernie\, BC\, V0B 1M0\, Canada
ORGANIZER;CN="Fernie Women's Resource Certre (Parent-Tot Funtimes)":MAILTO:parenttotfuntimes@gmail.com
END:VEVENT
BEGIN:VEVENT
DTSTART;TZID=America/Vancouver:20271221T093000
DTEND;TZID=America/Vancouver:20271221T113000
DTSTAMP:20260421T030206
CREATED:20250702T160241Z
LAST-MODIFIED:20260220T220329Z
UID:10000980-1829381400-1829388600@www.ferniewomenscentre.com
SUMMARY:Parent-Tot Funtimes (Fernie)
DESCRIPTION:Parent-Tot Funtimes is a drop-in program for families with kids aged 0 to 6. It’s all about helping families connect and giving kids a chance to learn early. Every session has toys\, songs and stories\, and a craft or fun activity.
URL:https://www.ferniewomenscentre.com/calendar/parent-tot-funtimes-fernie-2-2/2027-12-21/
LOCATION:Fernie Family Centre\, 521 4th Ave\, Fernie\, BC\, V0B 1M0\, Canada
ORGANIZER;CN="Fernie Women's Resource Certre (Parent-Tot Funtimes)":MAILTO:parenttotfuntimes@gmail.com
END:VEVENT
BEGIN:VEVENT
DTSTART;TZID=America/Vancouver:20271228T093000
DTEND;TZID=America/Vancouver:20271228T113000
DTSTAMP:20260421T030206
CREATED:20250702T160241Z
LAST-MODIFIED:20260220T220329Z
UID:10000981-1829986200-1829993400@www.ferniewomenscentre.com
SUMMARY:Parent-Tot Funtimes (Fernie)
DESCRIPTION:Parent-Tot Funtimes is a drop-in program for families with kids aged 0 to 6. It’s all about helping families connect and giving kids a chance to learn early. Every session has toys\, songs and stories\, and a craft or fun activity.
URL:https://www.ferniewomenscentre.com/calendar/parent-tot-funtimes-fernie-2-2/2027-12-28/
LOCATION:Fernie Family Centre\, 521 4th Ave\, Fernie\, BC\, V0B 1M0\, Canada
ORGANIZER;CN="Fernie Women's Resource Certre (Parent-Tot Funtimes)":MAILTO:parenttotfuntimes@gmail.com
END:VEVENT
BEGIN:VEVENT
DTSTART;TZID=America/Vancouver:20280104T093000
DTEND;TZID=America/Vancouver:20280104T113000
DTSTAMP:20260421T030206
CREATED:20250702T160241Z
LAST-MODIFIED:20260220T220329Z
UID:10000982-1830591000-1830598200@www.ferniewomenscentre.com
SUMMARY:Parent-Tot Funtimes (Fernie)
DESCRIPTION:Parent-Tot Funtimes is a drop-in program for families with kids aged 0 to 6. It’s all about helping families connect and giving kids a chance to learn early. Every session has toys\, songs and stories\, and a craft or fun activity.
URL:https://www.ferniewomenscentre.com/calendar/parent-tot-funtimes-fernie-2-2/2028-01-04/
LOCATION:Fernie Family Centre\, 521 4th Ave\, Fernie\, BC\, V0B 1M0\, Canada
ORGANIZER;CN="Fernie Women's Resource Certre (Parent-Tot Funtimes)":MAILTO:parenttotfuntimes@gmail.com
END:VEVENT
BEGIN:VEVENT
DTSTART;TZID=America/Vancouver:20280111T093000
DTEND;TZID=America/Vancouver:20280111T113000
DTSTAMP:20260421T030206
CREATED:20250702T160241Z
LAST-MODIFIED:20260220T220329Z
UID:10000983-1831195800-1831203000@www.ferniewomenscentre.com
SUMMARY:Parent-Tot Funtimes (Fernie)
DESCRIPTION:Parent-Tot Funtimes is a drop-in program for families with kids aged 0 to 6. It’s all about helping families connect and giving kids a chance to learn early. Every session has toys\, songs and stories\, and a craft or fun activity.
URL:https://www.ferniewomenscentre.com/calendar/parent-tot-funtimes-fernie-2-2/2028-01-11/
LOCATION:Fernie Family Centre\, 521 4th Ave\, Fernie\, BC\, V0B 1M0\, Canada
ORGANIZER;CN="Fernie Women's Resource Certre (Parent-Tot Funtimes)":MAILTO:parenttotfuntimes@gmail.com
END:VEVENT
BEGIN:VEVENT
DTSTART;TZID=America/Vancouver:20280118T093000
DTEND;TZID=America/Vancouver:20280118T113000
DTSTAMP:20260421T030206
CREATED:20250702T160241Z
LAST-MODIFIED:20260220T220329Z
UID:10000984-1831800600-1831807800@www.ferniewomenscentre.com
SUMMARY:Parent-Tot Funtimes (Fernie)
DESCRIPTION:Parent-Tot Funtimes is a drop-in program for families with kids aged 0 to 6. It’s all about helping families connect and giving kids a chance to learn early. Every session has toys\, songs and stories\, and a craft or fun activity.
URL:https://www.ferniewomenscentre.com/calendar/parent-tot-funtimes-fernie-2-2/2028-01-18/
LOCATION:Fernie Family Centre\, 521 4th Ave\, Fernie\, BC\, V0B 1M0\, Canada
ORGANIZER;CN="Fernie Women's Resource Certre (Parent-Tot Funtimes)":MAILTO:parenttotfuntimes@gmail.com
END:VEVENT
BEGIN:VEVENT
DTSTART;TZID=America/Vancouver:20280125T093000
DTEND;TZID=America/Vancouver:20280125T113000
DTSTAMP:20260421T030206
CREATED:20250702T160241Z
LAST-MODIFIED:20260220T220329Z
UID:10000985-1832405400-1832412600@www.ferniewomenscentre.com
SUMMARY:Parent-Tot Funtimes (Fernie)
DESCRIPTION:Parent-Tot Funtimes is a drop-in program for families with kids aged 0 to 6. It’s all about helping families connect and giving kids a chance to learn early. Every session has toys\, songs and stories\, and a craft or fun activity.
URL:https://www.ferniewomenscentre.com/calendar/parent-tot-funtimes-fernie-2-2/2028-01-25/
LOCATION:Fernie Family Centre\, 521 4th Ave\, Fernie\, BC\, V0B 1M0\, Canada
ORGANIZER;CN="Fernie Women's Resource Certre (Parent-Tot Funtimes)":MAILTO:parenttotfuntimes@gmail.com
END:VEVENT
BEGIN:VEVENT
DTSTART;TZID=America/Vancouver:20280201T093000
DTEND;TZID=America/Vancouver:20280201T113000
DTSTAMP:20260421T030206
CREATED:20250702T160241Z
LAST-MODIFIED:20260220T220329Z
UID:10000986-1833010200-1833017400@www.ferniewomenscentre.com
SUMMARY:Parent-Tot Funtimes (Fernie)
DESCRIPTION:Parent-Tot Funtimes is a drop-in program for families with kids aged 0 to 6. It’s all about helping families connect and giving kids a chance to learn early. Every session has toys\, songs and stories\, and a craft or fun activity.
URL:https://www.ferniewomenscentre.com/calendar/parent-tot-funtimes-fernie-2-2/2028-02-01/
LOCATION:Fernie Family Centre\, 521 4th Ave\, Fernie\, BC\, V0B 1M0\, Canada
ORGANIZER;CN="Fernie Women's Resource Certre (Parent-Tot Funtimes)":MAILTO:parenttotfuntimes@gmail.com
END:VEVENT
BEGIN:VEVENT
DTSTART;TZID=America/Vancouver:20280208T093000
DTEND;TZID=America/Vancouver:20280208T113000
DTSTAMP:20260421T030206
CREATED:20250702T160241Z
LAST-MODIFIED:20260220T220329Z
UID:10000987-1833615000-1833622200@www.ferniewomenscentre.com
SUMMARY:Parent-Tot Funtimes (Fernie)
DESCRIPTION:Parent-Tot Funtimes is a drop-in program for families with kids aged 0 to 6. It’s all about helping families connect and giving kids a chance to learn early. Every session has toys\, songs and stories\, and a craft or fun activity.
URL:https://www.ferniewomenscentre.com/calendar/parent-tot-funtimes-fernie-2-2/2028-02-08/
LOCATION:Fernie Family Centre\, 521 4th Ave\, Fernie\, BC\, V0B 1M0\, Canada
ORGANIZER;CN="Fernie Women's Resource Certre (Parent-Tot Funtimes)":MAILTO:parenttotfuntimes@gmail.com
END:VEVENT
BEGIN:VEVENT
DTSTART;TZID=America/Vancouver:20280215T093000
DTEND;TZID=America/Vancouver:20280215T113000
DTSTAMP:20260421T030206
CREATED:20250702T160241Z
LAST-MODIFIED:20260220T220329Z
UID:10000988-1834219800-1834227000@www.ferniewomenscentre.com
SUMMARY:Parent-Tot Funtimes (Fernie)
DESCRIPTION:Parent-Tot Funtimes is a drop-in program for families with kids aged 0 to 6. It’s all about helping families connect and giving kids a chance to learn early. Every session has toys\, songs and stories\, and a craft or fun activity.
URL:https://www.ferniewomenscentre.com/calendar/parent-tot-funtimes-fernie-2-2/2028-02-15/
LOCATION:Fernie Family Centre\, 521 4th Ave\, Fernie\, BC\, V0B 1M0\, Canada
ORGANIZER;CN="Fernie Women's Resource Certre (Parent-Tot Funtimes)":MAILTO:parenttotfuntimes@gmail.com
END:VEVENT
BEGIN:VEVENT
DTSTART;TZID=America/Vancouver:20280222T093000
DTEND;TZID=America/Vancouver:20280222T113000
DTSTAMP:20260421T030206
CREATED:20250702T160241Z
LAST-MODIFIED:20260220T220329Z
UID:10000989-1834824600-1834831800@www.ferniewomenscentre.com
SUMMARY:Parent-Tot Funtimes (Fernie)
DESCRIPTION:Parent-Tot Funtimes is a drop-in program for families with kids aged 0 to 6. It’s all about helping families connect and giving kids a chance to learn early. Every session has toys\, songs and stories\, and a craft or fun activity.
URL:https://www.ferniewomenscentre.com/calendar/parent-tot-funtimes-fernie-2-2/2028-02-22/
LOCATION:Fernie Family Centre\, 521 4th Ave\, Fernie\, BC\, V0B 1M0\, Canada
ORGANIZER;CN="Fernie Women's Resource Certre (Parent-Tot Funtimes)":MAILTO:parenttotfuntimes@gmail.com
END:VEVENT
BEGIN:VEVENT
DTSTART;TZID=America/Vancouver:20280229T093000
DTEND;TZID=America/Vancouver:20280229T113000
DTSTAMP:20260421T030206
CREATED:20250702T160241Z
LAST-MODIFIED:20260220T220329Z
UID:10000990-1835429400-1835436600@www.ferniewomenscentre.com
SUMMARY:Parent-Tot Funtimes (Fernie)
DESCRIPTION:Parent-Tot Funtimes is a drop-in program for families with kids aged 0 to 6. It’s all about helping families connect and giving kids a chance to learn early. Every session has toys\, songs and stories\, and a craft or fun activity.
URL:https://www.ferniewomenscentre.com/calendar/parent-tot-funtimes-fernie-2-2/2028-02-29/
LOCATION:Fernie Family Centre\, 521 4th Ave\, Fernie\, BC\, V0B 1M0\, Canada
ORGANIZER;CN="Fernie Women's Resource Certre (Parent-Tot Funtimes)":MAILTO:parenttotfuntimes@gmail.com
END:VEVENT
BEGIN:VEVENT
DTSTART;TZID=America/Vancouver:20280307T093000
DTEND;TZID=America/Vancouver:20280307T113000
DTSTAMP:20260421T030206
CREATED:20250702T160241Z
LAST-MODIFIED:20260220T220329Z
UID:10000991-1836034200-1836041400@www.ferniewomenscentre.com
SUMMARY:Parent-Tot Funtimes (Fernie)
DESCRIPTION:Parent-Tot Funtimes is a drop-in program for families with kids aged 0 to 6. It’s all about helping families connect and giving kids a chance to learn early. Every session has toys\, songs and stories\, and a craft or fun activity.
URL:https://www.ferniewomenscentre.com/calendar/parent-tot-funtimes-fernie-2-2/2028-03-07/
LOCATION:Fernie Family Centre\, 521 4th Ave\, Fernie\, BC\, V0B 1M0\, Canada
ORGANIZER;CN="Fernie Women's Resource Certre (Parent-Tot Funtimes)":MAILTO:parenttotfuntimes@gmail.com
END:VEVENT
BEGIN:VEVENT
DTSTART;TZID=America/Vancouver:20280314T093000
DTEND;TZID=America/Vancouver:20280314T113000
DTSTAMP:20260421T030206
CREATED:20250702T160241Z
LAST-MODIFIED:20260220T220329Z
UID:10000992-1836639000-1836646200@www.ferniewomenscentre.com
SUMMARY:Parent-Tot Funtimes (Fernie)
DESCRIPTION:Parent-Tot Funtimes is a drop-in program for families with kids aged 0 to 6. It’s all about helping families connect and giving kids a chance to learn early. Every session has toys\, songs and stories\, and a craft or fun activity.
URL:https://www.ferniewomenscentre.com/calendar/parent-tot-funtimes-fernie-2-2/2028-03-14/
LOCATION:Fernie Family Centre\, 521 4th Ave\, Fernie\, BC\, V0B 1M0\, Canada
ORGANIZER;CN="Fernie Women's Resource Certre (Parent-Tot Funtimes)":MAILTO:parenttotfuntimes@gmail.com
END:VEVENT
BEGIN:VEVENT
DTSTART;TZID=America/Vancouver:20280321T093000
DTEND;TZID=America/Vancouver:20280321T113000
DTSTAMP:20260421T030206
CREATED:20250702T160241Z
LAST-MODIFIED:20260220T220329Z
UID:10000993-1837243800-1837251000@www.ferniewomenscentre.com
SUMMARY:Parent-Tot Funtimes (Fernie)
DESCRIPTION:Parent-Tot Funtimes is a drop-in program for families with kids aged 0 to 6. It’s all about helping families connect and giving kids a chance to learn early. Every session has toys\, songs and stories\, and a craft or fun activity.
URL:https://www.ferniewomenscentre.com/calendar/parent-tot-funtimes-fernie-2-2/2028-03-21/
LOCATION:Fernie Family Centre\, 521 4th Ave\, Fernie\, BC\, V0B 1M0\, Canada
ORGANIZER;CN="Fernie Women's Resource Certre (Parent-Tot Funtimes)":MAILTO:parenttotfuntimes@gmail.com
END:VEVENT
BEGIN:VEVENT
DTSTART;TZID=America/Vancouver:20280328T093000
DTEND;TZID=America/Vancouver:20280328T113000
DTSTAMP:20260421T030206
CREATED:20250702T160241Z
LAST-MODIFIED:20260220T220329Z
UID:10000994-1837848600-1837855800@www.ferniewomenscentre.com
SUMMARY:Parent-Tot Funtimes (Fernie)
DESCRIPTION:Parent-Tot Funtimes is a drop-in program for families with kids aged 0 to 6. It’s all about helping families connect and giving kids a chance to learn early. Every session has toys\, songs and stories\, and a craft or fun activity.
URL:https://www.ferniewomenscentre.com/calendar/parent-tot-funtimes-fernie-2-2/2028-03-28/
LOCATION:Fernie Family Centre\, 521 4th Ave\, Fernie\, BC\, V0B 1M0\, Canada
ORGANIZER;CN="Fernie Women's Resource Certre (Parent-Tot Funtimes)":MAILTO:parenttotfuntimes@gmail.com
END:VEVENT
END:VCALENDAR