BEGIN:VCALENDAR
VERSION:2.0
PRODID:-//Fernie Women&#039;s Resource Centre - ECPv6.15.20//NONSGML v1.0//EN
CALSCALE:GREGORIAN
METHOD:PUBLISH
X-ORIGINAL-URL:https://www.ferniewomenscentre.com
X-WR-CALDESC:Events for Fernie Women&#039;s Resource Centre
REFRESH-INTERVAL;VALUE=DURATION:PT1H
X-Robots-Tag:noindex
X-PUBLISHED-TTL:PT1H
BEGIN:VTIMEZONE
TZID:America/Vancouver
BEGIN:DAYLIGHT
TZOFFSETFROM:-0800
TZOFFSETTO:-0700
TZNAME:PDT
DTSTART:20270314T100000
END:DAYLIGHT
BEGIN:STANDARD
TZOFFSETFROM:-0700
TZOFFSETTO:-0800
TZNAME:PST
DTSTART:20271107T090000
END:STANDARD
BEGIN:DAYLIGHT
TZOFFSETFROM:-0800
TZOFFSETTO:-0700
TZNAME:PDT
DTSTART:20280312T100000
END:DAYLIGHT
BEGIN:STANDARD
TZOFFSETFROM:-0700
TZOFFSETTO:-0800
TZNAME:PST
DTSTART:20281105T090000
END:STANDARD
BEGIN:DAYLIGHT
TZOFFSETFROM:-0800
TZOFFSETTO:-0700
TZNAME:PDT
DTSTART:20290311T100000
END:DAYLIGHT
BEGIN:STANDARD
TZOFFSETFROM:-0700
TZOFFSETTO:-0800
TZNAME:PST
DTSTART:20291104T090000
END:STANDARD
END:VTIMEZONE
BEGIN:VEVENT
DTSTART;TZID=America/Vancouver:20280522T093000
DTEND;TZID=America/Vancouver:20280522T113000
DTSTAMP:20260421T045542
CREATED:20251017T162638Z
LAST-MODIFIED:20260220T220213Z
UID:10003808-1842600600-1842607800@www.ferniewomenscentre.com
SUMMARY:Parent-Tot Funtimes (Sparwood)
DESCRIPTION:Parent-Tot Funtimes is a drop-in program for families with kids aged 0 to 6. It’s all about helping families connect and giving kids a chance to learn early. Every session has toys\, songs and stories\, and a craft or fun activity.
URL:https://www.ferniewomenscentre.com/calendar/parent-tot-funtimes-sparwood-5-2-2/2028-05-22/
LOCATION:Sparwood Rec Centre in the Community Hall (above Skating Rink)\, 367 Pine Ave\, Sparwood\, BC\, V0B 2G0\, Canada
ORGANIZER;CN="Fernie Women's Resource Certre (Parent-Tot Funtimes)":MAILTO:parenttotfuntimes@gmail.com
END:VEVENT
BEGIN:VEVENT
DTSTART;TZID=America/Vancouver:20280529T093000
DTEND;TZID=America/Vancouver:20280529T113000
DTSTAMP:20260421T045542
CREATED:20251017T162638Z
LAST-MODIFIED:20260220T220213Z
UID:10003809-1843205400-1843212600@www.ferniewomenscentre.com
SUMMARY:Parent-Tot Funtimes (Sparwood)
DESCRIPTION:Parent-Tot Funtimes is a drop-in program for families with kids aged 0 to 6. It’s all about helping families connect and giving kids a chance to learn early. Every session has toys\, songs and stories\, and a craft or fun activity.
URL:https://www.ferniewomenscentre.com/calendar/parent-tot-funtimes-sparwood-5-2-2/2028-05-29/
LOCATION:Sparwood Rec Centre in the Community Hall (above Skating Rink)\, 367 Pine Ave\, Sparwood\, BC\, V0B 2G0\, Canada
ORGANIZER;CN="Fernie Women's Resource Certre (Parent-Tot Funtimes)":MAILTO:parenttotfuntimes@gmail.com
END:VEVENT
BEGIN:VEVENT
DTSTART;TZID=America/Vancouver:20280605T093000
DTEND;TZID=America/Vancouver:20280605T113000
DTSTAMP:20260421T045542
CREATED:20251017T162638Z
LAST-MODIFIED:20260220T220213Z
UID:10003810-1843810200-1843817400@www.ferniewomenscentre.com
SUMMARY:Parent-Tot Funtimes (Sparwood)
DESCRIPTION:Parent-Tot Funtimes is a drop-in program for families with kids aged 0 to 6. It’s all about helping families connect and giving kids a chance to learn early. Every session has toys\, songs and stories\, and a craft or fun activity.
URL:https://www.ferniewomenscentre.com/calendar/parent-tot-funtimes-sparwood-5-2-2/2028-06-05/
LOCATION:Sparwood Rec Centre in the Community Hall (above Skating Rink)\, 367 Pine Ave\, Sparwood\, BC\, V0B 2G0\, Canada
ORGANIZER;CN="Fernie Women's Resource Certre (Parent-Tot Funtimes)":MAILTO:parenttotfuntimes@gmail.com
END:VEVENT
BEGIN:VEVENT
DTSTART;TZID=America/Vancouver:20280612T093000
DTEND;TZID=America/Vancouver:20280612T113000
DTSTAMP:20260421T045542
CREATED:20251017T162638Z
LAST-MODIFIED:20260220T220213Z
UID:10003811-1844415000-1844422200@www.ferniewomenscentre.com
SUMMARY:Parent-Tot Funtimes (Sparwood)
DESCRIPTION:Parent-Tot Funtimes is a drop-in program for families with kids aged 0 to 6. It’s all about helping families connect and giving kids a chance to learn early. Every session has toys\, songs and stories\, and a craft or fun activity.
URL:https://www.ferniewomenscentre.com/calendar/parent-tot-funtimes-sparwood-5-2-2/2028-06-12/
LOCATION:Sparwood Rec Centre in the Community Hall (above Skating Rink)\, 367 Pine Ave\, Sparwood\, BC\, V0B 2G0\, Canada
ORGANIZER;CN="Fernie Women's Resource Certre (Parent-Tot Funtimes)":MAILTO:parenttotfuntimes@gmail.com
END:VEVENT
BEGIN:VEVENT
DTSTART;TZID=America/Vancouver:20280619T093000
DTEND;TZID=America/Vancouver:20280619T113000
DTSTAMP:20260421T045542
CREATED:20251017T162638Z
LAST-MODIFIED:20260220T220213Z
UID:10003812-1845019800-1845027000@www.ferniewomenscentre.com
SUMMARY:Parent-Tot Funtimes (Sparwood)
DESCRIPTION:Parent-Tot Funtimes is a drop-in program for families with kids aged 0 to 6. It’s all about helping families connect and giving kids a chance to learn early. Every session has toys\, songs and stories\, and a craft or fun activity.
URL:https://www.ferniewomenscentre.com/calendar/parent-tot-funtimes-sparwood-5-2-2/2028-06-19/
LOCATION:Sparwood Rec Centre in the Community Hall (above Skating Rink)\, 367 Pine Ave\, Sparwood\, BC\, V0B 2G0\, Canada
ORGANIZER;CN="Fernie Women's Resource Certre (Parent-Tot Funtimes)":MAILTO:parenttotfuntimes@gmail.com
END:VEVENT
BEGIN:VEVENT
DTSTART;TZID=America/Vancouver:20280626T093000
DTEND;TZID=America/Vancouver:20280626T113000
DTSTAMP:20260421T045542
CREATED:20251017T162638Z
LAST-MODIFIED:20260220T220213Z
UID:10003813-1845624600-1845631800@www.ferniewomenscentre.com
SUMMARY:Parent-Tot Funtimes (Sparwood)
DESCRIPTION:Parent-Tot Funtimes is a drop-in program for families with kids aged 0 to 6. It’s all about helping families connect and giving kids a chance to learn early. Every session has toys\, songs and stories\, and a craft or fun activity.
URL:https://www.ferniewomenscentre.com/calendar/parent-tot-funtimes-sparwood-5-2-2/2028-06-26/
LOCATION:Sparwood Rec Centre in the Community Hall (above Skating Rink)\, 367 Pine Ave\, Sparwood\, BC\, V0B 2G0\, Canada
ORGANIZER;CN="Fernie Women's Resource Certre (Parent-Tot Funtimes)":MAILTO:parenttotfuntimes@gmail.com
END:VEVENT
BEGIN:VEVENT
DTSTART;TZID=America/Vancouver:20280703T093000
DTEND;TZID=America/Vancouver:20280703T113000
DTSTAMP:20260421T045542
CREATED:20251017T162638Z
LAST-MODIFIED:20260220T220213Z
UID:10003814-1846229400-1846236600@www.ferniewomenscentre.com
SUMMARY:Parent-Tot Funtimes (Sparwood)
DESCRIPTION:Parent-Tot Funtimes is a drop-in program for families with kids aged 0 to 6. It’s all about helping families connect and giving kids a chance to learn early. Every session has toys\, songs and stories\, and a craft or fun activity.
URL:https://www.ferniewomenscentre.com/calendar/parent-tot-funtimes-sparwood-5-2-2/2028-07-03/
LOCATION:Sparwood Rec Centre in the Community Hall (above Skating Rink)\, 367 Pine Ave\, Sparwood\, BC\, V0B 2G0\, Canada
ORGANIZER;CN="Fernie Women's Resource Certre (Parent-Tot Funtimes)":MAILTO:parenttotfuntimes@gmail.com
END:VEVENT
BEGIN:VEVENT
DTSTART;TZID=America/Vancouver:20280710T093000
DTEND;TZID=America/Vancouver:20280710T113000
DTSTAMP:20260421T045542
CREATED:20251017T162638Z
LAST-MODIFIED:20260220T220213Z
UID:10003815-1846834200-1846841400@www.ferniewomenscentre.com
SUMMARY:Parent-Tot Funtimes (Sparwood)
DESCRIPTION:Parent-Tot Funtimes is a drop-in program for families with kids aged 0 to 6. It’s all about helping families connect and giving kids a chance to learn early. Every session has toys\, songs and stories\, and a craft or fun activity.
URL:https://www.ferniewomenscentre.com/calendar/parent-tot-funtimes-sparwood-5-2-2/2028-07-10/
LOCATION:Sparwood Rec Centre in the Community Hall (above Skating Rink)\, 367 Pine Ave\, Sparwood\, BC\, V0B 2G0\, Canada
ORGANIZER;CN="Fernie Women's Resource Certre (Parent-Tot Funtimes)":MAILTO:parenttotfuntimes@gmail.com
END:VEVENT
BEGIN:VEVENT
DTSTART;TZID=America/Vancouver:20280717T093000
DTEND;TZID=America/Vancouver:20280717T113000
DTSTAMP:20260421T045542
CREATED:20251017T162638Z
LAST-MODIFIED:20260220T220213Z
UID:10003816-1847439000-1847446200@www.ferniewomenscentre.com
SUMMARY:Parent-Tot Funtimes (Sparwood)
DESCRIPTION:Parent-Tot Funtimes is a drop-in program for families with kids aged 0 to 6. It’s all about helping families connect and giving kids a chance to learn early. Every session has toys\, songs and stories\, and a craft or fun activity.
URL:https://www.ferniewomenscentre.com/calendar/parent-tot-funtimes-sparwood-5-2-2/2028-07-17/
LOCATION:Sparwood Rec Centre in the Community Hall (above Skating Rink)\, 367 Pine Ave\, Sparwood\, BC\, V0B 2G0\, Canada
ORGANIZER;CN="Fernie Women's Resource Certre (Parent-Tot Funtimes)":MAILTO:parenttotfuntimes@gmail.com
END:VEVENT
BEGIN:VEVENT
DTSTART;TZID=America/Vancouver:20280724T093000
DTEND;TZID=America/Vancouver:20280724T113000
DTSTAMP:20260421T045542
CREATED:20251017T162638Z
LAST-MODIFIED:20260220T220213Z
UID:10003817-1848043800-1848051000@www.ferniewomenscentre.com
SUMMARY:Parent-Tot Funtimes (Sparwood)
DESCRIPTION:Parent-Tot Funtimes is a drop-in program for families with kids aged 0 to 6. It’s all about helping families connect and giving kids a chance to learn early. Every session has toys\, songs and stories\, and a craft or fun activity.
URL:https://www.ferniewomenscentre.com/calendar/parent-tot-funtimes-sparwood-5-2-2/2028-07-24/
LOCATION:Sparwood Rec Centre in the Community Hall (above Skating Rink)\, 367 Pine Ave\, Sparwood\, BC\, V0B 2G0\, Canada
ORGANIZER;CN="Fernie Women's Resource Certre (Parent-Tot Funtimes)":MAILTO:parenttotfuntimes@gmail.com
END:VEVENT
BEGIN:VEVENT
DTSTART;TZID=America/Vancouver:20280731T093000
DTEND;TZID=America/Vancouver:20280731T113000
DTSTAMP:20260421T045542
CREATED:20251017T162638Z
LAST-MODIFIED:20260220T220213Z
UID:10003818-1848648600-1848655800@www.ferniewomenscentre.com
SUMMARY:Parent-Tot Funtimes (Sparwood)
DESCRIPTION:Parent-Tot Funtimes is a drop-in program for families with kids aged 0 to 6. It’s all about helping families connect and giving kids a chance to learn early. Every session has toys\, songs and stories\, and a craft or fun activity.
URL:https://www.ferniewomenscentre.com/calendar/parent-tot-funtimes-sparwood-5-2-2/2028-07-31/
LOCATION:Sparwood Rec Centre in the Community Hall (above Skating Rink)\, 367 Pine Ave\, Sparwood\, BC\, V0B 2G0\, Canada
ORGANIZER;CN="Fernie Women's Resource Certre (Parent-Tot Funtimes)":MAILTO:parenttotfuntimes@gmail.com
END:VEVENT
BEGIN:VEVENT
DTSTART;TZID=America/Vancouver:20280807T093000
DTEND;TZID=America/Vancouver:20280807T113000
DTSTAMP:20260421T045542
CREATED:20251017T162638Z
LAST-MODIFIED:20260220T220213Z
UID:10003819-1849253400-1849260600@www.ferniewomenscentre.com
SUMMARY:Parent-Tot Funtimes (Sparwood)
DESCRIPTION:Parent-Tot Funtimes is a drop-in program for families with kids aged 0 to 6. It’s all about helping families connect and giving kids a chance to learn early. Every session has toys\, songs and stories\, and a craft or fun activity.
URL:https://www.ferniewomenscentre.com/calendar/parent-tot-funtimes-sparwood-5-2-2/2028-08-07/
LOCATION:Sparwood Rec Centre in the Community Hall (above Skating Rink)\, 367 Pine Ave\, Sparwood\, BC\, V0B 2G0\, Canada
ORGANIZER;CN="Fernie Women's Resource Certre (Parent-Tot Funtimes)":MAILTO:parenttotfuntimes@gmail.com
END:VEVENT
BEGIN:VEVENT
DTSTART;TZID=America/Vancouver:20280814T093000
DTEND;TZID=America/Vancouver:20280814T113000
DTSTAMP:20260421T045542
CREATED:20251017T162638Z
LAST-MODIFIED:20260220T220213Z
UID:10003820-1849858200-1849865400@www.ferniewomenscentre.com
SUMMARY:Parent-Tot Funtimes (Sparwood)
DESCRIPTION:Parent-Tot Funtimes is a drop-in program for families with kids aged 0 to 6. It’s all about helping families connect and giving kids a chance to learn early. Every session has toys\, songs and stories\, and a craft or fun activity.
URL:https://www.ferniewomenscentre.com/calendar/parent-tot-funtimes-sparwood-5-2-2/2028-08-14/
LOCATION:Sparwood Rec Centre in the Community Hall (above Skating Rink)\, 367 Pine Ave\, Sparwood\, BC\, V0B 2G0\, Canada
ORGANIZER;CN="Fernie Women's Resource Certre (Parent-Tot Funtimes)":MAILTO:parenttotfuntimes@gmail.com
END:VEVENT
BEGIN:VEVENT
DTSTART;TZID=America/Vancouver:20280821T093000
DTEND;TZID=America/Vancouver:20280821T113000
DTSTAMP:20260421T045542
CREATED:20251017T162638Z
LAST-MODIFIED:20260220T220213Z
UID:10003821-1850463000-1850470200@www.ferniewomenscentre.com
SUMMARY:Parent-Tot Funtimes (Sparwood)
DESCRIPTION:Parent-Tot Funtimes is a drop-in program for families with kids aged 0 to 6. It’s all about helping families connect and giving kids a chance to learn early. Every session has toys\, songs and stories\, and a craft or fun activity.
URL:https://www.ferniewomenscentre.com/calendar/parent-tot-funtimes-sparwood-5-2-2/2028-08-21/
LOCATION:Sparwood Rec Centre in the Community Hall (above Skating Rink)\, 367 Pine Ave\, Sparwood\, BC\, V0B 2G0\, Canada
ORGANIZER;CN="Fernie Women's Resource Certre (Parent-Tot Funtimes)":MAILTO:parenttotfuntimes@gmail.com
END:VEVENT
BEGIN:VEVENT
DTSTART;TZID=America/Vancouver:20280828T093000
DTEND;TZID=America/Vancouver:20280828T113000
DTSTAMP:20260421T045542
CREATED:20251017T162638Z
LAST-MODIFIED:20260220T220213Z
UID:10003822-1851067800-1851075000@www.ferniewomenscentre.com
SUMMARY:Parent-Tot Funtimes (Sparwood)
DESCRIPTION:Parent-Tot Funtimes is a drop-in program for families with kids aged 0 to 6. It’s all about helping families connect and giving kids a chance to learn early. Every session has toys\, songs and stories\, and a craft or fun activity.
URL:https://www.ferniewomenscentre.com/calendar/parent-tot-funtimes-sparwood-5-2-2/2028-08-28/
LOCATION:Sparwood Rec Centre in the Community Hall (above Skating Rink)\, 367 Pine Ave\, Sparwood\, BC\, V0B 2G0\, Canada
ORGANIZER;CN="Fernie Women's Resource Certre (Parent-Tot Funtimes)":MAILTO:parenttotfuntimes@gmail.com
END:VEVENT
BEGIN:VEVENT
DTSTART;TZID=America/Vancouver:20280904T093000
DTEND;TZID=America/Vancouver:20280904T113000
DTSTAMP:20260421T045542
CREATED:20251017T162638Z
LAST-MODIFIED:20260220T220213Z
UID:10003823-1851672600-1851679800@www.ferniewomenscentre.com
SUMMARY:Parent-Tot Funtimes (Sparwood)
DESCRIPTION:Parent-Tot Funtimes is a drop-in program for families with kids aged 0 to 6. It’s all about helping families connect and giving kids a chance to learn early. Every session has toys\, songs and stories\, and a craft or fun activity.
URL:https://www.ferniewomenscentre.com/calendar/parent-tot-funtimes-sparwood-5-2-2/2028-09-04/
LOCATION:Sparwood Rec Centre in the Community Hall (above Skating Rink)\, 367 Pine Ave\, Sparwood\, BC\, V0B 2G0\, Canada
ORGANIZER;CN="Fernie Women's Resource Certre (Parent-Tot Funtimes)":MAILTO:parenttotfuntimes@gmail.com
END:VEVENT
BEGIN:VEVENT
DTSTART;TZID=America/Vancouver:20280911T093000
DTEND;TZID=America/Vancouver:20280911T113000
DTSTAMP:20260421T045542
CREATED:20251017T162638Z
LAST-MODIFIED:20260220T220213Z
UID:10003824-1852277400-1852284600@www.ferniewomenscentre.com
SUMMARY:Parent-Tot Funtimes (Sparwood)
DESCRIPTION:Parent-Tot Funtimes is a drop-in program for families with kids aged 0 to 6. It’s all about helping families connect and giving kids a chance to learn early. Every session has toys\, songs and stories\, and a craft or fun activity.
URL:https://www.ferniewomenscentre.com/calendar/parent-tot-funtimes-sparwood-5-2-2/2028-09-11/
LOCATION:Sparwood Rec Centre in the Community Hall (above Skating Rink)\, 367 Pine Ave\, Sparwood\, BC\, V0B 2G0\, Canada
ORGANIZER;CN="Fernie Women's Resource Certre (Parent-Tot Funtimes)":MAILTO:parenttotfuntimes@gmail.com
END:VEVENT
BEGIN:VEVENT
DTSTART;TZID=America/Vancouver:20280918T093000
DTEND;TZID=America/Vancouver:20280918T113000
DTSTAMP:20260421T045542
CREATED:20251017T162638Z
LAST-MODIFIED:20260220T220213Z
UID:10003825-1852882200-1852889400@www.ferniewomenscentre.com
SUMMARY:Parent-Tot Funtimes (Sparwood)
DESCRIPTION:Parent-Tot Funtimes is a drop-in program for families with kids aged 0 to 6. It’s all about helping families connect and giving kids a chance to learn early. Every session has toys\, songs and stories\, and a craft or fun activity.
URL:https://www.ferniewomenscentre.com/calendar/parent-tot-funtimes-sparwood-5-2-2/2028-09-18/
LOCATION:Sparwood Rec Centre in the Community Hall (above Skating Rink)\, 367 Pine Ave\, Sparwood\, BC\, V0B 2G0\, Canada
ORGANIZER;CN="Fernie Women's Resource Certre (Parent-Tot Funtimes)":MAILTO:parenttotfuntimes@gmail.com
END:VEVENT
BEGIN:VEVENT
DTSTART;TZID=America/Vancouver:20280925T093000
DTEND;TZID=America/Vancouver:20280925T113000
DTSTAMP:20260421T045542
CREATED:20251017T162638Z
LAST-MODIFIED:20260220T220213Z
UID:10003826-1853487000-1853494200@www.ferniewomenscentre.com
SUMMARY:Parent-Tot Funtimes (Sparwood)
DESCRIPTION:Parent-Tot Funtimes is a drop-in program for families with kids aged 0 to 6. It’s all about helping families connect and giving kids a chance to learn early. Every session has toys\, songs and stories\, and a craft or fun activity.
URL:https://www.ferniewomenscentre.com/calendar/parent-tot-funtimes-sparwood-5-2-2/2028-09-25/
LOCATION:Sparwood Rec Centre in the Community Hall (above Skating Rink)\, 367 Pine Ave\, Sparwood\, BC\, V0B 2G0\, Canada
ORGANIZER;CN="Fernie Women's Resource Certre (Parent-Tot Funtimes)":MAILTO:parenttotfuntimes@gmail.com
END:VEVENT
BEGIN:VEVENT
DTSTART;TZID=America/Vancouver:20281002T093000
DTEND;TZID=America/Vancouver:20281002T113000
DTSTAMP:20260421T045542
CREATED:20251017T162638Z
LAST-MODIFIED:20260220T220213Z
UID:10003827-1854091800-1854099000@www.ferniewomenscentre.com
SUMMARY:Parent-Tot Funtimes (Sparwood)
DESCRIPTION:Parent-Tot Funtimes is a drop-in program for families with kids aged 0 to 6. It’s all about helping families connect and giving kids a chance to learn early. Every session has toys\, songs and stories\, and a craft or fun activity.
URL:https://www.ferniewomenscentre.com/calendar/parent-tot-funtimes-sparwood-5-2-2/2028-10-02/
LOCATION:Sparwood Rec Centre in the Community Hall (above Skating Rink)\, 367 Pine Ave\, Sparwood\, BC\, V0B 2G0\, Canada
ORGANIZER;CN="Fernie Women's Resource Certre (Parent-Tot Funtimes)":MAILTO:parenttotfuntimes@gmail.com
END:VEVENT
BEGIN:VEVENT
DTSTART;TZID=America/Vancouver:20281009T093000
DTEND;TZID=America/Vancouver:20281009T113000
DTSTAMP:20260421T045542
CREATED:20251017T162638Z
LAST-MODIFIED:20260220T220213Z
UID:10003828-1854696600-1854703800@www.ferniewomenscentre.com
SUMMARY:Parent-Tot Funtimes (Sparwood)
DESCRIPTION:Parent-Tot Funtimes is a drop-in program for families with kids aged 0 to 6. It’s all about helping families connect and giving kids a chance to learn early. Every session has toys\, songs and stories\, and a craft or fun activity.
URL:https://www.ferniewomenscentre.com/calendar/parent-tot-funtimes-sparwood-5-2-2/2028-10-09/
LOCATION:Sparwood Rec Centre in the Community Hall (above Skating Rink)\, 367 Pine Ave\, Sparwood\, BC\, V0B 2G0\, Canada
ORGANIZER;CN="Fernie Women's Resource Certre (Parent-Tot Funtimes)":MAILTO:parenttotfuntimes@gmail.com
END:VEVENT
BEGIN:VEVENT
DTSTART;TZID=America/Vancouver:20281016T093000
DTEND;TZID=America/Vancouver:20281016T113000
DTSTAMP:20260421T045542
CREATED:20251017T162638Z
LAST-MODIFIED:20260220T220213Z
UID:10003829-1855301400-1855308600@www.ferniewomenscentre.com
SUMMARY:Parent-Tot Funtimes (Sparwood)
DESCRIPTION:Parent-Tot Funtimes is a drop-in program for families with kids aged 0 to 6. It’s all about helping families connect and giving kids a chance to learn early. Every session has toys\, songs and stories\, and a craft or fun activity.
URL:https://www.ferniewomenscentre.com/calendar/parent-tot-funtimes-sparwood-5-2-2/2028-10-16/
LOCATION:Sparwood Rec Centre in the Community Hall (above Skating Rink)\, 367 Pine Ave\, Sparwood\, BC\, V0B 2G0\, Canada
ORGANIZER;CN="Fernie Women's Resource Certre (Parent-Tot Funtimes)":MAILTO:parenttotfuntimes@gmail.com
END:VEVENT
BEGIN:VEVENT
DTSTART;TZID=America/Vancouver:20281023T093000
DTEND;TZID=America/Vancouver:20281023T113000
DTSTAMP:20260421T045542
CREATED:20251017T162638Z
LAST-MODIFIED:20260220T220213Z
UID:10003830-1855906200-1855913400@www.ferniewomenscentre.com
SUMMARY:Parent-Tot Funtimes (Sparwood)
DESCRIPTION:Parent-Tot Funtimes is a drop-in program for families with kids aged 0 to 6. It’s all about helping families connect and giving kids a chance to learn early. Every session has toys\, songs and stories\, and a craft or fun activity.
URL:https://www.ferniewomenscentre.com/calendar/parent-tot-funtimes-sparwood-5-2-2/2028-10-23/
LOCATION:Sparwood Rec Centre in the Community Hall (above Skating Rink)\, 367 Pine Ave\, Sparwood\, BC\, V0B 2G0\, Canada
ORGANIZER;CN="Fernie Women's Resource Certre (Parent-Tot Funtimes)":MAILTO:parenttotfuntimes@gmail.com
END:VEVENT
BEGIN:VEVENT
DTSTART;TZID=America/Vancouver:20281030T093000
DTEND;TZID=America/Vancouver:20281030T113000
DTSTAMP:20260421T045542
CREATED:20251017T162638Z
LAST-MODIFIED:20260220T220213Z
UID:10003831-1856511000-1856518200@www.ferniewomenscentre.com
SUMMARY:Parent-Tot Funtimes (Sparwood)
DESCRIPTION:Parent-Tot Funtimes is a drop-in program for families with kids aged 0 to 6. It’s all about helping families connect and giving kids a chance to learn early. Every session has toys\, songs and stories\, and a craft or fun activity.
URL:https://www.ferniewomenscentre.com/calendar/parent-tot-funtimes-sparwood-5-2-2/2028-10-30/
LOCATION:Sparwood Rec Centre in the Community Hall (above Skating Rink)\, 367 Pine Ave\, Sparwood\, BC\, V0B 2G0\, Canada
ORGANIZER;CN="Fernie Women's Resource Certre (Parent-Tot Funtimes)":MAILTO:parenttotfuntimes@gmail.com
END:VEVENT
BEGIN:VEVENT
DTSTART;TZID=America/Vancouver:20281106T093000
DTEND;TZID=America/Vancouver:20281106T113000
DTSTAMP:20260421T045542
CREATED:20251017T162638Z
LAST-MODIFIED:20260220T220213Z
UID:10003832-1857115800-1857123000@www.ferniewomenscentre.com
SUMMARY:Parent-Tot Funtimes (Sparwood)
DESCRIPTION:Parent-Tot Funtimes is a drop-in program for families with kids aged 0 to 6. It’s all about helping families connect and giving kids a chance to learn early. Every session has toys\, songs and stories\, and a craft or fun activity.
URL:https://www.ferniewomenscentre.com/calendar/parent-tot-funtimes-sparwood-5-2-2/2028-11-06/
LOCATION:Sparwood Rec Centre in the Community Hall (above Skating Rink)\, 367 Pine Ave\, Sparwood\, BC\, V0B 2G0\, Canada
ORGANIZER;CN="Fernie Women's Resource Certre (Parent-Tot Funtimes)":MAILTO:parenttotfuntimes@gmail.com
END:VEVENT
BEGIN:VEVENT
DTSTART;TZID=America/Vancouver:20281113T093000
DTEND;TZID=America/Vancouver:20281113T113000
DTSTAMP:20260421T045542
CREATED:20251017T162638Z
LAST-MODIFIED:20260220T220213Z
UID:10003833-1857720600-1857727800@www.ferniewomenscentre.com
SUMMARY:Parent-Tot Funtimes (Sparwood)
DESCRIPTION:Parent-Tot Funtimes is a drop-in program for families with kids aged 0 to 6. It’s all about helping families connect and giving kids a chance to learn early. Every session has toys\, songs and stories\, and a craft or fun activity.
URL:https://www.ferniewomenscentre.com/calendar/parent-tot-funtimes-sparwood-5-2-2/2028-11-13/
LOCATION:Sparwood Rec Centre in the Community Hall (above Skating Rink)\, 367 Pine Ave\, Sparwood\, BC\, V0B 2G0\, Canada
ORGANIZER;CN="Fernie Women's Resource Certre (Parent-Tot Funtimes)":MAILTO:parenttotfuntimes@gmail.com
END:VEVENT
BEGIN:VEVENT
DTSTART;TZID=America/Vancouver:20281120T093000
DTEND;TZID=America/Vancouver:20281120T113000
DTSTAMP:20260421T045542
CREATED:20251017T162638Z
LAST-MODIFIED:20260220T220213Z
UID:10003834-1858325400-1858332600@www.ferniewomenscentre.com
SUMMARY:Parent-Tot Funtimes (Sparwood)
DESCRIPTION:Parent-Tot Funtimes is a drop-in program for families with kids aged 0 to 6. It’s all about helping families connect and giving kids a chance to learn early. Every session has toys\, songs and stories\, and a craft or fun activity.
URL:https://www.ferniewomenscentre.com/calendar/parent-tot-funtimes-sparwood-5-2-2/2028-11-20/
LOCATION:Sparwood Rec Centre in the Community Hall (above Skating Rink)\, 367 Pine Ave\, Sparwood\, BC\, V0B 2G0\, Canada
ORGANIZER;CN="Fernie Women's Resource Certre (Parent-Tot Funtimes)":MAILTO:parenttotfuntimes@gmail.com
END:VEVENT
BEGIN:VEVENT
DTSTART;TZID=America/Vancouver:20281127T093000
DTEND;TZID=America/Vancouver:20281127T113000
DTSTAMP:20260421T045542
CREATED:20251017T162638Z
LAST-MODIFIED:20260220T220213Z
UID:10003835-1858930200-1858937400@www.ferniewomenscentre.com
SUMMARY:Parent-Tot Funtimes (Sparwood)
DESCRIPTION:Parent-Tot Funtimes is a drop-in program for families with kids aged 0 to 6. It’s all about helping families connect and giving kids a chance to learn early. Every session has toys\, songs and stories\, and a craft or fun activity.
URL:https://www.ferniewomenscentre.com/calendar/parent-tot-funtimes-sparwood-5-2-2/2028-11-27/
LOCATION:Sparwood Rec Centre in the Community Hall (above Skating Rink)\, 367 Pine Ave\, Sparwood\, BC\, V0B 2G0\, Canada
ORGANIZER;CN="Fernie Women's Resource Certre (Parent-Tot Funtimes)":MAILTO:parenttotfuntimes@gmail.com
END:VEVENT
BEGIN:VEVENT
DTSTART;TZID=America/Vancouver:20281204T093000
DTEND;TZID=America/Vancouver:20281204T113000
DTSTAMP:20260421T045542
CREATED:20251017T162638Z
LAST-MODIFIED:20260220T220213Z
UID:10003836-1859535000-1859542200@www.ferniewomenscentre.com
SUMMARY:Parent-Tot Funtimes (Sparwood)
DESCRIPTION:Parent-Tot Funtimes is a drop-in program for families with kids aged 0 to 6. It’s all about helping families connect and giving kids a chance to learn early. Every session has toys\, songs and stories\, and a craft or fun activity.
URL:https://www.ferniewomenscentre.com/calendar/parent-tot-funtimes-sparwood-5-2-2/2028-12-04/
LOCATION:Sparwood Rec Centre in the Community Hall (above Skating Rink)\, 367 Pine Ave\, Sparwood\, BC\, V0B 2G0\, Canada
ORGANIZER;CN="Fernie Women's Resource Certre (Parent-Tot Funtimes)":MAILTO:parenttotfuntimes@gmail.com
END:VEVENT
BEGIN:VEVENT
DTSTART;TZID=America/Vancouver:20281211T093000
DTEND;TZID=America/Vancouver:20281211T113000
DTSTAMP:20260421T045542
CREATED:20251017T162638Z
LAST-MODIFIED:20260220T220213Z
UID:10003837-1860139800-1860147000@www.ferniewomenscentre.com
SUMMARY:Parent-Tot Funtimes (Sparwood)
DESCRIPTION:Parent-Tot Funtimes is a drop-in program for families with kids aged 0 to 6. It’s all about helping families connect and giving kids a chance to learn early. Every session has toys\, songs and stories\, and a craft or fun activity.
URL:https://www.ferniewomenscentre.com/calendar/parent-tot-funtimes-sparwood-5-2-2/2028-12-11/
LOCATION:Sparwood Rec Centre in the Community Hall (above Skating Rink)\, 367 Pine Ave\, Sparwood\, BC\, V0B 2G0\, Canada
ORGANIZER;CN="Fernie Women's Resource Certre (Parent-Tot Funtimes)":MAILTO:parenttotfuntimes@gmail.com
END:VEVENT
END:VCALENDAR