BEGIN:VCALENDAR
VERSION:2.0
PRODID:-//Fernie Women&#039;s Resource Centre - ECPv6.15.20//NONSGML v1.0//EN
CALSCALE:GREGORIAN
METHOD:PUBLISH
X-ORIGINAL-URL:https://www.ferniewomenscentre.com
X-WR-CALDESC:Events for Fernie Women&#039;s Resource Centre
REFRESH-INTERVAL;VALUE=DURATION:PT1H
X-Robots-Tag:noindex
X-PUBLISHED-TTL:PT1H
BEGIN:VTIMEZONE
TZID:America/Denver
BEGIN:DAYLIGHT
TZOFFSETFROM:-0700
TZOFFSETTO:-0600
TZNAME:MDT
DTSTART:20240310T090000
END:DAYLIGHT
BEGIN:STANDARD
TZOFFSETFROM:-0600
TZOFFSETTO:-0700
TZNAME:MST
DTSTART:20241103T080000
END:STANDARD
BEGIN:DAYLIGHT
TZOFFSETFROM:-0700
TZOFFSETTO:-0600
TZNAME:MDT
DTSTART:20250309T090000
END:DAYLIGHT
BEGIN:STANDARD
TZOFFSETFROM:-0600
TZOFFSETTO:-0700
TZNAME:MST
DTSTART:20251102T080000
END:STANDARD
BEGIN:DAYLIGHT
TZOFFSETFROM:-0700
TZOFFSETTO:-0600
TZNAME:MDT
DTSTART:20260308T090000
END:DAYLIGHT
BEGIN:STANDARD
TZOFFSETFROM:-0600
TZOFFSETTO:-0700
TZNAME:MST
DTSTART:20261101T080000
END:STANDARD
BEGIN:DAYLIGHT
TZOFFSETFROM:-0700
TZOFFSETTO:-0600
TZNAME:MDT
DTSTART:20270314T090000
END:DAYLIGHT
BEGIN:STANDARD
TZOFFSETFROM:-0600
TZOFFSETTO:-0700
TZNAME:MST
DTSTART:20271107T080000
END:STANDARD
END:VTIMEZONE
BEGIN:VEVENT
DTSTART;TZID=America/Denver:20260116T170000
DTEND;TZID=America/Denver:20260116T190000
DTSTAMP:20260421T050957
CREATED:20251216T230552Z
LAST-MODIFIED:20251216T230552Z
UID:10004036-1768582800-1768590000@www.ferniewomenscentre.com
SUMMARY:The M Factor - A Film For Everyone
DESCRIPTION:The M Factor is a film for everyone – because everyone will either go through menopause\, or loves someone who will! \n\nJoin us on Friday\, January 16th at the Vogue Theatre in Fernie to celebrate strength\, support and shared journeys. \n\nIf someone in your life will\, has\, or is currently in perimenopause or menopause this event is for you! Seen the film before? We strongly encourage you to invite people who may not experience menopause\, because understanding brings us together. \n\nTickets are $12 with 100% of the proceeds going towards the Fernie Women’s Resource Centre Emergency Fund. \n\nFilm begins at 5 PM\, no Q&A afterwards. Get tickets in advance through Eventbrite!
URL:https://www.ferniewomenscentre.com/calendar/the-m-factor-a-film-for-everyone/
LOCATION:Vogue Theatre\, 321 2 Ave\, Fernie\, British Columbia\, V0B1M0\, Canada
ORGANIZER;CN="Fernie Women's Resource Centre":MAILTO:info@ferniewomenscentre.com
END:VEVENT
BEGIN:VEVENT
DTSTART;TZID=America/Denver:20251213T110000
DTEND;TZID=America/Denver:20251213T130000
DTSTAMP:20260421T050957
CREATED:20251121T162609Z
LAST-MODIFIED:20251121T204808Z
UID:10003989-1765623600-1765630800@www.ferniewomenscentre.com
SUMMARY:Holiday Movies at the Vogue
DESCRIPTION:Get into the holiday spirit with a cozy afternoon of festive films! The Fernie Women’s Resource Centre is excited to bring you two classic movies: Polar Express and Home Alone 1! \n\n\nFilms begin at 11 AM. \n\nBring your friends\, family\, and holiday cheer for an evening of fun and goodwill. Tickets are $5 at the door and in advance through eventbrite here. Online ticket sales will close at 4 PM on Friday\, December 12th.\n\nAll ticket sales will benefit the Fernie Women’s Resource Centre Emergency Fund. \n\n\nWe’re also collecting donations for our annual Give A Gift Toy Drive. If you can\, please bring a new\, unwrapped toy valued at up to $25 or a giftcard of $25 to help support families in need during the holidays. \n\nA special thank you to our amazing sponsors: Vogue Theatre and Rockies Law!\nCome for the movies\, stay for the holiday spirit\, and let’s make this season brighter for everyone in our community!
URL:https://www.ferniewomenscentre.com/calendar/holiday-movies-at-the-vogue/
LOCATION:Vogue Theatre\, 321 2 Ave\, Fernie\, British Columbia\, V0B1M0\, Canada
ORGANIZER;CN="Fernie Women's Resource Centre":MAILTO:info@ferniewomenscentre.com
END:VEVENT
BEGIN:VEVENT
DTSTART;TZID=America/Denver:20251030T160000
DTEND;TZID=America/Denver:20251030T180000
DTSTAMP:20260421T050957
CREATED:20250924T152604Z
LAST-MODIFIED:20250924T152915Z
UID:10003663-1761840000-1761847200@www.ferniewomenscentre.com
SUMMARY:Trick or Treat - After School at the Movies
DESCRIPTION:Trick or Treat at the Movies with the Fernie Women’s Resource Centre! Come on down after school on Thursday\, October 30th to the Vogue Theatre in Fernie where we’ll be screening two Halloween favourites\, Coco and E.T.!\n\n\n\n\nCostumes are encouraged! Showtime is 4 PM! \n\n\nTickets are $5 in advance through eventbrite or at the door\, all proceeds benefit the Fernie Women’s Resource Centre Emergency Fund.
URL:https://www.ferniewomenscentre.com/calendar/trick-or-treat-after-school-at-the-movies/
LOCATION:Vogue Theatre\, 321 2 Ave\, Fernie\, British Columbia\, V0B1M0\, Canada
ORGANIZER;CN="Fernie Women's Resource Centre":MAILTO:info@ferniewomenscentre.com
END:VEVENT
END:VCALENDAR